Workbook
Name lstTop32: Lists!$J$5:$J$36

Sheet PDC2024 - Draw&Bracket
C1: Prelim. | D1: 1st | E1: 2nd | F1: 3rd | G1: QF | H1: Semi | I1: Final | J1: Winner
B2: Draw | C2: Top Half
B4: 14 | C4: =IFERROR(INDEX(Lists!$C$2:$C$65,MATCH(B4,Lists!$B$2:$B$65,0)),"") -> Kevin Doets
B5: 35 | C5: =IFERROR(INDEX(Lists!$C$2:$C$65,MATCH(B5,Lists!$B$2:$B$65,0)),"") -> Strowe Buntz | D5: =IFERROR(Lists!F5&" v "&C4&"/"&C5,"") -> (1) Michael Smith v Kevin Doets/Strowe Buntz | L5: =D5 -> (1) Michael Smith v Kevin Doets/Strowe Buntz
B6: 5 | C6: =IFERROR(INDEX(Lists!$C$2:$C$65,MATCH(B6,Lists!$B$2:$B$65,0)),"") -> Mike De Decker | D6: =IFERROR(Lists!F6&" v "&C6&"/"&C7,"") -> (32) Madars Razma v Mike De Decker/Dragutin Horvat | L6: =D6 -> (32) Madars Razma v Mike De Decker/Dragutin Horvat
B7: 39 | C7: =IFERROR(INDEX(Lists!$C$2:$C$65,MATCH(B7,Lists!$B$2:$B$65,0)),"") -> Dragutin Horvat | L7: =D7 -> 0
L8: =D8 -> 0
B9: 31 | C9: =IFERROR(INDEX(Lists!$C$2:$C$65,MATCH(B9,Lists!$B$2:$B$65,0)),"") -> Niels Zonneveld | L9: =D9 -> 0
B10: 62 | C10: =IFERROR(INDEX(Lists!$C$2:$C$65,MATCH(B10,Lists!$B$2:$B$65,0)),"") -> Darren Webster | D10: =IFERROR(Lists!F10&" v "&C9&"/"&C10,"") -> (16) Ross Smith v Niels Zonneveld/Darren Webster | L10: =D10 -> (16) Ross Smith v Niels Zonneveld/Darren Webster
B11: 21 | C11: =IFERROR(INDEX(Lists!$C$2:$C$65,MATCH(B11,Lists!$B$2:$B$65,0)),"") -> William O’Connor | D11: =IFERROR(Lists!F11&" v "&C11&"/"&C12,"") -> (17) Chris Dobey v William O’Connor/Bhav Patel | L11: =D11 -> (17) Chris Dobey v William O’Connor/Bhav Patel
B12: 49 | C12: =IFERROR(INDEX(Lists!$C$2:$C$65,MATCH(B12,Lists!$B$2:$B$65,0)),"") -> Bhav Patel | L12: =D12 -> 0
L13: =D13 -> 0
B14: 8 | C14: =IFERROR(INDEX(Lists!$C$2:$C$65,MATCH(B14,Lists!$B$2:$B$65,0)),"") -> Mario Vandenbogaerde | L14: =D14 -> 0
B15: 58 | C15: =IFERROR(INDEX(Lists!$C$2:$C$65,MATCH(B15,Lists!$B$2:$B$65,0)),"") -> Thibault Tricole | D15: =IFERROR(Lists!F15&" v "&C14&"/"&C15,"") -> (8) Rob Cross v Mario Vandenbogaerde/Thibault Tricole | L15: =D15 -> (8) Rob Cross v Mario Vandenbogaerde/Thibault Tricole
B16: 27 | C16: =IFERROR(INDEX(Lists!$C$2:$C$65,MATCH(B16,Lists!$B$2:$B$65,0)),"") -> Ritchie Edhouse | D16: =IFERROR(Lists!F16&" v "&C16&"/"&C17,"") -> (25) Jose de Sousa v Ritchie Edhouse/Jeffrey De Graaf | L16: =D16 -> (25) Jose de Sousa v Ritchie Edhouse/Jeffrey De Graaf
B17: 37 | C17: =IFERROR(INDEX(Lists!$C$2:$C$65,MATCH(B17,Lists!$B$2:$B$65,0)),"") -> Jeffrey De Graaf | L17: =D17 -> 0
L18: =D18 -> 0
B19: 20 | C19: =IFERROR(INDEX(Lists!$C$2:$C$65,MATCH(B19,Lists!$B$2:$B$65,0)),"") -> Steve Lennon | L19: =D19 -> 0
B20: 34 | C20: =IFERROR(INDEX(Lists!$C$2:$C$65,MATCH(B20,Lists!$B$2:$B$65,0)),"") -> Owen Bates | D20: =IFERROR(Lists!F20&" v "&C19&"/"&C20,"") -> (9) Jonny Clayton v Steve Lennon/Owen Bates | L20: =D20 -> (9) Jonny Clayton v Steve Lennon/Owen Bates
B21: 30 | C21: =IFERROR(INDEX(Lists!$C$2:$C$65,MATCH(B21,Lists!$B$2:$B$65,0)),"") -> Jamie Hughes | D21: =IFERROR(Lists!F21&" v "&C21&"/"&C22,"") -> (24) Krzysztof Ratajski v Jamie Hughes/David Cameron | L21: =D21 -> (24) Krzysztof Ratajski v Jamie Hughes/David Cameron
B22: 36 | C22: =IFERROR(INDEX(Lists!$C$2:$C$65,MATCH(B22,Lists!$B$2:$B$65,0)),"") -> David Cameron | L22: =D22 -> 0
L23: =D23 -> 0
B24: 16 | C24: =IFERROR(INDEX(Lists!$C$2:$C$65,MATCH(B24,Lists!$B$2:$B$65,0)),"") -> Connor Scutt | L24: =D24 -> 0
B25: 42 | C25: =IFERROR(INDEX(Lists!$C$2:$C$65,MATCH(B25,Lists!$B$2:$B$65,0)),"") -> Krzysztof Kciuk | D25: =IFERROR(Lists!F25&" v "&C24&"/"&C25,"") -> (5) Gerwyn Price v Connor Scutt/Krzysztof Kciuk | L25: =D25 -> (5) Gerwyn Price v Connor Scutt/Krzysztof Kciuk
B26: 18 | C26: =IFERROR(INDEX(Lists!$C$2:$C$65,MATCH(B26,Lists!$B$2:$B$65,0)),"") -> Mickey Mansell | D26: =IFERROR(Lists!F26&" v "&C26&"/"&C27,"") -> (28) Brendan Dolan v Mickey Mansell/Xiaochen Zong | L26: =D26 -> (28) Brendan Dolan v Mickey Mansell/Xiaochen Zong
B27: 60 | C27: =IFERROR(INDEX(Lists!$C$2:$C$65,MATCH(B27,Lists!$B$2:$B$65,0)),"") -> Xiaochen Zong | L27: =D27 -> 0
L28: =D28 -> 0
B29: 32 | C29: =IFERROR(INDEX(Lists!$C$2:$C$65,MATCH(B29,Lists!$B$2:$B$65,0)),"") -> Keegan Brown | L29: =D29 -> 0
B30: 63 | C30: =IFERROR(INDEX(Lists!$C$2:$C$65,MATCH(B30,Lists!$B$2:$B$65,0)),"") -> Boris Krcmar | D30: =IFERROR(Lists!F30&" v "&C29&"/"&C30,"") -> (12) Dirk van Duijvenbode v Keegan Brown/Boris Krcmar | L30: =D30 -> (12) Dirk van Duijvenbode v Keegan Brown/Boris Krcmar
B31: 13 | C31: =IFERROR(INDEX(Lists!$C$2:$C$65,MATCH(B31,Lists!$B$2:$B$65,0)),"") -> Simon Whitlock | D31: =IFERROR(Lists!F31&" v "&C31&"/"&C32,"") -> (21) Gary Anderson v Simon Whitlock/Paolo Nebrida | L31: =D31 -> (21) Gary Anderson v Simon Whitlock/Paolo Nebrida
B32: 47 | C32: =IFERROR(INDEX(Lists!$C$2:$C$65,MATCH(B32,Lists!$B$2:$B$65,0)),"") -> Paolo Nebrida | L32: =D32 -> 0
L33: =D33 -> 0
B34: 7 | C34: =IFERROR(INDEX(Lists!$C$2:$C$65,MATCH(B34,Lists!$B$2:$B$65,0)),"") -> Jim Williams | L34: =D34 -> 0
B35: 45 | C35: =IFERROR(INDEX(Lists!$C$2:$C$65,MATCH(B35,Lists!$B$2:$B$65,0)),"") -> Norman Madhoo | D35: =IFERROR(Lists!F35&" v "&C34&"/"&C35,"") -> (4) Peter Wright v Jim Williams/Norman Madhoo | L35: =D35 -> (4) Peter Wright v Jim Williams/Norman Madhoo
B36: 9 | C36: =IFERROR(INDEX(Lists!$C$2:$C$65,MATCH(B36,Lists!$B$2:$B$65,0)),"") -> Radek Szaganski | D36: =IFERROR(Lists!F36&" v "&C36&"/"&C37,"") -> (29) Raymond van Barneveld v Radek Szaganski/Marko Kantele | L36: =D36 -> (29) Raymond van Barneveld v Radek Szaganski/Marko Kantele
B37: 41 | C37: =IFERROR(INDEX(Lists!$C$2:$C$65,MATCH(B37,Lists!$B$2:$B$65,0)),"") -> Marko Kantele | L37: =D37 -> 0
L38: =D38 -> 0
B39: 15 | C39: =IFERROR(INDEX(Lists!$C$2:$C$65,MATCH(B39,Lists!$B$2:$B$65,0)),"") -> Matt Campbell | L39: =D39 -> 0
B40: 40 | C40: =IFERROR(INDEX(Lists!$C$2:$C$65,MATCH(B40,Lists!$B$2:$B$65,0)),"") -> Laurence Ilagan | D40: =IFERROR(Lists!F40&" v "&C39&"/"&C40,"") -> (13) James Wade v Matt Campbell/Laurence Ilagan | L40: =D40 -> (13) James Wade v Matt Campbell/Laurence Ilagan
B41: 23 | C41: =IFERROR(INDEX(Lists!$C$2:$C$65,MATCH(B41,Lists!$B$2:$B$65,0)),"") -> Christian Kist | D41: =IFERROR(Lists!F41&" v "&C41&"/"&C42,"") -> (20) Andrew Gilding v Christian Kist/Luke Littler | L41: =D41 -> (20) Andrew Gilding v Christian Kist/Luke Littler
...

Sheet Lists
B1: First Round | C1: Qualifiers | F1: 2nd
B2: 1 | C2: =M4 -> Ricardo Pietreczko | H2: Top 32 - PDC OOM | L2: Top 32 - ProTour OOM (who have not already qualified thru Top 32 PDC OOM)
B3: 2 | C3: =M5 -> Gian van Veen | H3: https://www.pdpa.co.uk/pdc-tours/pdc-order-of-merit/ | L3: https://www.pdpa.co.uk/pdc-tours/pro-tour/
B4: 3 | C4: =M6 -> Ryan Joyce | L4: 1 | M4: =INDEX(Exports!$H:$H,MATCH(Lists!$L4,Exports!K:K,0)) -> Ricardo Pietreczko
B5: 4 | C5: =M7 -> Luke Woodhouse | E5: 1 | F5: =IFERROR(INDEX(lstTop32,MATCH($E5,$H$5:$H$36,0)),"") -> (1) Michael Smith | H5: 1 | I5: =INDEX(Exports!$B$5:$B$36,MATCH(Lists!$H5,Exports!$A$5:$A$36,0)) -> Michael Smith | J5: ="("&H5&")"&" "&I5 -> (1) Michael Smith | L5: 2 | M5: =INDEX(Exports!$H:$H,MATCH(Lists!$L5,Exports!K:K,0)) -> Gian van Veen
B6: 5 | C6: =M8 -> Mike De Decker | E6: 32 | F6: =IFERROR(INDEX(lstTop32,MATCH($E6,$H$5:$H$36,0)),"") -> (32) Madars Razma | H6: 2 | I6: =INDEX(Exports!$B$5:$B$36,MATCH(Lists!$H6,Exports!$A$5:$A$36,0)) -> Michael van Gerwen | J6: ="("&H6&")"&" "&I6 -> (2) Michael van Gerwen | L6: 3 | M6: =INDEX(Exports!$H:$H,MATCH(Lists!$L6,Exports!K:K,0)) -> Ryan Joyce
B7: 6 | C7: =M9 -> Ian White | F7: =IFERROR(INDEX(lstTop32,MATCH($E7,$H$5:$H$36,0)),"") | H7: 3 | I7: =INDEX(Exports!$B$5:$B$36,MATCH(Lists!$H7,Exports!$A$5:$A$36,0)) -> Luke Humphries | J7: ="("&H7&")"&" "&I7 -> (3) Luke Humphries | L7: 4 | M7: =INDEX(Exports!$H:$H,MATCH(Lists!$L7,Exports!K:K,0)) -> Luke Woodhouse
B8: 7 | C8: =M10 -> Jim Williams | F8: =IFERROR(INDEX(lstTop32,MATCH($E8,$H$5:$H$36,0)),"") | H8: 4 | I8: =INDEX(Exports!$B$5:$B$36,MATCH(Lists!$H8,Exports!$A$5:$A$36,0)) -> Peter Wright | J8: ="("&H8&")"&" "&I8 -> (4) Peter Wright | L8: 5 | M8: =INDEX(Exports!$H:$H,MATCH(Lists!$L8,Exports!K:K,0)) -> Mike De Decker
B9: 8 | C9: =M11 -> Mario Vandenbogaerde | F9: =IFERROR(INDEX(lstTop32,MATCH($E9,$H$5:$H$36,0)),"") | H9: 5 | I9: =INDEX(Exports!$B$5:$B$36,MATCH(Lists!$H9,Exports!$A$5:$A$36,0)) -> Gerwyn Price | J9: ="("&H9&")"&" "&I9 -> (5) Gerwyn Price | L9: 6 | M9: =INDEX(Exports!$H:$H,MATCH(Lists!$L9,Exports!K:K,0)) -> Ian White
B10: 9 | C10: =M12 -> Radek Szaganski | E10: 16 | F10: =IFERROR(INDEX(lstTop32,MATCH($E10,$H$5:$H$36,0)),"") -> (16) Ross Smith | H10: 6 | I10: =INDEX(Exports!$B$5:$B$36,MATCH(Lists!$H10,Exports!$A$5:$A$36,0)) -> Nathan Aspinall | J10: ="("&H10&")"&" "&I10 -> (6) Nathan Aspinall | L10: 7 | M10: =INDEX(Exports!$H:$H,MATCH(Lists!$L10,Exports!K:K,0)) -> Jim Williams
B11: 10 | C11: =M13 -> Richard Veenstra | E11: 17 | F11: =IFERROR(INDEX(lstTop32,MATCH($E11,$H$5:$H$36,0)),"") -> (17) Chris Dobey | H11: 7 | I11: =INDEX(Exports!$B$5:$B$36,MATCH(Lists!$H11,Exports!$A$5:$A$36,0)) -> Danny Noppert | J11: ="("&H11&")"&" "&I11 -> (7) Danny Noppert | L11: 8 | M11: =INDEX(Exports!$H:$H,MATCH(Lists!$L11,Exports!K:K,0)) -> Mario Vandenbogaerde
B12: 11 | C12: =M14 -> Steve Beaton | F12: =IFERROR(INDEX(lstTop32,MATCH($E12,$H$5:$H$36,0)),"") | H12: 8 | I12: =INDEX(Exports!$B$5:$B$36,MATCH(Lists!$H12,Exports!$A$5:$A$36,0)) -> Rob Cross | J12: ="("&H12&")"&" "&I12 -> (8) Rob Cross | L12: 9 | M12: =INDEX(Exports!$H:$H,MATCH(Lists!$L12,Exports!K:K,0)) -> Radek Szaganski
B13: 12 | C13: =M15 -> Keane Barry | F13: =IFERROR(INDEX(lstTop32,MATCH($E13,$H$5:$H$36,0)),"") | H13: 9 | I13: =INDEX(Exports!$B$5:$B$36,MATCH(Lists!$H13,Exports!$A$5:$A$36,0)) -> Jonny Clayton | J13: ="("&H13&")"&" "&I13 -> (9) Jonny Clayton | L13: 10 | M13: =INDEX(Exports!$H:$H,MATCH(Lists!$L13,Exports!K:K,0)) -> Richard Veenstra
B14: 13 | C14: =M16 -> Simon Whitlock | F14: =IFERROR(INDEX(lstTop32,MATCH($E14,$H$5:$H$36,0)),"") | H14: 10 | I14: =INDEX(Exports!$B$5:$B$36,MATCH(Lists!$H14,Exports!$A$5:$A$36,0)) -> Damon Heta | J14: ="("&H14&")"&" "&I14 -> (10) Damon Heta | L14: 11 | M14: =INDEX(Exports!$H:$H,MATCH(Lists!$L14,Exports!K:K,0)) -> Steve Beaton
B15: 14 | C15: =M17 -> Kevin Doets | E15: 8 | F15: =IFERROR(INDEX(lstTop32,MATCH($E15,$H$5:$H$36,0)),"") -> (8) Rob Cross | H15: 11 | I15: =INDEX(Exports!$B$5:$B$36,MATCH(Lists!$H15,Exports!$A$5:$A$36,0)) -> Dave Chisnall | J15: ="("&H15&")"&" "&I15 -> (11) Dave Chisnall | L15: 12 | M15: =INDEX(Exports!$H:$H,MATCH(Lists!$L15,Exports!K:K,0)) -> Keane Barry
B16: 15 | C16: =M18 -> Matt Campbell | E16: 25 | F16: =IFERROR(INDEX(lstTop32,MATCH($E16,$H$5:$H$36,0)),"") -> (25) Jose de Sousa | H16: 12 | I16: =INDEX(Exports!$B$5:$B$36,MATCH(Lists!$H16,Exports!$A$5:$A$36,0)) -> Dirk van Duijvenbode | J16: ="("&H16&")"&" "&I16 -> (12) Dirk van Duijvenbode | L16: 13 | M16: =INDEX(Exports!$H:$H,MATCH(Lists!$L16,Exports!K:K,0)) -> Simon Whitlock
B17: 16 | C17: =M19 -> Connor Scutt | F17: =IFERROR(INDEX(lstTop32,MATCH($E17,$H$5:$H$36,0)),"") | H17: 13 | I17: =INDEX(Exports!$B$5:$B$36,MATCH(Lists!$H17,Exports!$A$5:$A$36,0)) -> James Wade | J17: ="("&H17&")"&" "&I17 -> (13) James Wade | L17: 14 | M17: =INDEX(Exports!$H:$H,MATCH(Lists!$L17,Exports!K:K,0)) -> Kevin Doets
B18: 17 | C18: =M20 -> Martin Lukeman | F18: =IFERROR(INDEX(lstTop32,MATCH($E18,$H$5:$H$36,0)),"") | H18: 14 | I18: =INDEX(Exports!$B$5:$B$36,MATCH(Lists!$H18,Exports!$A$5:$A$36,0)) -> Joe Cullen | J18: ="("&H18&")"&" "&I18 -> (14) Joe Cullen | L18: 15 | M18: =INDEX(Exports!$H:$H,MATCH(Lists!$L18,Exports!K:K,0)) -> Matt Campbell
B19: 18 | C19: =M21 -> Mickey Mansell | F19: =IFERROR(INDEX(lstTop32,MATCH($E19,$H$5:$H$36,0)),"") | H19: 15 | I19: =INDEX(Exports!$B$5:$B$36,MATCH(Lists!$H19,Exports!$A$5:$A$36,0)) -> Dimitri Van den Bergh | J19: ="("&H19&")"&" "&I19 -> (15) Dimitri Van den Bergh | L19: 16 | M19: =INDEX(Exports!$H:$H,MATCH(Lists!$L19,Exports!K:K,0)) -> Connor Scutt
B20: 19 | C20: =M22 -> Dylan Slevin | E20: 9 | F20: =IFERROR(INDEX(lstTop32,MATCH($E20,$H$5:$H$36,0)),"") -> (9) Jonny Clayton | H20: 16 | I20: =INDEX(Exports!$B$5:$B$36,MATCH(Lists!$H20,Exports!$A$5:$A$36,0)) -> Ross Smith | J20: ="("&H20&")"&" "&I20 -> (16) Ross Smith | L20: 17 | M20: =INDEX(Exports!$H:$H,MATCH(Lists!$L20,Exports!K:K,0)) -> Martin Lukeman
B21: 20 | C21: =M23 -> Steve Lennon | E21: 24 | F21: =IFERROR(INDEX(lstTop32,MATCH($E21,$H$5:$H$36,0)),"") -> (24) Krzysztof Ratajski | H21: 17 | I21: =INDEX(Exports!$B$5:$B$36,MATCH(Lists!$H21,Exports!$A$5:$A$36,0)) -> Chris Dobey | J21: ="("&H21&")"&" "&I21 -> (17) Chris Dobey | L21: 18 | M21: =INDEX(Exports!$H:$H,MATCH(Lists!$L21,Exports!K:K,0)) -> Mickey Mansell
B22: 21 | C22: =M24 -> William O’Connor | F22: =IFERROR(INDEX(lstTop32,MATCH($E22,$H$5:$H$36,0)),"") | H22: 18 | I22: =INDEX(Exports!$B$5:$B$36,MATCH(Lists!$H22,Exports!$A$5:$A$36,0)) -> Stephen Bunting | J22: ="("&H22&")"&" "&I22 -> (18) Stephen Bunting | L22: 19 | M22: =INDEX(Exports!$H:$H,MATCH(Lists!$L22,Exports!K:K,0)) -> Dylan Slevin
B23: 22 | C23: =M25 -> Scott Williams | F23: =IFERROR(INDEX(lstTop32,MATCH($E23,$H$5:$H$36,0)),"") | H23: 19 | I23: =INDEX(Exports!$B$5:$B$36,MATCH(Lists!$H23,Exports!$A$5:$A$36,0)) -> Ryan Searle | J23: ="("&H23&")"&" "&I23 -> (19) Ryan Searle | L23: 20 | M23: =INDEX(Exports!$H:$H,MATCH(Lists!$L23,Exports!K:K,0)) -> Steve Lennon
B24: 23 | C24: =M26 -> Christian Kist | F24: =IFERROR(INDEX(lstTop32,MATCH($E24,$H$5:$H$36,0)),"") | H24: 20 | I24: =INDEX(Exports!$B$5:$B$36,MATCH(Lists!$H24,Exports!$A$5:$A$36,0)) -> Andrew Gilding | J24: ="("&H24&")"&" "&I24 -> (20) Andrew Gilding | L24: 21 | M24: =INDEX(Exports!$H:$H,MATCH(Lists!$L24,Exports!K:K,0)) -> William O’Connor
B25: 24 | C25: =M27 -> Ricky Evans | E25: 5 | F25: =IFERROR(INDEX(lstTop32,MATCH($E25,$H$5:$H$36,0)),"") -> (5) Gerwyn Price | H25: 21 | I25: =INDEX(Exports!$B$5:$B$36,MATCH(Lists!$H25,Exports!$A$5:$A$36,0)) -> Gary Anderson | J25: ="("&H25&")"&" "&I25 -> (21) Gary Anderson | L25: 22 | M25: =INDEX(Exports!$H:$H,MATCH(Lists!$L25,Exports!K:K,0)) -> Scott Williams
B26: 25 | C26: =M28 -> Cameron Menzies | E26: 28 | F26: =IFERROR(INDEX(lstTop32,MATCH($E26,$H$5:$H$36,0)),"") -> (28) Brendan Dolan | H26: 22 | I26: =INDEX(Exports!$B$5:$B$36,MATCH(Lists!$H26,Exports!$A$5:$A$36,0)) -> Gabriel Clemens | J26: ="("&H26&")"&" "&I26 -> (22) Gabriel Clemens | L26: 23 | M26: =INDEX(Exports!$H:$H,MATCH(Lists!$L26,Exports!K:K,0)) -> Christian Kist
B27: 26 | C27: =M29 -> Lee Evans | F27: =IFERROR(INDEX(lstTop32,MATCH($E27,$H$5:$H$36,0)),"") | H27: 23 | I27: =INDEX(Exports!$B$5:$B$36,MATCH(Lists!$H27,Exports!$A$5:$A$36,0)) -> Josh Rock | J27: ="("&H27&")"&" "&I27 -> (23) Josh Rock | L27: 24 | M27: =INDEX(Exports!$H:$H,MATCH(Lists!$L27,Exports!K:K,0)) -> Ricky Evans
B28: 27 | C28: =M30 -> Ritchie Edhouse | F28: =IFERROR(INDEX(lstTop32,MATCH($E28,$H$5:$H$36,0)),"") | H28: 24 | I28: =INDEX(Exports!$B$5:$B$36,MATCH(Lists!$H28,Exports!$A$5:$A$36,0)) -> Krzysztof Ratajski | J28: ="("&H28&")"&" "&I28 -> (24) Krzysztof Ratajski | L28: 25 | M28: =INDEX(Exports!$H:$H,MATCH(Lists!$L28,Exports!K:K,0)) -> Cameron Menzies
B29: 28 | C29: =M31 -> Jermaine Wattimena | F29: =IFERROR(INDEX(lstTop32,MATCH($E29,$H$5:$H$36,0)),"") | H29: 25 | I29: =INDEX(Exports!$B$5:$B$36,MATCH(Lists!$H29,Exports!$A$5:$A$36,0)) -> Jose de Sousa | J29: ="("&H29&")"&" "&I29 -> (25) Jose de Sousa | L29: 26 | M29: =INDEX(Exports!$H:$H,MATCH(Lists!$L29,Exports!K:K,0)) -> Lee Evans
B30: 29 | C30: =M32 -> Jules van Dongen | E30: 12 | F30: =IFERROR(INDEX(lstTop32,MATCH($E30,$H$5:$H$36,0)),"") -> (12) Dirk van Duijvenbode | H30: 26 | I30: =INDEX(Exports!$B$5:$B$36,MATCH(Lists!$H30,Exports!$A$5:$A$36,0)) -> Martin Schindler | J30: ="("&H30&")"&" "&I30 -> (26) Martin Schindler | L30: 27 | M30: =INDEX(Exports!$H:$H,MATCH(Lists!$L30,Exports!K:K,0)) -> Ritchie Edhouse
B31: 30 | C31: =M33 -> Jamie Hughes | E31: 21 | F31: =IFERROR(INDEX(lstTop32,MATCH($E31,$H$5:$H$36,0)),"") -> (21) Gary Anderson | H31: 27 | I31: =INDEX(Exports!$B$5:$B$36,MATCH(Lists!$H31,Exports!$A$5:$A$36,0)) -> Daryl Gurney | J31: ="("&H31&")"&" "&I31 -> (27) Daryl Gurney | L31: 28 | M31: =INDEX(Exports!$H:$H,MATCH(Lists!$L31,Exports!K:K,0)) -> Jermaine Wattimena
B32: 31 | C32: =M34 -> Niels Zonneveld | F32: =IFERROR(INDEX(lstTop32,MATCH($E32,$H$5:$H$36,0)),"") | H32: 28 | I32: =INDEX(Exports!$B$5:$B$36,MATCH(Lists!$H32,Exports!$A$5:$A$36,0)) -> Brendan Dolan | J32: ="("&H32&")"&" "&I32 -> (28) Brendan Dolan | L32: 29 | M32: =INDEX(Exports!$H:$H,MATCH(Lists!$L32,Exports!K:K,0)) -> Jules van Dongen
B33: 32 | C33: =M35 -> Keegan Brown | F33: =IFERROR(INDEX(lstTop32,MATCH($E33,$H$5:$H$36,0)),"") | H33: 29 | I33: =INDEX(Exports!$B$5:$B$36,MATCH(Lists!$H33,Exports!$A$5:$A$36,0)) -> Raymond van Barneveld | J33: ="("&H33&")"&" "&I33 -> (29) Raymond van Barneveld | L33: 30 | M33: =INDEX(Exports!$H:$H,MATCH(Lists!$L33,Exports!K:K,0)) -> Jamie Hughes
B34: 33 | C34: Simon Adams | F34: =IFERROR(INDEX(lstTop32,MATCH($E34,$H$5:$H$36,0)),"") | H34: 30 | I34: =INDEX(Exports!$B$5:$B$36,MATCH(Lists!$H34,Exports!$A$5:$A$36,0)) -> Callan Rydz | J34: ="("&H34&")"&" "&I34 -> (30) Callan Rydz | L34: 31 | M34: =INDEX(Exports!$H:$H,MATCH(Lists!$L34,Exports!K:K,0)) -> Niels Zonneveld
B35: 34 | C35: Owen Bates | E35: 4 | F35: =IFERROR(INDEX(lstTop32,MATCH($E35,$H$5:$H$36,0)),"") -> (4) Peter Wright | H35: 31 | I35: =INDEX(Exports!$B$5:$B$36,MATCH(Lists!$H35,Exports!$A$5:$A$36,0)) -> Kim Huybrechts | J35: ="("&H35&")"&" "&I35 -> (31) Kim Huybrechts | L35: 32 | M35: =INDEX(Exports!$H:$H,MATCH(Lists!$L35,Exports!K:K,0)) -> Keegan Brown
B36: 35 | C36: Strowe Buntz | E36: 29 | F36: =IFERROR(INDEX(lstTop32,MATCH($E36,$H$5:$H$36,0)),"") -> (29) Raymond van Barneveld | H36: 32 | I36: =INDEX(Exports!$B$5:$B$36,MATCH(Lists!$H36,Exports!$A$5:$A$36,0)) -> Madars Razma | J36: ="("&H36&")"&" "&I36 -> (32) Madars Razma
B37: 36 | C37: David Cameron | F37: =IFERROR(INDEX(lstTop32,MATCH($E37,$H$5:$H$36,0)),"")
B38: 37 | C38: Jeffrey De Graaf | F38: =IFERROR(INDEX(lstTop32,MATCH($E38,$H$5:$H$36,0)),"")
B39: 38 | C39: Tomoya Goto | F39: =IFERROR(INDEX(lstTop32,MATCH($E39,$H$5:$H$36,0)),"")
B40: 39 | C40: Dragutin Horvat | E40: 13 | F40: =IFERROR(INDEX(lstTop32,MATCH($E40,$H$5:$H$36,0)),"") -> (13) James Wade
...

Sheet Exports
A1: Top 32 - PDC OOM | G1: Top 32 - ProTour OOM (who have not already qualified thru Top 32 PDC OOM)
A2: https://www.pdpa.co.uk/pdc-tours/pdc-order-of-merit/ | G2: https://www.pdpa.co.uk/pdc-tours/pro-tour/
A5: 1 | B5: Michael Smith | C5: £1,271,250 | G5: 1 | H5: Dave Chisnall | I5: £199,500 | J5: =IFERROR(VLOOKUP(H5,$B$5:$B$36,1,0),1) -> Dave Chisnall | K5: =IF(H5=J5,0,SUM($J$5:$J5)) -> 0
A6: 2 | B6: Michael van Gerwen | C6: £1,107,250 | G6: 2 | H6: Luke Humphries | I6: £176,250 | J6: =IFERROR(VLOOKUP(H6,$B$5:$B$36,1,0),1) -> Luke Humphries | K6: =IF(H6=J6,0,SUM($J$5:$J6)) -> 0
A7: 3 | B7: Luke Humphries | C7: £1,045,500 | G7: 3 | H7: Gerwyn Price | I7: £159,750 | J7: =IFERROR(VLOOKUP(H7,$B$5:$B$36,1,0),1) -> Gerwyn Price | K7: =IF(H7=J7,0,SUM($J$5:$J7)) -> 0
A8: 4 | B8: Peter Wright | C8: £996,250 | G8: 4 | H8: Damon Heta | I8: £144,500 | J8: =IFERROR(VLOOKUP(H8,$B$5:$B$36,1,0),1) -> Damon Heta | K8: =IF(H8=J8,0,SUM($J$5:$J8)) -> 0
A9: 5 | B9: Gerwyn Price | C9: £662,250 | G9: 5 | H9: Dirk van Duijvenbode | I9: £131,250 | J9: =IFERROR(VLOOKUP(H9,$B$5:$B$36,1,0),1) -> Dirk van Duijvenbode | K9: =IF(H9=J9,0,SUM($J$5:$J9)) -> 0
A10: 6 | B10: Nathan Aspinall | C10: £647,500 | G10: 6 | H10: Josh Rock | I10: £119,000 | J10: =IFERROR(VLOOKUP(H10,$B$5:$B$36,1,0),1) -> Josh Rock | K10: =IF(H10=J10,0,SUM($J$5:$J10)) -> 0
A11: 7 | B11: Danny Noppert | C11: £537,750 | G11: 7 | H11: Rob Cross | I11: £115,750 | J11: =IFERROR(VLOOKUP(H11,$B$5:$B$36,1,0),1) -> Rob Cross | K11: =IF(H11=J11,0,SUM($J$5:$J11)) -> 0
A12: 8 | B12: Rob Cross | C12: £525,500 | G12: 8 | H12: Michael van Gerwen | I12: £112,750 | J12: =IFERROR(VLOOKUP(H12,$B$5:$B$36,1,0),1) -> Michael van Gerwen | K12: =IF(H12=J12,0,SUM($J$5:$J12)) -> 0
A13: 9 | B13: Jonny Clayton | C13: £490,000 | G13: 9 | H13: Jonny Clayton | I13: £109,500 | J13: =IFERROR(VLOOKUP(H13,$B$5:$B$36,1,0),1) -> Jonny Clayton | K13: =IF(H13=J13,0,SUM($J$5:$J13)) -> 0
A14: 10 | B14: Damon Heta | C14: £468,250 | G14: 10 | H14: Danny Noppert | I14: £106,750 | J14: =IFERROR(VLOOKUP(H14,$B$5:$B$36,1,0),1) -> Danny Noppert | K14: =IF(H14=J14,0,SUM($J$5:$J14)) -> 0
A15: 11 | B15: Dave Chisnall | C15: £464,500 | G15: 11 | H15: Michael Smith | I15: £100,000 | J15: =IFERROR(VLOOKUP(H15,$B$5:$B$36,1,0),1) -> Michael Smith | K15: =IF(H15=J15,0,SUM($J$5:$J15)) -> 0
A16: 12 | B16: Dirk van Duijvenbode | C16: £458,750 | G16: 12 | H16: Ross Smith | I16: £89,750 | J16: =IFERROR(VLOOKUP(H16,$B$5:$B$36,1,0),1) -> Ross Smith | K16: =IF(H16=J16,0,SUM($J$5:$J16)) -> 0
... A36: 32 | B36: Madars Razma | C36: £158,250 | G36: 32 | H36: Luke Woodhouse | I36: £50,750 | J36: =IFERROR(VLOOKUP(H36,$B$5:$B$36,1,0),1) -> 1 | K36: =IF(H36=J36,0,SUM($J$5:$J36)) -> 4
G37: 33 | H37: Mike De Decker | I37: £50,500 | J37: =IFERROR(VLOOKUP(H37,$B$5:$B$36,1,0),1) -> 1 | K37: =IF(H37=J37,0,SUM($J$5:$J37)) -> 5
G38: 34 | H38: Chris Dobey | I38: £50,000 | J38: =IFERROR(VLOOKUP(H38,$B$5:$B$36,1,0),1) -> Chris Dobey | K38: =IF(H38=J38,0,SUM($J$5:$J38)) -> 0
G39: 35 | H39: Callan Rydz | I39: £44,000 | J39: =IFERROR(VLOOKUP(H39,$B$5:$B$36,1,0),1) -> Callan Rydz | K39: =IF(H39=J39,0,SUM($J$5:$J39)) -> 0
G40: 36 | H40: Kim Huybrechts | I40: £41,000 | J40: =IFERROR(VLOOKUP(H40,$B$5:$B$36,1,0),1) -> Kim Huybrechts | K40: =IF(H40=J40,0,SUM($J$5:$J40)) -> 0
G41: 37 | H41: Ian White | I41: £39,750 | J41: =IFERROR(VLOOKUP(H41,$B$5:$B$36,1,0),1) -> 1 | K41: =IF(H41=J41,0,SUM($J$5:$J41)) -> 6
G42: 38 | H42: Jim Williams | I42: £39,000 | J42: =IFERROR(VLOOKUP(H42,$B$5:$B$36,1,0),1) -> 1 | K42: =IF(H42=J42,0,SUM($J$5:$J42)) -> 7
G43: 39 | H43: Mario Vandenbogaerde | I43: £35,750 | J43: =IFERROR(VLOOKUP(H43,$B$5:$B$36,1,0),1) -> 1 | K43: =IF(H43=J43,0,SUM($J$5:$J43)) -> 8
G44: 40 | H44: Radek Szaganski | I44: £34,500 | J44: =IFERROR(VLOOKUP(H44,$B$5:$B$36,1,0),1) -> 1 | K44: =IF(H44=J44,0,SUM($J$5:$J44)) -> 9
G45: 41 | H45: Richard Veenstra | I45: £34,500 | J45: =IFERROR(VLOOKUP(H45,$B$5:$B$36,1,0),1) -> 1 | K45: =IF(H45=J45,0,SUM($J$5:$J45)) -> 10
G46: 42 | H46: Steve Beaton | I46: £33,750 | J46: =IFERROR(VLOOKUP(H46,$B$5:$B$36,1,0),1) -> 1 | K46: =IF(H46=J46,0,SUM($J$5:$J46)) -> 11
G47: 43 | H47: Keane Barry | I47: £33,250 | J47: =IFERROR(VLOOKUP(H47,$B$5:$B$36,1,0),1) -> 1 | K47: =IF(H47=J47,0,SUM($J$5:$J47)) -> 12
G48: 44 | H48: Simon Whitlock | I48: £33,000 | J48: =IFERROR(VLOOKUP(H48,$B$5:$B$36,1,0),1) -> 1 | K48: =IF(H48=J48,0,SUM($J$5:$J48)) -> 13
... G100: 96 | H100: Graham Usher | I100: £14,250 | J100: =IFERROR(VLOOKUP(H100,$B$5:$B$36,1,0),1) -> 1 | K100: =IF(H100=J100,0,SUM($J$5:$J100)) -> 64
