Workbook

Sheet Useage
B1: Summary | C1: Night | D1: Early Day | E1: Peak | F1: Late Day | G1: Total
B2: Total | C2: =SUM(C16:C9469) -> 1273.98 | D2: =SUM(D16:D9469) -> 1998.104 | E2: =SUM(E16:E9469) -> 600.017 | F2: =SUM(F16:F9469) -> 1087.039 | G2: =SUM(C2:F2) -> 4959.14
B3: Average | C3: =AVERAGE(C16:C9469) -> 6.4669036 | D3: =AVERAGE(D16:D9469) -> 10.14266 | E3: =AVERAGE(E16:E9469) -> 3.0457716 | F3: =AVERAGE(F16:F9469) -> 5.5179645
B4: Average Per Hr | C4: =C3/9 -> 0.71854484 | D4: =D3/9 -> 1.1269622 | E4: =E3/2 -> 1.5228858 | F4: =F3/4 -> 1.3794911
B5: Min | C5: =MIN(C16:C9469) -> 4.118 | D5: =MIN(D16:D9469) -> 1.947 | E5: =MIN(E16:E9469) -> 0.989 | F5: =MIN(F16:F9469) -> 1.996
B6: Max | C6: =MAX(C16:C9469) -> 55.165 | D6: =MAX(D16:D9469) -> 61.094 | E6: =MAX(E16:E9469) -> 13.951 | F6: =MAX(F16:F9469) -> 28.223
B8: Annual Useage | C8: 5000 | G8: Estimated from Bills
B9: % | C9: =C2/$G$2 -> 0.25689535 | D9: =D2/$G$2 -> 0.40291341 | E9: =E2/$G$2 -> 0.12099215 | F9: =F2/$G$2 -> 0.2191991
B10: kWh per Year | C10: =C8*C9 -> 1284.4767 | D10: =$C$8*D9 -> 2014.567 | E10: =$C$8*E9 -> 604.96074 | F10: =$C$8*F9 -> 1095.9955
A15: Read Value | B15: Read Date and End Time | C15: Night | D15: Early Day | E15: Peak | F15: Late Day
A16: 0.557 | B16: 45207.958 | F16: =SUM(A16:A23) -> 5.136
A17: 0.587 | B17: 45207.938
A18: 0.624 | B18: 45207.917
A19: 0.644 | B19: 45207.896
A20: 0.884 | B20: 45207.875
A21: 0.659 | B21: 45207.854
A22: 0.676 | B22: 45207.833
A23: 0.505 | B23: 45207.812
A24: 0.514 | B24: 45207.792 | E24: =SUM(A24:A27) -> 2.701
A25: 0.537 | B25: 45207.771
A26: 0.792 | B26: 45207.75
A27: 0.858 | B27: 45207.729
A28: 0.629 | B28: 45207.708 | D28: =SUM(A28:A45) -> 8.093
A29: 0.484 | B29: 45207.688
A30: 0.457 | B30: 45207.667
A31: 0.78 | B31: 45207.646
A32: 0.509 | B32: 45207.625
A33: 0.639 | B33: 45207.604
A34: 0.306 | B34: 45207.583
A35: 0.303 | B35: 45207.562
A36: 0.313 | B36: 45207.542
A37: 0.287 | B37: 45207.521
A38: 0.314 | B38: 45207.5
A39: 0.333 | B39: 45207.479
A40: 0.4 | B40: 45207.458
... A45: 0.306 | B45: 45207.354
A46: 0.359 | B46: 45207.333 | C46: =SUM(A46:A63) -> 6.251
A47: 0.267 | B47: 45207.312
A48: 0.321 | B48: 45207.292
A49: 0.268 | B49: 45207.271
...

Sheet PV Production
G1: https://solartricity.ie/design-your-system-quote/power-production-estimator/
A4: Per Year | B4: 5200 | C4: kWh | D4: Conservative Number
A6: Feed back (%) | B6: 0.1 | C6: 0.2 | D6: 0.3 | E6: 0.4 | F6: 0.5
A7: Useage | B7: =(1-B6)*$B$4 -> 4680 | C7: =(1-C6)*$B$4 -> 4160 | D7: =(1-D6)*$B$4 -> 3640 | E7: =(1-E6)*$B$4 -> 3120 | F7: =(1-F6)*$B$4 -> 2600
A8: Feedback | B8: =B6*$B$4 -> 520 | C8: =C6*$B$4 -> 1040 | D8: =D6*$B$4 -> 1560 | E8: =E6*$B$4 -> 2080 | F8: =F6*$B$4 -> 2600
H21: https://re.jrc.ec.europa.eu/pvg_tools/en/tools.html

Sheet EV Charging
A1: Car 1 per year | B1: 10000 | C1: kms
A2: Efficiency | B2: 170 | C2: w/km | D2: Average from EV Car
B3: =B2/1000 -> 0.17 | C3: kw/km
A4: Power per annum | B4: =B1*B3 -> 1700 | C4: kWh per year
A5: With second EV, Say | B5: 2800 | C5: kWh per year | D5: Estimate of one EV and one PHEV
A7: Fuel Equivlent
A8: Kms per year | B8: =B1 -> 10000 | C8: kms
A9: miles per year | B9: =B8/8*5 -> 6250 | C9: miles
A10: Efficiency of previous car (mixed usage) | B10: 40 | C10: mpg
A11: Fuel needed per year | B11: =B9/B10 -> 156.25 | C11: gallons
A12: Fuel needed per year | B12: =B11*4.54 -> 709.375 | C12: litres
A13: Fuel Cost | B13: 1.85 | C13: c/l
A14: Fuel per year | B14: =B13*B12 -> 1312.3438 | C14: euro
C16: Annual Saving
A17: Cost at Lowest Pinergy Rate 5.45c/kwh | B17: =B4*'Energy Plans Analysis 2023'!F10/100 -> 92.65 | C17: =B14-B17 -> 1219.6937
A18: Cost at Lowest Energia Rate 8.15c/kwh | B18: =B4*'Energy Plans Analysis 2023'!F17/100 -> 138.55 | C18: =B14-B18 -> 1173.7938

Sheet Energy Plans Analysis 2023
A1: Favourable Plans for me (Manual Colouring) | C1: Restricted Times | L1: Under 2k | O1: Under 2.3k | Q1: Cost based on PV usage versus feed in
A2: Company | B2: Plan Name | C2: Day Rate | D2: Night Rate | E2: Peak Rate | F2: Night Boost Rate | G2: Standing Charge | I2: Day Cost | J2: Night Cost | K2: Peak Cost | L2: Total Cost | M2: Feed in Tariff | O2: Total Cost+1700KWH @ night | Q2: PV 50/50 | R2: PV60/40 | S2: PV70/30 | T2: PV80/20 | U2: PV90/10
A3: SSE Airtricity | B3: Rural 24hr | C3: 38.59 | D3: 38.59 | E3: 38.59 | F3: 38.59 | G3: 302.48 | I3: =(Useage!$D$10+Useage!$F$10)*'Energy Plans Analysis 2023'!C3/100 -> 1200.3661 | J3: =Useage!$C$10*'Energy Plans Analysis 2023'!D3/100 -> 495.67958 | K3: =Useage!$E$10*'Energy Plans Analysis 2023'!E3/100 -> 233.45435 | L3: =K3+J3+I3+G3 -> 2231.98 | M3: 24 | O3: =L3+('EV Charging'!$B$4*F3/100) -> 2888.01 | Q3: =O3-('PV Production'!$F$8*'Energy Plans Analysis 2023'!M3/100)-('PV Production'!$F$7*'Energy Plans Analysis 2023'!C3/100) -> 1260.67 | R3: =O3-('PV Production'!$E$8*'Energy Plans Analysis 2023'!M3/100)-('PV Production'!$E$7*'Energy Plans Analysis 2023'!C3/100) -> 1184.802 | S3: =O3-('PV Production'!$D$8*'Energy Plans Analysis 2023'!M3/100)-('PV Production'!$D$7*'Energy Plans Analysis 2023'!C3/100) -> 1108.934 | T3: =O3-('PV Production'!$C$8*'Energy Plans Analysis 2023'!M3/100)-('PV Production'!$C$7*'Energy Plans Analysis 2023'!C3/100) -> 1033.066 | U3: =O3-('PV Production'!$B$8*'Energy Plans Analysis 2023'!M3/100)-('PV Production'!$B$7*'Energy Plans Analysis 2023'!C3/100) -> 957.198
A4: SSE Airtricity | B4: Rural Nightsaver | C4: 39.42 | D4: 24.46 | E4: 29.42 | F4: 24.46 | G4: 377.01 | I4: =(Useage!$D$10+Useage!$F$10)*'Energy Plans Analysis 2023'!C4/100 -> 1226.1837 | J4: =Useage!$C$10*'Energy Plans Analysis 2023'!D4/100 -> 314.18301 | K4: =Useage!$E$10*'Energy Plans Analysis 2023'!E4/100 -> 177.97945 | L4: =K4+J4+I4+G4 -> 2095.3562 | M4: 24 | O4: =L4+('EV Charging'!$B$4*F4/100) -> 2511.1762 | Q4: =O4-('PV Production'!$F$8*'Energy Plans Analysis 2023'!M4/100)-('PV Production'!$F$7*'Energy Plans Analysis 2023'!C4/100) -> 862.25621 | R4: =O4-('PV Production'!$E$8*'Energy Plans Analysis 2023'!M4/100)-('PV Production'!$E$7*'Energy Plans Analysis 2023'!C4/100) -> 782.07221 | S4: =O4-('PV Production'!$D$8*'Energy Plans Analysis 2023'!M4/100)-('PV Production'!$D$7*'Energy Plans Analysis 2023'!C4/100) -> 701.88821 | T4: =O4-('PV Production'!$C$8*'Energy Plans Analysis 2023'!M4/100)-('PV Production'!$C$7*'Energy Plans Analysis 2023'!C4/100) -> 621.70421 | U4: =O4-('PV Production'!$B$8*'Energy Plans Analysis 2023'!M4/100)-('PV Production'!$B$7*'Energy Plans Analysis 2023'!C4/100) -> 541.52021
A5: SSE Airtricity | B5: Rural Smart Meter | C5: 40.29 | D5: 26.14 | E5: 50.9 | F5: 26.14 | G5: 302.48 | I5: =(Useage!$D$10+Useage!$F$10)*'Energy Plans Analysis 2023'!C5/100 -> 1253.2456 | J5: =Useage!$C$10*'Energy Plans Analysis 2023'!D5/100 -> 335.76222 | K5: =Useage!$E$10*'Energy Plans Analysis 2023'!E5/100 -> 307.92502 | L5: =K5+J5+I5+G5 -> 2199.4129 | M5: 24 | O5: =L5+('EV Charging'!$B$4*F5/100) -> 2643.7929 | Q5: =O5-('PV Production'!$F$8*'Energy Plans Analysis 2023'!M5/100)-('PV Production'!$F$7*'Energy Plans Analysis 2023'!C5/100) -> 972.25288 | R5: =O5-('PV Production'!$E$8*'Energy Plans Analysis 2023'!M5/100)-('PV Production'!$E$7*'Energy Plans Analysis 2023'!C5/100) -> 887.54488 | S5: =O5-('PV Production'!$D$8*'Energy Plans Analysis 2023'!M5/100)-('PV Production'!$D$7*'Energy Plans Analysis 2023'!C5/100) -> 802.83688 | T5: =O5-('PV Production'!$C$8*'Energy Plans Analysis 2023'!M5/100)-('PV Production'!$C$7*'Energy Plans Analysis 2023'!C5/100) -> 718.12888 | U5: =O5-('PV Production'!$B$8*'Energy Plans Analysis 2023'!M5/100)-('PV Production'!$B$7*'Energy Plans Analysis 2023'!C5/100) -> 633.42088
A6: SSE Airtricity | B6: Smart Night Boost | C6: 48.3 | D6: 27.35 | E6: 64.92 | F6: 10.55 | G6: 367.26 | I6: =(Useage!$D$10+Useage!$F$10)*'Energy Plans Analysis 2023'!C6/100 -> 1502.4017 | J6: =Useage!$C$10*'Energy Plans Analysis 2023'!D6/100 -> 351.30439 | K6: =Useage!$E$10*'Energy Plans Analysis 2023'!E6/100 -> 392.74051 | L6: =K6+J6+I6+G6 -> 2613.7066 | M6: 24 | O6: =L6+('EV Charging'!$B$4*F6/100) -> 2793.0566 | Q6: =O6-('PV Production'!$F$8*'Energy Plans Analysis 2023'!M6/100)-('PV Production'!$F$7*'Energy Plans Analysis 2023'!C6/100) -> 913.2566 | R6: =O6-('PV Production'!$E$8*'Energy Plans Analysis 2023'!M6/100)-('PV Production'!$E$7*'Energy Plans Analysis 2023'!C6/100) -> 786.8966 | S6: =O6-('PV Production'!$D$8*'Energy Plans Analysis 2023'!M6/100)-('PV Production'!$D$7*'Energy Plans Analysis 2023'!C6/100) -> 660.5366 | T6: =O6-('PV Production'!$C$8*'Energy Plans Analysis 2023'!M6/100)-('PV Production'!$C$7*'Energy Plans Analysis 2023'!C6/100) -> 534.1766 | U6: =O6-('PV Production'!$B$8*'Energy Plans Analysis 2023'!M6/100)-('PV Production'!$B$7*'Energy Plans Analysis 2023'!C6/100) -> 407.8166
A7: Pinergy | B7: Standard Smart Meter | C7: 41.24 | D7: 31.48 | E7: 44.32 | F7: 31.48 | G7: 283.47 | I7: =(Useage!$D$10+Useage!$F$10)*'Energy Plans Analysis 2023'!C7/100 -> 1282.796 | J7: =Useage!$C$10*'Energy Plans Analysis 2023'!D7/100 -> 404.35328 | K7: =Useage!$E$10*'Energy Plans Analysis 2023'!E7/100 -> 268.1186 | L7: =K7+J7+I7+G7 -> 2238.7379 | M7: 21 | O7: =L7+('EV Charging'!$B$4*F7/100) -> 2773.8979 | Q7: =O7-('PV Production'!$F$8*'Energy Plans Analysis 2023'!M7/100)-('PV Production'!$F$7*'Energy Plans Analysis 2023'!C7/100) -> 1155.6579 | R7: =O7-('PV Production'!$E$8*'Energy Plans Analysis 2023'!M7/100)-('PV Production'!$E$7*'Energy Plans Analysis 2023'!C7/100) -> 1050.4099 | S7: =O7-('PV Production'!$D$8*'Energy Plans Analysis 2023'!M7/100)-('PV Production'!$D$7*'Energy Plans Analysis 2023'!C7/100) -> 945.16186 | T7: =O7-('PV Production'!$C$8*'Energy Plans Analysis 2023'!M7/100)-('PV Production'!$C$7*'Energy Plans Analysis 2023'!C7/100) -> 839.91386 | U7: =O7-('PV Production'!$B$8*'Energy Plans Analysis 2023'!M7/100)-('PV Production'!$B$7*'Energy Plans Analysis 2023'!C7/100) -> 734.66586
A8: Pinergy | B8: Working From Home Tariff | C8: 28.97 | D8: 41.39 | E8: 41.39 | F8: 41.39 | G8: 283.47 | I8: =(Useage!$D$10+Useage!$F$10)*'Energy Plans Analysis 2023'!C8/100 -> 901.12996 | J8: =Useage!$C$10*'Energy Plans Analysis 2023'!D8/100 -> 531.64492 | K8: =Useage!$E$10*'Energy Plans Analysis 2023'!E8/100 -> 250.39325 | L8: =K8+J8+I8+G8 -> 1966.6381 | M8: 21 | O8: =L8+('EV Charging'!$B$4*F8/100) -> 2670.2681 | Q8: =O8-('PV Production'!$F$8*'Energy Plans Analysis 2023'!M8/100)-('PV Production'!$F$7*'Energy Plans Analysis 2023'!C8/100) -> 1371.0481 | R8: =O8-('PV Production'!$E$8*'Energy Plans Analysis 2023'!M8/100)-('PV Production'!$E$7*'Energy Plans Analysis 2023'!C8/100) -> 1329.6041 | S8: =O8-('PV Production'!$D$8*'Energy Plans Analysis 2023'!M8/100)-('PV Production'!$D$7*'Energy Plans Analysis 2023'!C8/100) -> 1288.1601 | T8: =O8-('PV Production'!$C$8*'Energy Plans Analysis 2023'!M8/100)-('PV Production'!$C$7*'Energy Plans Analysis 2023'!C8/100) -> 1246.7161 | U8: =O8-('PV Production'!$B$8*'Energy Plans Analysis 2023'!M8/100)-('PV Production'!$B$7*'Energy Plans Analysis 2023'!C8/100) -> 1205.2721
A9: Pinergy | B9: Family Time | C9: 24.83 | D9: 41.39 | E9: 41.39 | F9: 41.39 | G9: 283.47 | I9: =(Useage!$D$10+Useage!$F$10)*'Energy Plans Analysis 2023'!C9/100 -> 772.35267 | J9: =Useage!$C$10*'Energy Plans Analysis 2023'!D9/100 -> 531.64492 | K9: =Useage!$E$10*'Energy Plans Analysis 2023'!E9/100 -> 250.39325 | L9: =K9+J9+I9+G9 -> 1837.8608 | M9: 21 | O9: =L9+('EV Charging'!$B$4*F9/100) -> 2541.4908 | Q9: =O9-('PV Production'!$F$8*'Energy Plans Analysis 2023'!M9/100)-('PV Production'!$F$7*'Energy Plans Analysis 2023'!C9/100) -> 1349.9108 | R9: =O9-('PV Production'!$E$8*'Energy Plans Analysis 2023'!M9/100)-('PV Production'!$E$7*'Energy Plans Analysis 2023'!C9/100) -> 1329.9948 | S9: =O9-('PV Production'!$D$8*'Energy Plans Analysis 2023'!M9/100)-('PV Production'!$D$7*'Energy Plans Analysis 2023'!C9/100) -> 1310.0788 | T9: =O9-('PV Production'!$C$8*'Energy Plans Analysis 2023'!M9/100)-('PV Production'!$C$7*'Energy Plans Analysis 2023'!C9/100) -> 1290.1628 | U9: =O9-('PV Production'!$B$8*'Energy Plans Analysis 2023'!M9/100)-('PV Production'!$B$7*'Energy Plans Analysis 2023'!C9/100) -> 1270.2468
A10: Pinergy | B10: EV Drive Time | C10: 41.39 | D10: 41.39 | E10: 41.39 | F10: 5.45 | G10: 283.47 | I10: =(Useage!$D$10+Useage!$F$10)*'Energy Plans Analysis 2023'!C10/100 -> 1287.4618 | J10: =Useage!$C$10*'Energy Plans Analysis 2023'!D10/100 -> 531.64492 | K10: =Useage!$E$10*'Energy Plans Analysis 2023'!E10/100 -> 250.39325 | L10: =K10+J10+I10+G10 -> 2352.97 | M10: 21 | O10: =L10+('EV Charging'!$B$4*F10/100) -> 2445.62 | Q10: =O10-('PV Production'!$F$8*'Energy Plans Analysis 2023'!M10/100)-('PV Production'!$F$7*'Energy Plans Analysis 2023'!C10/100) -> 823.48 | R10: =O10-('PV Production'!$E$8*'Energy Plans Analysis 2023'!M10/100)-('PV Production'!$E$7*'Energy Plans Analysis 2023'!C10/100) -> 717.452 | S10: =O10-('PV Production'!$D$8*'Energy Plans Analysis 2023'!M10/100)-('PV Production'!$D$7*'Energy Plans Analysis 2023'!C10/100) -> 611.424 | T10: =O10-('PV Production'!$C$8*'Energy Plans Analysis 2023'!M10/100)-('PV Production'!$C$7*'Energy Plans Analysis 2023'!C10/100) -> 505.396 | U10: =O10-('PV Production'!$B$8*'Energy Plans Analysis 2023'!M10/100)-('PV Production'!$B$7*'Energy Plans Analysis 2023'!C10/100) -> 399.368
A11: Energia | B11: Rural 24hr | C11: 37.05 | D11: 37.05 | E11: 37.05 | F11: 37.05 | G11: 300.91 | I11: =(Useage!$D$10+Useage!$F$10)*'Energy Plans Analysis 2023'!C11/100 -> 1152.4634 | J11: =Useage!$C$10*'Energy Plans Analysis 2023'!D11/100 -> 475.89863 | K11: =Useage!$E$10*'Energy Plans Analysis 2023'!E11/100 -> 224.13795 | L11: =K11+J11+I11+G11 -> 2153.41 | M11: 24 | O11: =L11+('EV Charging'!$B$4*F11/100) -> 2783.26 | Q11: =O11-('PV Production'!$F$8*'Energy Plans Analysis 2023'!M11/100)-('PV Production'!$F$7*'Energy Plans Analysis 2023'!C11/100) -> 1195.96 | R11: =O11-('PV Production'!$E$8*'Energy Plans Analysis 2023'!M11/100)-('PV Production'!$E$7*'Energy Plans Analysis 2023'!C11/100) -> 1128.1 | S11: =O11-('PV Production'!$D$8*'Energy Plans Analysis 2023'!M11/100)-('PV Production'!$D$7*'Energy Plans Analysis 2023'!C11/100) -> 1060.24 | T11: =O11-('PV Production'!$C$8*'Energy Plans Analysis 2023'!M11/100)-('PV Production'!$C$7*'Energy Plans Analysis 2023'!C11/100) -> 992.38 | U11: =O11-('PV Production'!$B$8*'Energy Plans Analysis 2023'!M11/100)-('PV Production'!$B$7*'Energy Plans Analysis 2023'!C11/100) -> 924.52
A12: Energia | B12: Rural Nightsaver | C12: 40.61 | D12: 19.48 | E12: 40.61 | F12: 19.48 | G12: 377.06 | I12: =(Useage!$D$10+Useage!$F$10)*'Energy Plans Analysis 2023'!C12/100 -> 1263.1994 | J12: =Useage!$C$10*'Energy Plans Analysis 2023'!D12/100 -> 250.21607 | K12: =Useage!$E$10*'Energy Plans Analysis 2023'!E12/100 -> 245.67456 | L12: =K12+J12+I12+G12 -> 2136.1501 | M12: 24 | O12: =L12+('EV Charging'!$B$4*F12/100) -> 2467.3101 | Q12: =O12-('PV Production'!$F$8*'Energy Plans Analysis 2023'!M12/100)-('PV Production'!$F$7*'Energy Plans Analysis 2023'!C12/100) -> 787.45006 | R12: =O12-('PV Production'!$E$8*'Energy Plans Analysis 2023'!M12/100)-('PV Production'!$E$7*'Energy Plans Analysis 2023'!C12/100) -> 701.07806 | S12: =O12-('PV Production'!$D$8*'Energy Plans Analysis 2023'!M12/100)-('PV Production'!$D$7*'Energy Plans Analysis 2023'!C12/100) -> 614.70606 | T12: =O12-('PV Production'!$C$8*'Energy Plans Analysis 2023'!M12/100)-('PV Production'!$C$7*'Energy Plans Analysis 2023'!C12/100) -> 528.33406 | U12: =O12-('PV Production'!$B$8*'Energy Plans Analysis 2023'!M12/100)-('PV Production'!$B$7*'Energy Plans Analysis 2023'!C12/100) -> 441.96206
A13: Energia | B13: Rural Night Storage | C13: 37.05 | D13: 19.07 | E13: 37.05 | F13: 19.07 | G13: 304.48 | I13: =(Useage!$D$10+Useage!$F$10)*'Energy Plans Analysis 2023'!C13/100 -> 1152.4634 | J13: =Useage!$C$10*'Energy Plans Analysis 2023'!D13/100 -> 244.94972 | K13: =Useage!$E$10*'Energy Plans Analysis 2023'!E13/100 -> 224.13795 | L13: =K13+J13+I13+G13 -> 1926.0311 | M13: 24 | O13: =L13+('EV Charging'!$B$4*F13/100) -> 2250.2211 | Q13: =O13-('PV Production'!$F$8*'Energy Plans Analysis 2023'!M13/100)-('PV Production'!$F$7*'Energy Plans Analysis 2023'!C13/100) -> 662.92108 | R13: =O13-('PV Production'!$E$8*'Energy Plans Analysis 2023'!M13/100)-('PV Production'!$E$7*'Energy Plans Analysis 2023'!C13/100) -> 595.06108 | S13: =O13-('PV Production'!$D$8*'Energy Plans Analysis 2023'!M13/100)-('PV Production'!$D$7*'Energy Plans Analysis 2023'!C13/100) -> 527.20108 | T13: =O13-('PV Production'!$C$8*'Energy Plans Analysis 2023'!M13/100)-('PV Production'!$C$7*'Energy Plans Analysis 2023'!C13/100) -> 459.34108 | U13: =O13-('PV Production'!$B$8*'Energy Plans Analysis 2023'!M13/100)-('PV Production'!$B$7*'Energy Plans Analysis 2023'!C13/100) -> 391.48108
A14: Energia | B14: Rural Smart Meter | C14: 36.6 | D14: 20.9 | E14: 38.36 | F14: 20.9 | G14: 300.91 | I14: =(Useage!$D$10+Useage!$F$10)*'Energy Plans Analysis 2023'!C14/100 -> 1138.4659 | J14: =Useage!$C$10*'Energy Plans Analysis 2023'!D14/100 -> 268.45564 | K14: =Useage!$E$10*'Energy Plans Analysis 2023'!E14/100 -> 232.06294 | L14: =K14+J14+I14+G14 -> 1939.8945 | M14: 24 | O14: =L14+('EV Charging'!$B$4*F14/100) -> 2295.1945 | Q14: =O14-('PV Production'!$F$8*'Energy Plans Analysis 2023'!M14/100)-('PV Production'!$F$7*'Energy Plans Analysis 2023'!C14/100) -> 719.59446 | R14: =O14-('PV Production'!$E$8*'Energy Plans Analysis 2023'!M14/100)-('PV Production'!$E$7*'Energy Plans Analysis 2023'!C14/100) -> 654.07446 | S14: =O14-('PV Production'!$D$8*'Energy Plans Analysis 2023'!M14/100)-('PV Production'!$D$7*'Energy Plans Analysis 2023'!C14/100) -> 588.55446 | T14: =O14-('PV Production'!$C$8*'Energy Plans Analysis 2023'!M14/100)-('PV Production'!$C$7*'Energy Plans Analysis 2023'!C14/100) -> 523.03446 | U14: =O14-('PV Production'!$B$8*'Energy Plans Analysis 2023'!M14/100)-('PV Production'!$B$7*'Energy Plans Analysis 2023'!C14/100) -> 457.51446
... A44: Community Power | B44: Smart | C44: 45.53 | D44: 25.2 | E44: 46.6 | F44: 25.2 | G44: 277.95 | I44: =(Useage!$D$10+Useage!$F$10)*'Energy Plans Analysis 2023'!C44/100 -> 1416.2391 | J44: =Useage!$C$10*'Energy Plans Analysis 2023'!D44/100 -> 323.68814 | K44: =Useage!$E$10*'Energy Plans Analysis 2023'!E44/100 -> 281.9117 | L44: =K44+J44+I44+G44 -> 2299.789 | M44: 0 | O44: =L44+('EV Charging'!$B$4*F44/100) -> 2728.189 | Q44: =O44-('PV Production'!$F$8*'Energy Plans Analysis 2023'!M44/100)-('PV Production'!$F$7*'Energy Plans Analysis 2023'!C44/100) -> 1544.409 | R44: =O44-('PV Production'!$E$8*'Energy Plans Analysis 2023'!M44/100)-('PV Production'!$E$7*'Energy Plans Analysis 2023'!C44/100) -> 1307.653 | S44: =O44-('PV Production'!$D$8*'Energy Plans Analysis 2023'!M44/100)-('PV Production'!$D$7*'Energy Plans Analysis 2023'!C44/100) -> 1070.897 | T44: =O44-('PV Production'!$C$8*'Energy Plans Analysis 2023'!M44/100)-('PV Production'!$C$7*'Energy Plans Analysis 2023'!C44/100) -> 834.14096 | U44: =O44-('PV Production'!$B$8*'Energy Plans Analysis 2023'!M44/100)-('PV Production'!$B$7*'Energy Plans Analysis 2023'!C44/100) -> 597.38496
A45: Waterpower | B45: Rural 24hr Standard | C45: 38.11 | D45: 38.11 | E45: 38.11 | F45: 38.11 | G45: 386.11 | I45: =(Useage!$D$10+Useage!$F$10)*'Energy Plans Analysis 2023'!C45/100 -> 1185.4354 | J45: =Useage!$C$10*'Energy Plans Analysis 2023'!D45/100 -> 489.51409 | K45: =Useage!$E$10*'Energy Plans Analysis 2023'!E45/100 -> 230.55054 | L45: =K45+J45+I45+G45 -> 2291.61 | M45: Unknown | O45: =L45+('EV Charging'!$B$4*F45/100) -> 2939.48 | Q45: =O45-('PV Production'!$F$8*'Energy Plans Analysis 2023'!M45/100)-('PV Production'!$F$7*'Energy Plans Analysis 2023'!C45/100) -> #VALUE! | R45: =O45-('PV Production'!$E$8*'Energy Plans Analysis 2023'!M45/100)-('PV Production'!$E$7*'Energy Plans Analysis 2023'!C45/100) -> #VALUE! | S45: =O45-('PV Production'!$D$8*'Energy Plans Analysis 2023'!M45/100)-('PV Production'!$D$7*'Energy Plans Analysis 2023'!C45/100) -> #VALUE! | T45: =O45-('PV Production'!$C$8*'Energy Plans Analysis 2023'!M45/100)-('PV Production'!$C$7*'Energy Plans Analysis 2023'!C45/100) -> #VALUE! | U45: =O45-('PV Production'!$B$8*'Energy Plans Analysis 2023'!M45/100)-('PV Production'!$B$7*'Energy Plans Analysis 2023'!C45/100) -> #VALUE!
A46: Waterpower | B46: Rural Day/Night Standard | C46: 41.28 | D46: 27.14 | E46: 41.28 | F46: 27.14 | G46: 386.11 | I46: =(Useage!$D$10+Useage!$F$10)*'Energy Plans Analysis 2023'!C46/100 -> 1284.0402 | J46: =Useage!$C$10*'Energy Plans Analysis 2023'!D46/100 -> 348.60699 | K46: =Useage!$E$10*'Energy Plans Analysis 2023'!E46/100 -> 249.72779 | L46: =K46+J46+I46+G46 -> 2268.485 | M46: Unknown | O46: =L46+('EV Charging'!$B$4*F46/100) -> 2729.865 | Q46: =O46-('PV Production'!$F$8*'Energy Plans Analysis 2023'!M46/100)-('PV Production'!$F$7*'Energy Plans Analysis 2023'!C46/100) -> #VALUE! | R46: =O46-('PV Production'!$E$8*'Energy Plans Analysis 2023'!M46/100)-('PV Production'!$E$7*'Energy Plans Analysis 2023'!C46/100) -> #VALUE! | S46: =O46-('PV Production'!$D$8*'Energy Plans Analysis 2023'!M46/100)-('PV Production'!$D$7*'Energy Plans Analysis 2023'!C46/100) -> #VALUE! | T46: =O46-('PV Production'!$C$8*'Energy Plans Analysis 2023'!M46/100)-('PV Production'!$C$7*'Energy Plans Analysis 2023'!C46/100) -> #VALUE! | U46: =O46-('PV Production'!$B$8*'Energy Plans Analysis 2023'!M46/100)-('PV Production'!$B$7*'Energy Plans Analysis 2023'!C46/100) -> #VALUE!
A47: Waterpower | B47: Rural Smart Meter | C47: 40.2 | D47: 25.94 | E47: 42.38 | F47: 25.94 | G47: 360.45 | I47: =(Useage!$D$10+Useage!$F$10)*'Energy Plans Analysis 2023'!C47/100 -> 1250.4461 | J47: =Useage!$C$10*'Energy Plans Analysis 2023'!D47/100 -> 333.19327 | K47: =Useage!$E$10*'Energy Plans Analysis 2023'!E47/100 -> 256.38236 | L47: =K47+J47+I47+G47 -> 2200.4718 | M47: Unknown | O47: =L47+('EV Charging'!$B$4*F47/100) -> 2641.4518 | Q47: =O47-('PV Production'!$F$8*'Energy Plans Analysis 2023'!M47/100)-('PV Production'!$F$7*'Energy Plans Analysis 2023'!C47/100) -> #VALUE! | R47: =O47-('PV Production'!$E$8*'Energy Plans Analysis 2023'!M47/100)-('PV Production'!$E$7*'Energy Plans Analysis 2023'!C47/100) -> #VALUE! | S47: =O47-('PV Production'!$D$8*'Energy Plans Analysis 2023'!M47/100)-('PV Production'!$D$7*'Energy Plans Analysis 2023'!C47/100) -> #VALUE! | T47: =O47-('PV Production'!$C$8*'Energy Plans Analysis 2023'!M47/100)-('PV Production'!$C$7*'Energy Plans Analysis 2023'!C47/100) -> #VALUE! | U47: =O47-('PV Production'!$B$8*'Energy Plans Analysis 2023'!M47/100)-('PV Production'!$B$7*'Energy Plans Analysis 2023'!C47/100) -> #VALUE!
A53: Day-rate hours are 8:00am – 11:00pm in the winter and 9:00 am – 12:00 midnight in the summer.
A54: Night-rate hours are 11:00pm – 8:00am in the winter and 12 midnight – 9:00am in the summer.
A56: Day 8am – 5pm and 7pm – 11pm
A57: Night 11pm – 8am
A58: Peak 5pm – 7pm
A61: day | B61: 8am to 5pm | C61: 7pm to 11pm
A62: night | B62: 11pm to 8am
A63: peak | B63: 5pm to 7pm

Sheet Analysis with 2 EV cars
A1: Favourable Plans for me (Manual Colouring) | C1: Restricted Times | L1: Under 2k | O1: Under 2.5k (ish) | Q1: Cost based on PV usage versus feed in
A2: Company | B2: Plan Name | C2: Day Rate | D2: Night Rate | E2: Peak Rate | F2: Night Boost Rate | G2: Standing Charge | I2: Day Cost | J2: Night Cost | K2: Peak Cost | L2: Total Cost | M2: Feed in Tariff | O2: Total Cost+2800KWH @ night | Q2: PV 50/50 | R2: PV60/40 | S2: PV70/30 | T2: PV80/20 | U2: PV90/10
A3: SSE Airtricity | B3: Rural 24hr | C3: 38.59 | D3: 38.59 | E3: 38.59 | F3: 38.59 | G3: 302.48 | I3: =(Useage!$D$10+Useage!$F$10)*'Energy Plans Analysis 2023'!C3/100 -> 1200.3661 | J3: =Useage!$C$10*'Energy Plans Analysis 2023'!D3/100 -> 495.67958 | K3: =Useage!$E$10*'Energy Plans Analysis 2023'!E3/100 -> 233.45435 | L3: =K3+J3+I3+G3 -> 2231.98 | M3: 24 | O3: =L3+('EV Charging'!$B$5*F3/100) -> 3312.5 | Q3: =O3-('PV Production'!$F$8*'Energy Plans Analysis 2023'!M3/100)-('PV Production'!$F$7*'Energy Plans Analysis 2023'!C3/100) -> 1685.16 | R3: =O3-('PV Production'!$E$8*'Energy Plans Analysis 2023'!M3/100)-('PV Production'!$E$7*'Energy Plans Analysis 2023'!C3/100) -> 1609.292 | S3: =O3-('PV Production'!$D$8*'Energy Plans Analysis 2023'!M3/100)-('PV Production'!$D$7*'Energy Plans Analysis 2023'!C3/100) -> 1533.424 | T3: =O3-('PV Production'!$C$8*'Energy Plans Analysis 2023'!M3/100)-('PV Production'!$C$7*'Energy Plans Analysis 2023'!C3/100) -> 1457.556 | U3: =O3-('PV Production'!$B$8*'Energy Plans Analysis 2023'!M3/100)-('PV Production'!$B$7*'Energy Plans Analysis 2023'!C3/100) -> 1381.688
A4: SSE Airtricity | B4: Rural Nightsaver | C4: 39.42 | D4: 24.46 | E4: 29.42 | F4: 24.46 | G4: 377.01 | I4: =(Useage!$D$10+Useage!$F$10)*'Energy Plans Analysis 2023'!C4/100 -> 1226.1837 | J4: =Useage!$C$10*'Energy Plans Analysis 2023'!D4/100 -> 314.18301 | K4: =Useage!$E$10*'Energy Plans Analysis 2023'!E4/100 -> 177.97945 | L4: =K4+J4+I4+G4 -> 2095.3562 | M4: 24 | O4: =L4+('EV Charging'!$B$5*F4/100) -> 2780.2362 | Q4: =O4-('PV Production'!$F$8*'Energy Plans Analysis 2023'!M4/100)-('PV Production'!$F$7*'Energy Plans Analysis 2023'!C4/100) -> 1131.3162 | R4: =O4-('PV Production'!$E$8*'Energy Plans Analysis 2023'!M4/100)-('PV Production'!$E$7*'Energy Plans Analysis 2023'!C4/100) -> 1051.1322 | S4: =O4-('PV Production'!$D$8*'Energy Plans Analysis 2023'!M4/100)-('PV Production'!$D$7*'Energy Plans Analysis 2023'!C4/100) -> 970.94821 | T4: =O4-('PV Production'!$C$8*'Energy Plans Analysis 2023'!M4/100)-('PV Production'!$C$7*'Energy Plans Analysis 2023'!C4/100) -> 890.76421 | U4: =O4-('PV Production'!$B$8*'Energy Plans Analysis 2023'!M4/100)-('PV Production'!$B$7*'Energy Plans Analysis 2023'!C4/100) -> 810.58021
A5: SSE Airtricity | B5: Rural Smart Meter | C5: 40.29 | D5: 26.14 | E5: 50.9 | F5: 26.14 | G5: 302.48 | I5: =(Useage!$D$10+Useage!$F$10)*'Energy Plans Analysis 2023'!C5/100 -> 1253.2456 | J5: =Useage!$C$10*'Energy Plans Analysis 2023'!D5/100 -> 335.76222 | K5: =Useage!$E$10*'Energy Plans Analysis 2023'!E5/100 -> 307.92502 | L5: =K5+J5+I5+G5 -> 2199.4129 | M5: 24 | O5: =L5+('EV Charging'!$B$5*F5/100) -> 2931.3329 | Q5: =O5-('PV Production'!$F$8*'Energy Plans Analysis 2023'!M5/100)-('PV Production'!$F$7*'Energy Plans Analysis 2023'!C5/100) -> 1259.7929 | R5: =O5-('PV Production'!$E$8*'Energy Plans Analysis 2023'!M5/100)-('PV Production'!$E$7*'Energy Plans Analysis 2023'!C5/100) -> 1175.0849 | S5: =O5-('PV Production'!$D$8*'Energy Plans Analysis 2023'!M5/100)-('PV Production'!$D$7*'Energy Plans Analysis 2023'!C5/100) -> 1090.3769 | T5: =O5-('PV Production'!$C$8*'Energy Plans Analysis 2023'!M5/100)-('PV Production'!$C$7*'Energy Plans Analysis 2023'!C5/100) -> 1005.6689 | U5: =O5-('PV Production'!$B$8*'Energy Plans Analysis 2023'!M5/100)-('PV Production'!$B$7*'Energy Plans Analysis 2023'!C5/100) -> 920.96088
A6: SSE Airtricity | B6: Smart Night Boost | C6: 48.3 | D6: 27.35 | E6: 64.92 | F6: 10.55 | G6: 367.26 | I6: =(Useage!$D$10+Useage!$F$10)*'Energy Plans Analysis 2023'!C6/100 -> 1502.4017 | J6: =Useage!$C$10*'Energy Plans Analysis 2023'!D6/100 -> 351.30439 | K6: =Useage!$E$10*'Energy Plans Analysis 2023'!E6/100 -> 392.74051 | L6: =K6+J6+I6+G6 -> 2613.7066 | M6: 24 | O6: =L6+('EV Charging'!$B$5*F6/100) -> 2909.1066 | Q6: =O6-('PV Production'!$F$8*'Energy Plans Analysis 2023'!M6/100)-('PV Production'!$F$7*'Energy Plans Analysis 2023'!C6/100) -> 1029.3066 | R6: =O6-('PV Production'!$E$8*'Energy Plans Analysis 2023'!M6/100)-('PV Production'!$E$7*'Energy Plans Analysis 2023'!C6/100) -> 902.9466 | S6: =O6-('PV Production'!$D$8*'Energy Plans Analysis 2023'!M6/100)-('PV Production'!$D$7*'Energy Plans Analysis 2023'!C6/100) -> 776.5866 | T6: =O6-('PV Production'!$C$8*'Energy Plans Analysis 2023'!M6/100)-('PV Production'!$C$7*'Energy Plans Analysis 2023'!C6/100) -> 650.2266 | U6: =O6-('PV Production'!$B$8*'Energy Plans Analysis 2023'!M6/100)-('PV Production'!$B$7*'Energy Plans Analysis 2023'!C6/100) -> 523.8666
A7: Pinergy | B7: Standard Smart Meter | C7: 41.24 | D7: 31.48 | E7: 44.32 | F7: 31.48 | G7: 283.47 | I7: =(Useage!$D$10+Useage!$F$10)*'Energy Plans Analysis 2023'!C7/100 -> 1282.796 | J7: =Useage!$C$10*'Energy Plans Analysis 2023'!D7/100 -> 404.35328 | K7: =Useage!$E$10*'Energy Plans Analysis 2023'!E7/100 -> 268.1186 | L7: =K7+J7+I7+G7 -> 2238.7379 | M7: 21 | O7: =L7+('EV Charging'!$B$5*F7/100) -> 3120.1779 | Q7: =O7-('PV Production'!$F$8*'Energy Plans Analysis 2023'!M7/100)-('PV Production'!$F$7*'Energy Plans Analysis 2023'!C7/100) -> 1501.9379 | R7: =O7-('PV Production'!$E$8*'Energy Plans Analysis 2023'!M7/100)-('PV Production'!$E$7*'Energy Plans Analysis 2023'!C7/100) -> 1396.6899 | S7: =O7-('PV Production'!$D$8*'Energy Plans Analysis 2023'!M7/100)-('PV Production'!$D$7*'Energy Plans Analysis 2023'!C7/100) -> 1291.4419 | T7: =O7-('PV Production'!$C$8*'Energy Plans Analysis 2023'!M7/100)-('PV Production'!$C$7*'Energy Plans Analysis 2023'!C7/100) -> 1186.1939 | U7: =O7-('PV Production'!$B$8*'Energy Plans Analysis 2023'!M7/100)-('PV Production'!$B$7*'Energy Plans Analysis 2023'!C7/100) -> 1080.9459
A8: Pinergy | B8: Working From Home Tariff | C8: 28.97 | D8: 41.39 | E8: 41.39 | F8: 41.39 | G8: 283.47 | I8: =(Useage!$D$10+Useage!$F$10)*'Energy Plans Analysis 2023'!C8/100 -> 901.12996 | J8: =Useage!$C$10*'Energy Plans Analysis 2023'!D8/100 -> 531.64492 | K8: =Useage!$E$10*'Energy Plans Analysis 2023'!E8/100 -> 250.39325 | L8: =K8+J8+I8+G8 -> 1966.6381 | M8: 21 | O8: =L8+('EV Charging'!$B$5*F8/100) -> 3125.5581 | Q8: =O8-('PV Production'!$F$8*'Energy Plans Analysis 2023'!M8/100)-('PV Production'!$F$7*'Energy Plans Analysis 2023'!C8/100) -> 1826.3381 | R8: =O8-('PV Production'!$E$8*'Energy Plans Analysis 2023'!M8/100)-('PV Production'!$E$7*'Energy Plans Analysis 2023'!C8/100) -> 1784.8941 | S8: =O8-('PV Production'!$D$8*'Energy Plans Analysis 2023'!M8/100)-('PV Production'!$D$7*'Energy Plans Analysis 2023'!C8/100) -> 1743.4501 | T8: =O8-('PV Production'!$C$8*'Energy Plans Analysis 2023'!M8/100)-('PV Production'!$C$7*'Energy Plans Analysis 2023'!C8/100) -> 1702.0061 | U8: =O8-('PV Production'!$B$8*'Energy Plans Analysis 2023'!M8/100)-('PV Production'!$B$7*'Energy Plans Analysis 2023'!C8/100) -> 1660.5621
A9: Pinergy | B9: Family Time | C9: 24.83 | D9: 41.39 | E9: 41.39 | F9: 41.39 | G9: 283.47 | I9: =(Useage!$D$10+Useage!$F$10)*'Energy Plans Analysis 2023'!C9/100 -> 772.35267 | J9: =Useage!$C$10*'Energy Plans Analysis 2023'!D9/100 -> 531.64492 | K9: =Useage!$E$10*'Energy Plans Analysis 2023'!E9/100 -> 250.39325 | L9: =K9+J9+I9+G9 -> 1837.8608 | M9: 21 | O9: =L9+('EV Charging'!$B$5*F9/100) -> 2996.7808 | Q9: =O9-('PV Production'!$F$8*'Energy Plans Analysis 2023'!M9/100)-('PV Production'!$F$7*'Energy Plans Analysis 2023'!C9/100) -> 1805.2008 | R9: =O9-('PV Production'!$E$8*'Energy Plans Analysis 2023'!M9/100)-('PV Production'!$E$7*'Energy Plans Analysis 2023'!C9/100) -> 1785.2848 | S9: =O9-('PV Production'!$D$8*'Energy Plans Analysis 2023'!M9/100)-('PV Production'!$D$7*'Energy Plans Analysis 2023'!C9/100) -> 1765.3688 | T9: =O9-('PV Production'!$C$8*'Energy Plans Analysis 2023'!M9/100)-('PV Production'!$C$7*'Energy Plans Analysis 2023'!C9/100) -> 1745.4528 | U9: =O9-('PV Production'!$B$8*'Energy Plans Analysis 2023'!M9/100)-('PV Production'!$B$7*'Energy Plans Analysis 2023'!C9/100) -> 1725.5368
A10: Pinergy | B10: EV Drive Time | C10: 41.39 | D10: 41.39 | E10: 41.39 | F10: 5.45 | G10: 283.47 | I10: =(Useage!$D$10+Useage!$F$10)*'Energy Plans Analysis 2023'!C10/100 -> 1287.4618 | J10: =Useage!$C$10*'Energy Plans Analysis 2023'!D10/100 -> 531.64492 | K10: =Useage!$E$10*'Energy Plans Analysis 2023'!E10/100 -> 250.39325 | L10: =K10+J10+I10+G10 -> 2352.97 | M10: 21 | O10: =L10+('EV Charging'!$B$5*F10/100) -> 2505.57 | Q10: =O10-('PV Production'!$F$8*'Energy Plans Analysis 2023'!M10/100)-('PV Production'!$F$7*'Energy Plans Analysis 2023'!C10/100) -> 883.43 | R10: =O10-('PV Production'!$E$8*'Energy Plans Analysis 2023'!M10/100)-('PV Production'!$E$7*'Energy Plans Analysis 2023'!C10/100) -> 777.402 | S10: =O10-('PV Production'!$D$8*'Energy Plans Analysis 2023'!M10/100)-('PV Production'!$D$7*'Energy Plans Analysis 2023'!C10/100) -> 671.374 | T10: =O10-('PV Production'!$C$8*'Energy Plans Analysis 2023'!M10/100)-('PV Production'!$C$7*'Energy Plans Analysis 2023'!C10/100) -> 565.346 | U10: =O10-('PV Production'!$B$8*'Energy Plans Analysis 2023'!M10/100)-('PV Production'!$B$7*'Energy Plans Analysis 2023'!C10/100) -> 459.318
A11: Energia | B11: Rural 24hr | C11: 37.05 | D11: 37.05 | E11: 37.05 | F11: 37.05 | G11: 300.91 | I11: =(Useage!$D$10+Useage!$F$10)*'Energy Plans Analysis 2023'!C11/100 -> 1152.4634 | J11: =Useage!$C$10*'Energy Plans Analysis 2023'!D11/100 -> 475.89863 | K11: =Useage!$E$10*'Energy Plans Analysis 2023'!E11/100 -> 224.13795 | L11: =K11+J11+I11+G11 -> 2153.41 | M11: 24 | O11: =L11+('EV Charging'!$B$5*F11/100) -> 3190.81 | Q11: =O11-('PV Production'!$F$8*'Energy Plans Analysis 2023'!M11/100)-('PV Production'!$F$7*'Energy Plans Analysis 2023'!C11/100) -> 1603.51 | R11: =O11-('PV Production'!$E$8*'Energy Plans Analysis 2023'!M11/100)-('PV Production'!$E$7*'Energy Plans Analysis 2023'!C11/100) -> 1535.65 | S11: =O11-('PV Production'!$D$8*'Energy Plans Analysis 2023'!M11/100)-('PV Production'!$D$7*'Energy Plans Analysis 2023'!C11/100) -> 1467.79 | T11: =O11-('PV Production'!$C$8*'Energy Plans Analysis 2023'!M11/100)-('PV Production'!$C$7*'Energy Plans Analysis 2023'!C11/100) -> 1399.93 | U11: =O11-('PV Production'!$B$8*'Energy Plans Analysis 2023'!M11/100)-('PV Production'!$B$7*'Energy Plans Analysis 2023'!C11/100) -> 1332.07
A12: Energia | B12: Rural Nightsaver | C12: 40.61 | D12: 19.48 | E12: 40.61 | F12: 19.48 | G12: 377.06 | I12: =(Useage!$D$10+Useage!$F$10)*'Energy Plans Analysis 2023'!C12/100 -> 1263.1994 | J12: =Useage!$C$10*'Energy Plans Analysis 2023'!D12/100 -> 250.21607 | K12: =Useage!$E$10*'Energy Plans Analysis 2023'!E12/100 -> 245.67456 | L12: =K12+J12+I12+G12 -> 2136.1501 | M12: 24 | O12: =L12+('EV Charging'!$B$5*F12/100) -> 2681.5901 | Q12: =O12-('PV Production'!$F$8*'Energy Plans Analysis 2023'!M12/100)-('PV Production'!$F$7*'Energy Plans Analysis 2023'!C12/100) -> 1001.7301 | R12: =O12-('PV Production'!$E$8*'Energy Plans Analysis 2023'!M12/100)-('PV Production'!$E$7*'Energy Plans Analysis 2023'!C12/100) -> 915.35806 | S12: =O12-('PV Production'!$D$8*'Energy Plans Analysis 2023'!M12/100)-('PV Production'!$D$7*'Energy Plans Analysis 2023'!C12/100) -> 828.98606 | T12: =O12-('PV Production'!$C$8*'Energy Plans Analysis 2023'!M12/100)-('PV Production'!$C$7*'Energy Plans Analysis 2023'!C12/100) -> 742.61406 | U12: =O12-('PV Production'!$B$8*'Energy Plans Analysis 2023'!M12/100)-('PV Production'!$B$7*'Energy Plans Analysis 2023'!C12/100) -> 656.24206
A13: Energia | B13: Rural Night Storage | C13: 37.05 | D13: 19.07 | E13: 37.05 | F13: 19.07 | G13: 304.48 | I13: =(Useage!$D$10+Useage!$F$10)*'Energy Plans Analysis 2023'!C13/100 -> 1152.4634 | J13: =Useage!$C$10*'Energy Plans Analysis 2023'!D13/100 -> 244.94972 | K13: =Useage!$E$10*'Energy Plans Analysis 2023'!E13/100 -> 224.13795 | L13: =K13+J13+I13+G13 -> 1926.0311 | M13: 24 | O13: =L13+('EV Charging'!$B$5*F13/100) -> 2459.9911 | Q13: =O13-('PV Production'!$F$8*'Energy Plans Analysis 2023'!M13/100)-('PV Production'!$F$7*'Energy Plans Analysis 2023'!C13/100) -> 872.69108 | R13: =O13-('PV Production'!$E$8*'Energy Plans Analysis 2023'!M13/100)-('PV Production'!$E$7*'Energy Plans Analysis 2023'!C13/100) -> 804.83108 | S13: =O13-('PV Production'!$D$8*'Energy Plans Analysis 2023'!M13/100)-('PV Production'!$D$7*'Energy Plans Analysis 2023'!C13/100) -> 736.97108 | T13: =O13-('PV Production'!$C$8*'Energy Plans Analysis 2023'!M13/100)-('PV Production'!$C$7*'Energy Plans Analysis 2023'!C13/100) -> 669.11108 | U13: =O13-('PV Production'!$B$8*'Energy Plans Analysis 2023'!M13/100)-('PV Production'!$B$7*'Energy Plans Analysis 2023'!C13/100) -> 601.25108
A14: Energia | B14: Rural Smart Meter | C14: 36.6 | D14: 20.9 | E14: 38.36 | F14: 20.9 | G14: 300.91 | I14: =(Useage!$D$10+Useage!$F$10)*'Energy Plans Analysis 2023'!C14/100 -> 1138.4659 | J14: =Useage!$C$10*'Energy Plans Analysis 2023'!D14/100 -> 268.45564 | K14: =Useage!$E$10*'Energy Plans Analysis 2023'!E14/100 -> 232.06294 | L14: =K14+J14+I14+G14 -> 1939.8945 | M14: 24 | O14: =L14+('EV Charging'!$B$5*F14/100) -> 2525.0945 | Q14: =O14-('PV Production'!$F$8*'Energy Plans Analysis 2023'!M14/100)-('PV Production'!$F$7*'Energy Plans Analysis 2023'!C14/100) -> 949.49446 | R14: =O14-('PV Production'!$E$8*'Energy Plans Analysis 2023'!M14/100)-('PV Production'!$E$7*'Energy Plans Analysis 2023'!C14/100) -> 883.97446 | S14: =O14-('PV Production'!$D$8*'Energy Plans Analysis 2023'!M14/100)-('PV Production'!$D$7*'Energy Plans Analysis 2023'!C14/100) -> 818.45446 | T14: =O14-('PV Production'!$C$8*'Energy Plans Analysis 2023'!M14/100)-('PV Production'!$C$7*'Energy Plans Analysis 2023'!C14/100) -> 752.93446 | U14: =O14-('PV Production'!$B$8*'Energy Plans Analysis 2023'!M14/100)-('PV Production'!$B$7*'Energy Plans Analysis 2023'!C14/100) -> 687.41446
... A44: Community Power | B44: Smart | C44: 45.53 | D44: 25.2 | E44: 46.6 | F44: 25.2 | G44: 277.95 | I44: =(Useage!$D$10+Useage!$F$10)*'Energy Plans Analysis 2023'!C44/100 -> 1416.2391 | J44: =Useage!$C$10*'Energy Plans Analysis 2023'!D44/100 -> 323.68814 | K44: =Useage!$E$10*'Energy Plans Analysis 2023'!E44/100 -> 281.9117 | L44: =K44+J44+I44+G44 -> 2299.789 | M44: 0 | O44: =L44+('EV Charging'!$B$5*F44/100) -> 3005.389 | Q44: =O44-('PV Production'!$F$8*'Energy Plans Analysis 2023'!M44/100)-('PV Production'!$F$7*'Energy Plans Analysis 2023'!C44/100) -> 1821.609 | R44: =O44-('PV Production'!$E$8*'Energy Plans Analysis 2023'!M44/100)-('PV Production'!$E$7*'Energy Plans Analysis 2023'!C44/100) -> 1584.853 | S44: =O44-('PV Production'!$D$8*'Energy Plans Analysis 2023'!M44/100)-('PV Production'!$D$7*'Energy Plans Analysis 2023'!C44/100) -> 1348.097 | T44: =O44-('PV Production'!$C$8*'Energy Plans Analysis 2023'!M44/100)-('PV Production'!$C$7*'Energy Plans Analysis 2023'!C44/100) -> 1111.341 | U44: =O44-('PV Production'!$B$8*'Energy Plans Analysis 2023'!M44/100)-('PV Production'!$B$7*'Energy Plans Analysis 2023'!C44/100) -> 874.58496
A45: Waterpower | B45: Rural 24hr Standard | C45: 38.11 | D45: 38.11 | E45: 38.11 | F45: 38.11 | G45: 386.11 | I45: =(Useage!$D$10+Useage!$F$10)*'Energy Plans Analysis 2023'!C45/100 -> 1185.4354 | J45: =Useage!$C$10*'Energy Plans Analysis 2023'!D45/100 -> 489.51409 | K45: =Useage!$E$10*'Energy Plans Analysis 2023'!E45/100 -> 230.55054 | L45: =K45+J45+I45+G45 -> 2291.61 | M45: Unknown | O45: =L45+('EV Charging'!$B$5*F45/100) -> 3358.69 | Q45: =O45-('PV Production'!$F$8*'Energy Plans Analysis 2023'!M45/100)-('PV Production'!$F$7*'Energy Plans Analysis 2023'!C45/100) -> #VALUE! | R45: =O45-('PV Production'!$E$8*'Energy Plans Analysis 2023'!M45/100)-('PV Production'!$E$7*'Energy Plans Analysis 2023'!C45/100) -> #VALUE! | S45: =O45-('PV Production'!$D$8*'Energy Plans Analysis 2023'!M45/100)-('PV Production'!$D$7*'Energy Plans Analysis 2023'!C45/100) -> #VALUE! | T45: =O45-('PV Production'!$C$8*'Energy Plans Analysis 2023'!M45/100)-('PV Production'!$C$7*'Energy Plans Analysis 2023'!C45/100) -> #VALUE! | U45: =O45-('PV Production'!$B$8*'Energy Plans Analysis 2023'!M45/100)-('PV Production'!$B$7*'Energy Plans Analysis 2023'!C45/100) -> #VALUE!
A46: Waterpower | B46: Rural Day/Night Standard | C46: 41.28 | D46: 27.14 | E46: 41.28 | F46: 27.14 | G46: 386.11 | I46: =(Useage!$D$10+Useage!$F$10)*'Energy Plans Analysis 2023'!C46/100 -> 1284.0402 | J46: =Useage!$C$10*'Energy Plans Analysis 2023'!D46/100 -> 348.60699 | K46: =Useage!$E$10*'Energy Plans Analysis 2023'!E46/100 -> 249.72779 | L46: =K46+J46+I46+G46 -> 2268.485 | M46: Unknown | O46: =L46+('EV Charging'!$B$5*F46/100) -> 3028.405 | Q46: =O46-('PV Production'!$F$8*'Energy Plans Analysis 2023'!M46/100)-('PV Production'!$F$7*'Energy Plans Analysis 2023'!C46/100) -> #VALUE! | R46: =O46-('PV Production'!$E$8*'Energy Plans Analysis 2023'!M46/100)-('PV Production'!$E$7*'Energy Plans Analysis 2023'!C46/100) -> #VALUE! | S46: =O46-('PV Production'!$D$8*'Energy Plans Analysis 2023'!M46/100)-('PV Production'!$D$7*'Energy Plans Analysis 2023'!C46/100) -> #VALUE! | T46: =O46-('PV Production'!$C$8*'Energy Plans Analysis 2023'!M46/100)-('PV Production'!$C$7*'Energy Plans Analysis 2023'!C46/100) -> #VALUE! | U46: =O46-('PV Production'!$B$8*'Energy Plans Analysis 2023'!M46/100)-('PV Production'!$B$7*'Energy Plans Analysis 2023'!C46/100) -> #VALUE!
A47: Waterpower | B47: Rural Smart Meter | C47: 40.2 | D47: 25.94 | E47: 42.38 | F47: 25.94 | G47: 360.45 | I47: =(Useage!$D$10+Useage!$F$10)*'Energy Plans Analysis 2023'!C47/100 -> 1250.4461 | J47: =Useage!$C$10*'Energy Plans Analysis 2023'!D47/100 -> 333.19327 | K47: =Useage!$E$10*'Energy Plans Analysis 2023'!E47/100 -> 256.38236 | L47: =K47+J47+I47+G47 -> 2200.4718 | M47: Unknown | O47: =L47+('EV Charging'!$B$5*F47/100) -> 2926.7918 | Q47: =O47-('PV Production'!$F$8*'Energy Plans Analysis 2023'!M47/100)-('PV Production'!$F$7*'Energy Plans Analysis 2023'!C47/100) -> #VALUE! | R47: =O47-('PV Production'!$E$8*'Energy Plans Analysis 2023'!M47/100)-('PV Production'!$E$7*'Energy Plans Analysis 2023'!C47/100) -> #VALUE! | S47: =O47-('PV Production'!$D$8*'Energy Plans Analysis 2023'!M47/100)-('PV Production'!$D$7*'Energy Plans Analysis 2023'!C47/100) -> #VALUE! | T47: =O47-('PV Production'!$C$8*'Energy Plans Analysis 2023'!M47/100)-('PV Production'!$C$7*'Energy Plans Analysis 2023'!C47/100) -> #VALUE! | U47: =O47-('PV Production'!$B$8*'Energy Plans Analysis 2023'!M47/100)-('PV Production'!$B$7*'Energy Plans Analysis 2023'!C47/100) -> #VALUE!
A53: Day-rate hours are 8:00am – 11:00pm in the winter and 9:00 am – 12:00 midnight in the summer.
A54: Night-rate hours are 11:00pm – 8:00am in the winter and 12 midnight – 9:00am in the summer.
A56: Day 8am – 5pm and 7pm – 11pm
A57: Night 11pm – 8am
A58: Peak 5pm – 7pm
A61: day | B61: 8am to 5pm | C61: 7pm to 11pm
A62: night | B62: 11pm to 8am
A63: peak | B63: 5pm to 7pm

Sheet Summary
B1: Elec | C1: Car1 | D1: Car2 | E1: Total | F1: Saving Per Year | G1: Payback period of PV with chosen Plan
A2: Current Cost | B2: ='Energy Plans Analysis 2023'!L15 -> 1858.9063 | C2: ='EV Charging'!B14 -> 1312.3438 | D2: =C2 -> 1312.3438 | E2: =D2+C2+B2 -> 4483.5938
A3: Elec and 1 EV Car | B3: ='Energy Plans Analysis 2023'!O15 -> 2192.1063 | D3: =D2 -> 1312.3438 | E3: =D3+C3+B3 -> 3504.45 | F3: =$E$2-E3 -> 979.14375 | G3: =6500/F3 -> 6.6384532
A4: Elec and 2 EV Car | B4: ='Analysis with 2 EV cars'!O17 -> 2294.82 | E4: =D4+C4+B4 -> 2294.82 | F4: =$E$2-E4 -> 2188.7738 | G4: =6500/F4 -> 2.9696993
A5: Elec and 1 EV Car and PV | B5: ='Energy Plans Analysis 2023'!R15 -> 550.98626 | D5: =D3 -> 1312.3438 | E5: =D5+C5+B5 -> 1863.33 | F5: =$E$2-E5 -> 2620.2637 | G5: =6500/F5 -> 2.4806663
A6: Elec and 2 EV Car and PV | B6: ='Analysis with 2 EV cars'!R17 -> 653.7 | E6: =D6+C6+B6 -> 653.7 | F6: =$E$2-E6 -> 3829.8938 | G6: =6500/F6 -> 1.697175
A8: Note
A9: Captial Cost of EVs not included
