Workbook

Sheet Team Planner
C4: NAME | D4: TEAM | E4: GW 1 | F4: GW 2 | G4: GW 3 | H4: GW 4 | I4: GW 5 | J4: GW 6 | K4: GW 7 | L4: GW 8 | M4: GW 9 | N4: GW 10 | O4: GW 11 | P4: GW 12 | Q4: GW 13 | R4: GW 14 | S4: GW 15 | T4: GW 16 | U4: GW 17 | V4: GW 18 | W4: GW 19 | X4: GW 20 | Y4: GW 21 | Z4: GW 22 | AA4: GW 23 | AB4: GW 24 | AC4: GW 25 | AD4: GW 26 | AE4: GW 27 | AF4: GW 28 | AH4: GW 29 | AJ4: GW 30 | AK4: GW 31 | AL4: GW 32 | AM4: GW 33 | AN4: GW 34 | AO4: GW 35 | AP4: GW 36 | AQ4: GW 37 | AR4: GW 38
B5: GK | C5: Sanchez | D5: BHA | E5: =IF(ISBLANK(VLOOKUP($D5,Fixtures!$A:$L,3,FALSE)),"BLANK",VLOOKUP($D5,Fixtures!$A:$L,3,FALSE)) -> bur | F5: =IF(ISBLANK(VLOOKUP($D5,Fixtures!$A:$L,4,FALSE)),"BLANK",VLOOKUP($D5,Fixtures!$A:$L,4,FALSE)) -> WAT | G5: =IF(ISBLANK(VLOOKUP($D5,Fixtures!$A:$L,5,FALSE)),"BLANK",VLOOKUP($D5,Fixtures!$A:$L,5,FALSE)) -> EVE | H5: =IF(ISBLANK(VLOOKUP($D5,Fixtures!$A:$L,6,FALSE)),"BLANK",VLOOKUP($D5,Fixtures!$A:$L,6,FALSE)) -> bre | I5: =IF(ISBLANK(VLOOKUP($D5,Fixtures!$A:$L,7,FALSE)),"BLANK",VLOOKUP($D5,Fixtures!$A:$L,7,FALSE)) -> LEI | J5: =IF(ISBLANK(VLOOKUP($D5,Fixtures!$A:$L,8,FALSE)),"BLANK",VLOOKUP($D5,Fixtures!$A:$L,8,FALSE)) -> cry | K5: =IF(ISBLANK(VLOOKUP($D5,Fixtures!$A:$L,9,FALSE)),"BLANK",VLOOKUP($D5,Fixtures!$A:$L,9,FALSE)) -> ARS | L5: =IF(ISBLANK(VLOOKUP($D5,Fixtures!$A:$L,10,FALSE)),"BLANK",VLOOKUP($D5,Fixtures!$A:$L,10,FALSE)) -> nor | M5: =IF(ISBLANK(VLOOKUP($D5,Fixtures!$A:$L,11,FALSE)),"BLANK",VLOOKUP($D5,Fixtures!$A:$L,11,FALSE)) -> MCI | N5: =IF(ISBLANK(VLOOKUP($D5,Fixtures!$A:$L,12,FALSE)),"BLANK",VLOOKUP($D5,Fixtures!$A:$L,12,FALSE)) -> liv | O5: =IF(ISBLANK(VLOOKUP($D5,Fixtures!$A:$AP,13,FALSE)),"BLANK",VLOOKUP($D5,Fixtures!$A:$AP,13,FALSE)) -> NEW | P5: =IF(ISBLANK(VLOOKUP($D5,Fixtures!$A:$AP,14,FALSE)),"BLANK",VLOOKUP($D5,Fixtures!$A:$AP,14,FALSE)) -> avl | Q5: =IF(ISBLANK(VLOOKUP($D5,Fixtures!$A:$AP,15,FALSE)),"BLANK",VLOOKUP($D5,Fixtures!$A:$AP,15,FALSE)) -> LEE | R5: =IF(ISBLANK(VLOOKUP($D5,Fixtures!$A:$AP,16,FALSE)),"BLANK",VLOOKUP($D5,Fixtures!$A:$AP,16,FALSE)) -> whu | S5: =IF(ISBLANK(VLOOKUP($D5,Fixtures!$A:$AP,17,FALSE)),"BLANK",VLOOKUP($D5,Fixtures!$A:$AP,17,FALSE)) -> sou | T5: =IF(ISBLANK(VLOOKUP($D5,Fixtures!$A:$AP,18,FALSE)),"BLANK",VLOOKUP($D5,Fixtures!$A:$AP,18,FALSE)) -> TOT | U5: =IF(ISBLANK(VLOOKUP($D5,Fixtures!$A:$AP,19,FALSE)),"BLANK",VLOOKUP($D5,Fixtures!$A:$AP,19,FALSE)) -> WOL | V5: =IF(ISBLANK(VLOOKUP($D5,Fixtures!$A:$AP,20,FALSE)),"BLANK",VLOOKUP($D5,Fixtures!$A:$AP,20,FALSE)) -> mun | W5: =IF(ISBLANK(VLOOKUP($D5,Fixtures!$A:$AP,21,FALSE)),"BLANK",VLOOKUP($D5,Fixtures!$A:$AP,21,FALSE)) -> BRE | X5: =IF(ISBLANK(VLOOKUP($D5,Fixtures!$A:$AP,22,FALSE)),"BLANK",VLOOKUP($D5,Fixtures!$A:$AP,22,FALSE)) -> che | Y5: =IF(ISBLANK(VLOOKUP($D5,Fixtures!$A:$AP,22,FALSE)),"BLANK",VLOOKUP($D5,Fixtures!$A:$AP,22,FALSE)) -> che | Z5: =IF(ISBLANK(VLOOKUP($D5,Fixtures!$A:$AP,22,FALSE)),"BLANK",VLOOKUP($D5,Fixtures!$A:$AP,22,FALSE)) -> che | AA5: =IF(ISBLANK(VLOOKUP($D5,Fixtures!$A:$AP,22,FALSE)),"BLANK",VLOOKUP($D5,Fixtures!$A:$AP,22,FALSE)) -> che | AB5: =IF(ISBLANK(VLOOKUP($D5,Fixtures!$A:$AP,22,FALSE)),"BLANK",VLOOKUP($D5,Fixtures!$A:$AP,22,FALSE)) -> che | AC5: =IF(ISBLANK(VLOOKUP($D5,Fixtures!$A:$AP,22,FALSE)),"BLANK",VLOOKUP($D5,Fixtures!$A:$AP,22,FALSE)) -> che | AD5: =IF(ISBLANK(VLOOKUP($D5,Fixtures!$A:$AP,22,FALSE)),"BLANK",VLOOKUP($D5,Fixtures!$A:$AP,22,FALSE)) -> che | AE5: =IF(ISBLANK(VLOOKUP($D5,Fixtures!$A:$AP,22,FALSE)),"BLANK",VLOOKUP($D5,Fixtures!$A:$AP,22,FALSE)) -> che | AF5: =IF(ISBLANK(VLOOKUP($D5,Fixtures!$A:$AP,30,FALSE)),"BLANK",VLOOKUP($D5,Fixtures!$A:$AP,30,FALSE)) -> new | AG5: =IF(ISBLANK(VLOOKUP($D5,Fixtures!$A:$AP,31,FALSE)),"BLANK",VLOOKUP($D5,Fixtures!$A:$AP,31,FALSE)) -> BLANK | AH5: =IF(ISBLANK(VLOOKUP($D5,Fixtures!$A:$AP,32,FALSE)),"BLANK",VLOOKUP($D5,Fixtures!$A:$AP,32,FALSE)) -> LIV | AI5: =IF(ISBLANK(VLOOKUP($D5,Fixtures!$A:$AP,33,FALSE)),"BLANK",VLOOKUP($D5,Fixtures!$A:$AP,33,FALSE)) -> TOT | AJ5: =IF(ISBLANK(VLOOKUP($D5,Fixtures!$A:$AP,34,FALSE)),"BLANK",VLOOKUP($D5,Fixtures!$A:$AP,34,FALSE)) -> BLANK | AK5: =IF(ISBLANK(VLOOKUP($D5,Fixtures!$A:$AP,35,FALSE)),"BLANK",VLOOKUP($D5,Fixtures!$A:$AP,35,FALSE)) -> NOR | AL5: =IF(ISBLANK(VLOOKUP($D5,Fixtures!$A:$AP,36,FALSE)),"BLANK",VLOOKUP($D5,Fixtures!$A:$AP,36,FALSE)) -> ars | AM5: =IF(ISBLANK(VLOOKUP($D5,Fixtures!$A:$AP,37,FALSE)),"BLANK",VLOOKUP($D5,Fixtures!$A:$AP,37,FALSE)) -> tot | AN5: =IF(ISBLANK(VLOOKUP($D5,Fixtures!$A:$AP,38,FALSE)),"BLANK",VLOOKUP($D5,Fixtures!$A:$AP,38,FALSE)) -> SOU | AO5: =IF(ISBLANK(VLOOKUP($D5,Fixtures!$A:$AP,39,FALSE)),"BLANK",VLOOKUP($D5,Fixtures!$A:$AP,39,FALSE)) -> wol | AP5: =IF(ISBLANK(VLOOKUP($D5,Fixtures!$A:$AP,40,FALSE)),"BLANK",VLOOKUP($D5,Fixtures!$A:$AP,40,FALSE)) -> MUN | AQ5: =IF(ISBLANK(VLOOKUP($D5,Fixtures!$A:$AP,41,FALSE)),"BLANK",VLOOKUP($D5,Fixtures!$A:$AP,41,FALSE)) -> lee | AR5: =IF(ISBLANK(VLOOKUP($D5,Fixtures!$A:$AP,42,FALSE)),"BLANK",VLOOKUP($D5,Fixtures!$A:$AP,42,FALSE)) -> WHU
B6: GK | C6: Foster | D6: WAT | E6: =IF(ISBLANK(VLOOKUP($D6,Fixtures!$A:$L,3,FALSE)),"BLANK",VLOOKUP($D6,Fixtures!$A:$L,3,FALSE)) -> AVL | F6: =IF(ISBLANK(VLOOKUP($D6,Fixtures!$A:$L,4,FALSE)),"BLANK",VLOOKUP($D6,Fixtures!$A:$L,4,FALSE)) -> bha | G6: =IF(ISBLANK(VLOOKUP($D6,Fixtures!$A:$L,5,FALSE)),"BLANK",VLOOKUP($D6,Fixtures!$A:$L,5,FALSE)) -> tot | H6: =IF(ISBLANK(VLOOKUP($D6,Fixtures!$A:$L,6,FALSE)),"BLANK",VLOOKUP($D6,Fixtures!$A:$L,6,FALSE)) -> WOL | I6: =IF(ISBLANK(VLOOKUP($D6,Fixtures!$A:$L,7,FALSE)),"BLANK",VLOOKUP($D6,Fixtures!$A:$L,7,FALSE)) -> nor | J6: =IF(ISBLANK(VLOOKUP($D6,Fixtures!$A:$L,8,FALSE)),"BLANK",VLOOKUP($D6,Fixtures!$A:$L,8,FALSE)) -> NEW | K6: =IF(ISBLANK(VLOOKUP($D6,Fixtures!$A:$L,9,FALSE)),"BLANK",VLOOKUP($D6,Fixtures!$A:$L,9,FALSE)) -> lee | L6: =IF(ISBLANK(VLOOKUP($D6,Fixtures!$A:$L,10,FALSE)),"BLANK",VLOOKUP($D6,Fixtures!$A:$L,10,FALSE)) -> LIV | M6: =IF(ISBLANK(VLOOKUP($D6,Fixtures!$A:$L,11,FALSE)),"BLANK",VLOOKUP($D6,Fixtures!$A:$L,11,FALSE)) -> eve | N6: =IF(ISBLANK(VLOOKUP($D6,Fixtures!$A:$L,12,FALSE)),"BLANK",VLOOKUP($D6,Fixtures!$A:$L,12,FALSE)) -> SOU | O6: =IF(ISBLANK(VLOOKUP($D6,Fixtures!$A:$AP,13,FALSE)),"BLANK",VLOOKUP($D6,Fixtures!$A:$AP,13,FALSE)) -> ars | P6: =IF(ISBLANK(VLOOKUP($D6,Fixtures!$A:$AP,14,FALSE)),"BLANK",VLOOKUP($D6,Fixtures!$A:$AP,14,FALSE)) -> MUN | Q6: =IF(ISBLANK(VLOOKUP($D6,Fixtures!$A:$AP,15,FALSE)),"BLANK",VLOOKUP($D6,Fixtures!$A:$AP,15,FALSE)) -> lei | R6: =IF(ISBLANK(VLOOKUP($D6,Fixtures!$A:$AP,16,FALSE)),"BLANK",VLOOKUP($D6,Fixtures!$A:$AP,16,FALSE)) -> CHE | S6: =IF(ISBLANK(VLOOKUP($D6,Fixtures!$A:$AP,17,FALSE)),"BLANK",VLOOKUP($D6,Fixtures!$A:$AP,17,FALSE)) -> MCI | T6: =IF(ISBLANK(VLOOKUP($D6,Fixtures!$A:$AP,18,FALSE)),"BLANK",VLOOKUP($D6,Fixtures!$A:$AP,18,FALSE)) -> bre | U6: =IF(ISBLANK(VLOOKUP($D6,Fixtures!$A:$AP,19,FALSE)),"BLANK",VLOOKUP($D6,Fixtures!$A:$AP,19,FALSE)) -> bur | V6: =IF(ISBLANK(VLOOKUP($D6,Fixtures!$A:$AP,20,FALSE)),"BLANK",VLOOKUP($D6,Fixtures!$A:$AP,20,FALSE)) -> CRY | W6: =IF(ISBLANK(VLOOKUP($D6,Fixtures!$A:$AP,21,FALSE)),"BLANK",VLOOKUP($D6,Fixtures!$A:$AP,21,FALSE)) -> wol | X6: =IF(ISBLANK(VLOOKUP($D6,Fixtures!$A:$AP,22,FALSE)),"BLANK",VLOOKUP($D6,Fixtures!$A:$AP,22,FALSE)) -> WHU | AF6: =IF(ISBLANK(VLOOKUP($D6,Fixtures!$A:$AP,30,FALSE)),"BLANK",VLOOKUP($D6,Fixtures!$A:$AP,30,FALSE)) -> ARS | AG6: =IF(ISBLANK(VLOOKUP($D6,Fixtures!$A:$AP,31,FALSE)),"BLANK",VLOOKUP($D6,Fixtures!$A:$AP,31,FALSE)) -> wol | AH6: =IF(ISBLANK(VLOOKUP($D6,Fixtures!$A:$AP,32,FALSE)),"BLANK",VLOOKUP($D6,Fixtures!$A:$AP,32,FALSE)) -> sou | AI6: =IF(ISBLANK(VLOOKUP($D6,Fixtures!$A:$AP,33,FALSE)),"BLANK",VLOOKUP($D6,Fixtures!$A:$AP,33,FALSE)) -> BLANK | AJ6: =IF(ISBLANK(VLOOKUP($D6,Fixtures!$A:$AP,34,FALSE)),"BLANK",VLOOKUP($D6,Fixtures!$A:$AP,34,FALSE)) -> BLANK | AK6: =IF(ISBLANK(VLOOKUP($D6,Fixtures!$A:$AP,35,FALSE)),"BLANK",VLOOKUP($D6,Fixtures!$A:$AP,35,FALSE)) -> liv | AL6: =IF(ISBLANK(VLOOKUP($D6,Fixtures!$A:$AP,36,FALSE)),"BLANK",VLOOKUP($D6,Fixtures!$A:$AP,36,FALSE)) -> LEE | AM6: =IF(ISBLANK(VLOOKUP($D6,Fixtures!$A:$AP,37,FALSE)),"BLANK",VLOOKUP($D6,Fixtures!$A:$AP,37,FALSE)) -> BRE | AN6: =IF(ISBLANK(VLOOKUP($D6,Fixtures!$A:$AP,38,FALSE)),"BLANK",VLOOKUP($D6,Fixtures!$A:$AP,38,FALSE)) -> mci | AO6: =IF(ISBLANK(VLOOKUP($D6,Fixtures!$A:$AP,39,FALSE)),"BLANK",VLOOKUP($D6,Fixtures!$A:$AP,39,FALSE)) -> BUR | AP6: =IF(ISBLANK(VLOOKUP($D6,Fixtures!$A:$AP,40,FALSE)),"BLANK",VLOOKUP($D6,Fixtures!$A:$AP,40,FALSE)) -> cry | AQ6: =IF(ISBLANK(VLOOKUP($D6,Fixtures!$A:$AP,41,FALSE)),"BLANK",VLOOKUP($D6,Fixtures!$A:$AP,41,FALSE)) -> LEI | AR6: =IF(ISBLANK(VLOOKUP($D6,Fixtures!$A:$AP,42,FALSE)),"BLANK",VLOOKUP($D6,Fixtures!$A:$AP,42,FALSE)) -> che
B7: DEF | C7: Laporte | D7: CHE | E7: =IF(ISBLANK(VLOOKUP($D7,Fixtures!$A:$L,3,FALSE)),"BLANK",VLOOKUP($D7,Fixtures!$A:$L,3,FALSE)) -> CRY | F7: =IF(ISBLANK(VLOOKUP($D7,Fixtures!$A:$L,4,FALSE)),"BLANK",VLOOKUP($D7,Fixtures!$A:$L,4,FALSE)) -> ars | G7: =IF(ISBLANK(VLOOKUP($D7,Fixtures!$A:$L,5,FALSE)),"BLANK",VLOOKUP($D7,Fixtures!$A:$L,5,FALSE)) -> liv | H7: =IF(ISBLANK(VLOOKUP($D7,Fixtures!$A:$L,6,FALSE)),"BLANK",VLOOKUP($D7,Fixtures!$A:$L,6,FALSE)) -> AVL | I7: =IF(ISBLANK(VLOOKUP($D7,Fixtures!$A:$L,7,FALSE)),"BLANK",VLOOKUP($D7,Fixtures!$A:$L,7,FALSE)) -> tot | J7: =IF(ISBLANK(VLOOKUP($D7,Fixtures!$A:$L,8,FALSE)),"BLANK",VLOOKUP($D7,Fixtures!$A:$L,8,FALSE)) -> MCI | K7: =IF(ISBLANK(VLOOKUP($D7,Fixtures!$A:$L,9,FALSE)),"BLANK",VLOOKUP($D7,Fixtures!$A:$L,9,FALSE)) -> SOU | L7: =IF(ISBLANK(VLOOKUP($D7,Fixtures!$A:$L,10,FALSE)),"BLANK",VLOOKUP($D7,Fixtures!$A:$L,10,FALSE)) -> bre | M7: =IF(ISBLANK(VLOOKUP($D7,Fixtures!$A:$L,11,FALSE)),"BLANK",VLOOKUP($D7,Fixtures!$A:$L,11,FALSE)) -> NOR | N7: =IF(ISBLANK(VLOOKUP($D7,Fixtures!$A:$L,12,FALSE)),"BLANK",VLOOKUP($D7,Fixtures!$A:$L,12,FALSE)) -> new | O7: =IF(ISBLANK(VLOOKUP($D7,Fixtures!$A:$AP,13,FALSE)),"BLANK",VLOOKUP($D7,Fixtures!$A:$AP,13,FALSE)) -> BUR | P7: =IF(ISBLANK(VLOOKUP($D7,Fixtures!$A:$AP,14,FALSE)),"BLANK",VLOOKUP($D7,Fixtures!$A:$AP,14,FALSE)) -> lei | Q7: =IF(ISBLANK(VLOOKUP($D7,Fixtures!$A:$AP,15,FALSE)),"BLANK",VLOOKUP($D7,Fixtures!$A:$AP,15,FALSE)) -> MUN | R7: =IF(ISBLANK(VLOOKUP($D7,Fixtures!$A:$AP,16,FALSE)),"BLANK",VLOOKUP($D7,Fixtures!$A:$AP,16,FALSE)) -> wat | S7: =IF(ISBLANK(VLOOKUP($D7,Fixtures!$A:$AP,17,FALSE)),"BLANK",VLOOKUP($D7,Fixtures!$A:$AP,17,FALSE)) -> whu | T7: =IF(ISBLANK(VLOOKUP($D7,Fixtures!$A:$AP,18,FALSE)),"BLANK",VLOOKUP($D7,Fixtures!$A:$AP,18,FALSE)) -> LEE | U7: =IF(ISBLANK(VLOOKUP($D7,Fixtures!$A:$AP,19,FALSE)),"BLANK",VLOOKUP($D7,Fixtures!$A:$AP,19,FALSE)) -> EVE | V7: =IF(ISBLANK(VLOOKUP($D7,Fixtures!$A:$AP,20,FALSE)),"BLANK",VLOOKUP($D7,Fixtures!$A:$AP,20,FALSE)) -> wol | W7: =IF(ISBLANK(VLOOKUP($D7,Fixtures!$A:$AP,21,FALSE)),"BLANK",VLOOKUP($D7,Fixtures!$A:$AP,21,FALSE)) -> avl | X7: =IF(ISBLANK(VLOOKUP($D7,Fixtures!$A:$AP,22,FALSE)),"BLANK",VLOOKUP($D7,Fixtures!$A:$AP,22,FALSE)) -> BHA | AF7: =IF(ISBLANK(VLOOKUP($D7,Fixtures!$A:$AP,30,FALSE)),"BLANK",VLOOKUP($D7,Fixtures!$A:$AP,30,FALSE)) -> bur | AG7: =IF(ISBLANK(VLOOKUP($D7,Fixtures!$A:$AP,31,FALSE)),"BLANK",VLOOKUP($D7,Fixtures!$A:$AP,31,FALSE)) -> nor | AH7: =IF(ISBLANK(VLOOKUP($D7,Fixtures!$A:$AP,32,FALSE)),"BLANK",VLOOKUP($D7,Fixtures!$A:$AP,32,FALSE)) -> NEW | AI7: =IF(ISBLANK(VLOOKUP($D7,Fixtures!$A:$AP,33,FALSE)),"BLANK",VLOOKUP($D7,Fixtures!$A:$AP,33,FALSE)) -> BLANK | AJ7: =IF(ISBLANK(VLOOKUP($D7,Fixtures!$A:$AP,34,FALSE)),"BLANK",VLOOKUP($D7,Fixtures!$A:$AP,34,FALSE)) -> BLANK | AK7: =IF(ISBLANK(VLOOKUP($D7,Fixtures!$A:$AP,35,FALSE)),"BLANK",VLOOKUP($D7,Fixtures!$A:$AP,35,FALSE)) -> BRE | AL7: =IF(ISBLANK(VLOOKUP($D7,Fixtures!$A:$AP,36,FALSE)),"BLANK",VLOOKUP($D7,Fixtures!$A:$AP,36,FALSE)) -> sou | AM7: =IF(ISBLANK(VLOOKUP($D7,Fixtures!$A:$AP,37,FALSE)),"BLANK",VLOOKUP($D7,Fixtures!$A:$AP,37,FALSE)) -> lee | AN7: =IF(ISBLANK(VLOOKUP($D7,Fixtures!$A:$AP,38,FALSE)),"BLANK",VLOOKUP($D7,Fixtures!$A:$AP,38,FALSE)) -> WHU | AO7: =IF(ISBLANK(VLOOKUP($D7,Fixtures!$A:$AP,39,FALSE)),"BLANK",VLOOKUP($D7,Fixtures!$A:$AP,39,FALSE)) -> eve | AP7: =IF(ISBLANK(VLOOKUP($D7,Fixtures!$A:$AP,40,FALSE)),"BLANK",VLOOKUP($D7,Fixtures!$A:$AP,40,FALSE)) -> WOL | AQ7: =IF(ISBLANK(VLOOKUP($D7,Fixtures!$A:$AP,41,FALSE)),"BLANK",VLOOKUP($D7,Fixtures!$A:$AP,41,FALSE)) -> mun | AR7: =IF(ISBLANK(VLOOKUP($D7,Fixtures!$A:$AP,42,FALSE)),"BLANK",VLOOKUP($D7,Fixtures!$A:$AP,42,FALSE)) -> WAT
B8: DEF | C8: TAA | D8: LIV | E8: =IF(ISBLANK(VLOOKUP($D8,Fixtures!$A:$L,3,FALSE)),"BLANK",VLOOKUP($D8,Fixtures!$A:$L,3,FALSE)) -> nor | F8: =IF(ISBLANK(VLOOKUP($D8,Fixtures!$A:$L,4,FALSE)),"BLANK",VLOOKUP($D8,Fixtures!$A:$L,4,FALSE)) -> BUR | G8: =IF(ISBLANK(VLOOKUP($D8,Fixtures!$A:$L,5,FALSE)),"BLANK",VLOOKUP($D8,Fixtures!$A:$L,5,FALSE)) -> CHE | H8: =IF(ISBLANK(VLOOKUP($D8,Fixtures!$A:$L,6,FALSE)),"BLANK",VLOOKUP($D8,Fixtures!$A:$L,6,FALSE)) -> lee | I8: =IF(ISBLANK(VLOOKUP($D8,Fixtures!$A:$L,7,FALSE)),"BLANK",VLOOKUP($D8,Fixtures!$A:$L,7,FALSE)) -> CRY | J8: =IF(ISBLANK(VLOOKUP($D8,Fixtures!$A:$L,8,FALSE)),"BLANK",VLOOKUP($D8,Fixtures!$A:$L,8,FALSE)) -> bre | K8: =IF(ISBLANK(VLOOKUP($D8,Fixtures!$A:$L,9,FALSE)),"BLANK",VLOOKUP($D8,Fixtures!$A:$L,9,FALSE)) -> MCI | L8: =IF(ISBLANK(VLOOKUP($D8,Fixtures!$A:$L,10,FALSE)),"BLANK",VLOOKUP($D8,Fixtures!$A:$L,10,FALSE)) -> wat | M8: =IF(ISBLANK(VLOOKUP($D8,Fixtures!$A:$L,11,FALSE)),"BLANK",VLOOKUP($D8,Fixtures!$A:$L,11,FALSE)) -> mun | N8: =IF(ISBLANK(VLOOKUP($D8,Fixtures!$A:$L,12,FALSE)),"BLANK",VLOOKUP($D8,Fixtures!$A:$L,12,FALSE)) -> BHA | O8: =IF(ISBLANK(VLOOKUP($D8,Fixtures!$A:$AP,13,FALSE)),"BLANK",VLOOKUP($D8,Fixtures!$A:$AP,13,FALSE)) -> whu | P8: =IF(ISBLANK(VLOOKUP($D8,Fixtures!$A:$AP,14,FALSE)),"BLANK",VLOOKUP($D8,Fixtures!$A:$AP,14,FALSE)) -> ARS | Q8: =IF(ISBLANK(VLOOKUP($D8,Fixtures!$A:$AP,15,FALSE)),"BLANK",VLOOKUP($D8,Fixtures!$A:$AP,15,FALSE)) -> SOU | R8: =IF(ISBLANK(VLOOKUP($D8,Fixtures!$A:$AP,16,FALSE)),"BLANK",VLOOKUP($D8,Fixtures!$A:$AP,16,FALSE)) -> eve | S8: =IF(ISBLANK(VLOOKUP($D8,Fixtures!$A:$AP,17,FALSE)),"BLANK",VLOOKUP($D8,Fixtures!$A:$AP,17,FALSE)) -> wol | T8: =IF(ISBLANK(VLOOKUP($D8,Fixtures!$A:$AP,18,FALSE)),"BLANK",VLOOKUP($D8,Fixtures!$A:$AP,18,FALSE)) -> AVL | U8: =IF(ISBLANK(VLOOKUP($D8,Fixtures!$A:$AP,19,FALSE)),"BLANK",VLOOKUP($D8,Fixtures!$A:$AP,19,FALSE)) -> NEW | V8: =IF(ISBLANK(VLOOKUP($D8,Fixtures!$A:$AP,20,FALSE)),"BLANK",VLOOKUP($D8,Fixtures!$A:$AP,20,FALSE)) -> tot | W8: =IF(ISBLANK(VLOOKUP($D8,Fixtures!$A:$AP,21,FALSE)),"BLANK",VLOOKUP($D8,Fixtures!$A:$AP,21,FALSE)) -> LEE | X8: =IF(ISBLANK(VLOOKUP($D8,Fixtures!$A:$AP,22,FALSE)),"BLANK",VLOOKUP($D8,Fixtures!$A:$AP,22,FALSE)) -> lei | AF8: =IF(ISBLANK(VLOOKUP($D8,Fixtures!$A:$AP,30,FALSE)),"BLANK",VLOOKUP($D8,Fixtures!$A:$AP,30,FALSE)) -> WHU | AG8: =IF(ISBLANK(VLOOKUP($D8,Fixtures!$A:$AP,31,FALSE)),"BLANK",VLOOKUP($D8,Fixtures!$A:$AP,31,FALSE)) -> BLANK | AH8: =IF(ISBLANK(VLOOKUP($D8,Fixtures!$A:$AP,32,FALSE)),"BLANK",VLOOKUP($D8,Fixtures!$A:$AP,32,FALSE)) -> bha | AI8: =IF(ISBLANK(VLOOKUP($D8,Fixtures!$A:$AP,33,FALSE)),"BLANK",VLOOKUP($D8,Fixtures!$A:$AP,33,FALSE)) -> ars | AJ8: =IF(ISBLANK(VLOOKUP($D8,Fixtures!$A:$AP,34,FALSE)),"BLANK",VLOOKUP($D8,Fixtures!$A:$AP,34,FALSE)) -> BLANK | AK8: =IF(ISBLANK(VLOOKUP($D8,Fixtures!$A:$AP,35,FALSE)),"BLANK",VLOOKUP($D8,Fixtures!$A:$AP,35,FALSE)) -> WAT | AL8: =IF(ISBLANK(VLOOKUP($D8,Fixtures!$A:$AP,36,FALSE)),"BLANK",VLOOKUP($D8,Fixtures!$A:$AP,36,FALSE)) -> mci | AM8: =IF(ISBLANK(VLOOKUP($D8,Fixtures!$A:$AP,37,FALSE)),"BLANK",VLOOKUP($D8,Fixtures!$A:$AP,37,FALSE)) -> avl | AN8: =IF(ISBLANK(VLOOKUP($D8,Fixtures!$A:$AP,38,FALSE)),"BLANK",VLOOKUP($D8,Fixtures!$A:$AP,38,FALSE)) -> EVE | AO8: =IF(ISBLANK(VLOOKUP($D8,Fixtures!$A:$AP,39,FALSE)),"BLANK",VLOOKUP($D8,Fixtures!$A:$AP,39,FALSE)) -> new | AP8: =IF(ISBLANK(VLOOKUP($D8,Fixtures!$A:$AP,40,FALSE)),"BLANK",VLOOKUP($D8,Fixtures!$A:$AP,40,FALSE)) -> TOT | AQ8: =IF(ISBLANK(VLOOKUP($D8,Fixtures!$A:$AP,41,FALSE)),"BLANK",VLOOKUP($D8,Fixtures!$A:$AP,41,FALSE)) -> sou | AR8: =IF(ISBLANK(VLOOKUP($D8,Fixtures!$A:$AP,42,FALSE)),"BLANK",VLOOKUP($D8,Fixtures!$A:$AP,42,FALSE)) -> WOL
B9: DEF | C9: Livramento | D9: SOU | E9: =IF(ISBLANK(VLOOKUP($D9,Fixtures!$A:$L,3,FALSE)),"BLANK",VLOOKUP($D9,Fixtures!$A:$L,3,FALSE)) -> eve | F9: =IF(ISBLANK(VLOOKUP($D9,Fixtures!$A:$L,4,FALSE)),"BLANK",VLOOKUP($D9,Fixtures!$A:$L,4,FALSE)) -> MUN | G9: =IF(ISBLANK(VLOOKUP($D9,Fixtures!$A:$L,5,FALSE)),"BLANK",VLOOKUP($D9,Fixtures!$A:$L,5,FALSE)) -> new | H9: =IF(ISBLANK(VLOOKUP($D9,Fixtures!$A:$L,6,FALSE)),"BLANK",VLOOKUP($D9,Fixtures!$A:$L,6,FALSE)) -> WHU | I9: =IF(ISBLANK(VLOOKUP($D9,Fixtures!$A:$L,7,FALSE)),"BLANK",VLOOKUP($D9,Fixtures!$A:$L,7,FALSE)) -> mci | J9: =IF(ISBLANK(VLOOKUP($D9,Fixtures!$A:$L,8,FALSE)),"BLANK",VLOOKUP($D9,Fixtures!$A:$L,8,FALSE)) -> WOL | K9: =IF(ISBLANK(VLOOKUP($D9,Fixtures!$A:$L,9,FALSE)),"BLANK",VLOOKUP($D9,Fixtures!$A:$L,9,FALSE)) -> che | L9: =IF(ISBLANK(VLOOKUP($D9,Fixtures!$A:$L,10,FALSE)),"BLANK",VLOOKUP($D9,Fixtures!$A:$L,10,FALSE)) -> LEE | M9: =IF(ISBLANK(VLOOKUP($D9,Fixtures!$A:$L,11,FALSE)),"BLANK",VLOOKUP($D9,Fixtures!$A:$L,11,FALSE)) -> BUR | N9: =IF(ISBLANK(VLOOKUP($D9,Fixtures!$A:$L,12,FALSE)),"BLANK",VLOOKUP($D9,Fixtures!$A:$L,12,FALSE)) -> wat | O9: =IF(ISBLANK(VLOOKUP($D9,Fixtures!$A:$AP,13,FALSE)),"BLANK",VLOOKUP($D9,Fixtures!$A:$AP,13,FALSE)) -> AVL | P9: =IF(ISBLANK(VLOOKUP($D9,Fixtures!$A:$AP,14,FALSE)),"BLANK",VLOOKUP($D9,Fixtures!$A:$AP,14,FALSE)) -> nor | Q9: =IF(ISBLANK(VLOOKUP($D9,Fixtures!$A:$AP,15,FALSE)),"BLANK",VLOOKUP($D9,Fixtures!$A:$AP,15,FALSE)) -> liv | R9: =IF(ISBLANK(VLOOKUP($D9,Fixtures!$A:$AP,16,FALSE)),"BLANK",VLOOKUP($D9,Fixtures!$A:$AP,16,FALSE)) -> LEI | S9: =IF(ISBLANK(VLOOKUP($D9,Fixtures!$A:$AP,17,FALSE)),"BLANK",VLOOKUP($D9,Fixtures!$A:$AP,17,FALSE)) -> BHA | T9: =IF(ISBLANK(VLOOKUP($D9,Fixtures!$A:$AP,18,FALSE)),"BLANK",VLOOKUP($D9,Fixtures!$A:$AP,18,FALSE)) -> ars | U9: =IF(ISBLANK(VLOOKUP($D9,Fixtures!$A:$AP,19,FALSE)),"BLANK",VLOOKUP($D9,Fixtures!$A:$AP,19,FALSE)) -> cry | V9: =IF(ISBLANK(VLOOKUP($D9,Fixtures!$A:$AP,20,FALSE)),"BLANK",VLOOKUP($D9,Fixtures!$A:$AP,20,FALSE)) -> BRE | W9: =IF(ISBLANK(VLOOKUP($D9,Fixtures!$A:$AP,21,FALSE)),"BLANK",VLOOKUP($D9,Fixtures!$A:$AP,21,FALSE)) -> whu | X9: =IF(ISBLANK(VLOOKUP($D9,Fixtures!$A:$AP,22,FALSE)),"BLANK",VLOOKUP($D9,Fixtures!$A:$AP,22,FALSE)) -> TOT | AF9: =IF(ISBLANK(VLOOKUP($D9,Fixtures!$A:$AP,30,FALSE)),"BLANK",VLOOKUP($D9,Fixtures!$A:$AP,30,FALSE)) -> avl | AG9: =IF(ISBLANK(VLOOKUP($D9,Fixtures!$A:$AP,31,FALSE)),"BLANK",VLOOKUP($D9,Fixtures!$A:$AP,31,FALSE)) -> NEW | AH9: =IF(ISBLANK(VLOOKUP($D9,Fixtures!$A:$AP,32,FALSE)),"BLANK",VLOOKUP($D9,Fixtures!$A:$AP,32,FALSE)) -> WAT | AI9: =IF(ISBLANK(VLOOKUP($D9,Fixtures!$A:$AP,33,FALSE)),"BLANK",VLOOKUP($D9,Fixtures!$A:$AP,33,FALSE)) -> BLANK | AJ9: =IF(ISBLANK(VLOOKUP($D9,Fixtures!$A:$AP,34,FALSE)),"BLANK",VLOOKUP($D9,Fixtures!$A:$AP,34,FALSE)) -> BLANK | AK9: =IF(ISBLANK(VLOOKUP($D9,Fixtures!$A:$AP,35,FALSE)),"BLANK",VLOOKUP($D9,Fixtures!$A:$AP,35,FALSE)) -> lee | AL9: =IF(ISBLANK(VLOOKUP($D9,Fixtures!$A:$AP,36,FALSE)),"BLANK",VLOOKUP($D9,Fixtures!$A:$AP,36,FALSE)) -> CHE | AM9: =IF(ISBLANK(VLOOKUP($D9,Fixtures!$A:$AP,37,FALSE)),"BLANK",VLOOKUP($D9,Fixtures!$A:$AP,37,FALSE)) -> ARS | AN9: =IF(ISBLANK(VLOOKUP($D9,Fixtures!$A:$AP,38,FALSE)),"BLANK",VLOOKUP($D9,Fixtures!$A:$AP,38,FALSE)) -> bha | AO9: =IF(ISBLANK(VLOOKUP($D9,Fixtures!$A:$AP,39,FALSE)),"BLANK",VLOOKUP($D9,Fixtures!$A:$AP,39,FALSE)) -> CRY | AP9: =IF(ISBLANK(VLOOKUP($D9,Fixtures!$A:$AP,40,FALSE)),"BLANK",VLOOKUP($D9,Fixtures!$A:$AP,40,FALSE)) -> bre | AQ9: =IF(ISBLANK(VLOOKUP($D9,Fixtures!$A:$AP,41,FALSE)),"BLANK",VLOOKUP($D9,Fixtures!$A:$AP,41,FALSE)) -> LIV | AR9: =IF(ISBLANK(VLOOKUP($D9,Fixtures!$A:$AP,42,FALSE)),"BLANK",VLOOKUP($D9,Fixtures!$A:$AP,42,FALSE)) -> lei
B10: DEF | C10: Digne | D10: AVL | E10: =IF(ISBLANK(VLOOKUP($D10,Fixtures!$A:$L,3,FALSE)),"BLANK",VLOOKUP($D10,Fixtures!$A:$L,3,FALSE)) -> wat | F10: =IF(ISBLANK(VLOOKUP($D10,Fixtures!$A:$L,4,FALSE)),"BLANK",VLOOKUP($D10,Fixtures!$A:$L,4,FALSE)) -> NEW | G10: =IF(ISBLANK(VLOOKUP($D10,Fixtures!$A:$L,5,FALSE)),"BLANK",VLOOKUP($D10,Fixtures!$A:$L,5,FALSE)) -> BRE | H10: =IF(ISBLANK(VLOOKUP($D10,Fixtures!$A:$L,6,FALSE)),"BLANK",VLOOKUP($D10,Fixtures!$A:$L,6,FALSE)) -> che | I10: =IF(ISBLANK(VLOOKUP($D10,Fixtures!$A:$L,7,FALSE)),"BLANK",VLOOKUP($D10,Fixtures!$A:$L,7,FALSE)) -> EVE | J10: =IF(ISBLANK(VLOOKUP($D10,Fixtures!$A:$L,8,FALSE)),"BLANK",VLOOKUP($D10,Fixtures!$A:$L,8,FALSE)) -> mun | K10: =IF(ISBLANK(VLOOKUP($D10,Fixtures!$A:$L,9,FALSE)),"BLANK",VLOOKUP($D10,Fixtures!$A:$L,9,FALSE)) -> tot | L10: =IF(ISBLANK(VLOOKUP($D10,Fixtures!$A:$L,10,FALSE)),"BLANK",VLOOKUP($D10,Fixtures!$A:$L,10,FALSE)) -> WOL | M10: =IF(ISBLANK(VLOOKUP($D10,Fixtures!$A:$L,11,FALSE)),"BLANK",VLOOKUP($D10,Fixtures!$A:$L,11,FALSE)) -> ars | N10: =IF(ISBLANK(VLOOKUP($D10,Fixtures!$A:$L,12,FALSE)),"BLANK",VLOOKUP($D10,Fixtures!$A:$L,12,FALSE)) -> WHU | O10: =IF(ISBLANK(VLOOKUP($D10,Fixtures!$A:$AP,13,FALSE)),"BLANK",VLOOKUP($D10,Fixtures!$A:$AP,13,FALSE)) -> sou | P10: =IF(ISBLANK(VLOOKUP($D10,Fixtures!$A:$AP,14,FALSE)),"BLANK",VLOOKUP($D10,Fixtures!$A:$AP,14,FALSE)) -> BHA | Q10: =IF(ISBLANK(VLOOKUP($D10,Fixtures!$A:$AP,15,FALSE)),"BLANK",VLOOKUP($D10,Fixtures!$A:$AP,15,FALSE)) -> cry | R10: =IF(ISBLANK(VLOOKUP($D10,Fixtures!$A:$AP,16,FALSE)),"BLANK",VLOOKUP($D10,Fixtures!$A:$AP,16,FALSE)) -> MCI | S10: =IF(ISBLANK(VLOOKUP($D10,Fixtures!$A:$AP,17,FALSE)),"BLANK",VLOOKUP($D10,Fixtures!$A:$AP,17,FALSE)) -> LEI | T10: =IF(ISBLANK(VLOOKUP($D10,Fixtures!$A:$AP,18,FALSE)),"BLANK",VLOOKUP($D10,Fixtures!$A:$AP,18,FALSE)) -> liv | U10: =IF(ISBLANK(VLOOKUP($D10,Fixtures!$A:$AP,19,FALSE)),"BLANK",VLOOKUP($D10,Fixtures!$A:$AP,19,FALSE)) -> nor | V10: =IF(ISBLANK(VLOOKUP($D10,Fixtures!$A:$AP,20,FALSE)),"BLANK",VLOOKUP($D10,Fixtures!$A:$AP,20,FALSE)) -> BUR | W10: =IF(ISBLANK(VLOOKUP($D10,Fixtures!$A:$AP,21,FALSE)),"BLANK",VLOOKUP($D10,Fixtures!$A:$AP,21,FALSE)) -> CHE | X10: =IF(ISBLANK(VLOOKUP($D10,Fixtures!$A:$AP,22,FALSE)),"BLANK",VLOOKUP($D10,Fixtures!$A:$AP,22,FALSE)) -> lee | AF10: =IF(ISBLANK(VLOOKUP($D10,Fixtures!$A:$AP,30,FALSE)),"BLANK",VLOOKUP($D10,Fixtures!$A:$AP,30,FALSE)) -> SOU | AG10: =IF(ISBLANK(VLOOKUP($D10,Fixtures!$A:$AP,31,FALSE)),"BLANK",VLOOKUP($D10,Fixtures!$A:$AP,31,FALSE)) -> lee | AH10: =IF(ISBLANK(VLOOKUP($D10,Fixtures!$A:$AP,32,FALSE)),"BLANK",VLOOKUP($D10,Fixtures!$A:$AP,32,FALSE)) -> whu | AI10: =IF(ISBLANK(VLOOKUP($D10,Fixtures!$A:$AP,33,FALSE)),"BLANK",VLOOKUP($D10,Fixtures!$A:$AP,33,FALSE)) -> BLANK | AJ10: =IF(ISBLANK(VLOOKUP($D10,Fixtures!$A:$AP,34,FALSE)),"BLANK",VLOOKUP($D10,Fixtures!$A:$AP,34,FALSE)) -> ARS | AK10: =IF(ISBLANK(VLOOKUP($D10,Fixtures!$A:$AP,35,FALSE)),"BLANK",VLOOKUP($D10,Fixtures!$A:$AP,35,FALSE)) -> wol | AL10: =IF(ISBLANK(VLOOKUP($D10,Fixtures!$A:$AP,36,FALSE)),"BLANK",VLOOKUP($D10,Fixtures!$A:$AP,36,FALSE)) -> TOT | AM10: =IF(ISBLANK(VLOOKUP($D10,Fixtures!$A:$AP,37,FALSE)),"BLANK",VLOOKUP($D10,Fixtures!$A:$AP,37,FALSE)) -> LIV | AN10: =IF(ISBLANK(VLOOKUP($D10,Fixtures!$A:$AP,38,FALSE)),"BLANK",VLOOKUP($D10,Fixtures!$A:$AP,38,FALSE)) -> lei | AO10: =IF(ISBLANK(VLOOKUP($D10,Fixtures!$A:$AP,39,FALSE)),"BLANK",VLOOKUP($D10,Fixtures!$A:$AP,39,FALSE)) -> NOR | AP10: =IF(ISBLANK(VLOOKUP($D10,Fixtures!$A:$AP,40,FALSE)),"BLANK",VLOOKUP($D10,Fixtures!$A:$AP,40,FALSE)) -> bur | AQ10: =IF(ISBLANK(VLOOKUP($D10,Fixtures!$A:$AP,41,FALSE)),"BLANK",VLOOKUP($D10,Fixtures!$A:$AP,41,FALSE)) -> CRY | AR10: =IF(ISBLANK(VLOOKUP($D10,Fixtures!$A:$AP,42,FALSE)),"BLANK",VLOOKUP($D10,Fixtures!$A:$AP,42,FALSE)) -> mci
B11: DEF | C11: White | D11: ARS | E11: =IF(ISBLANK(VLOOKUP($D11,Fixtures!$A:$L,3,FALSE)),"BLANK",VLOOKUP($D11,Fixtures!$A:$L,3,FALSE)) -> bre | F11: =IF(ISBLANK(VLOOKUP($D11,Fixtures!$A:$L,4,FALSE)),"BLANK",VLOOKUP($D11,Fixtures!$A:$L,4,FALSE)) -> CHE | G11: =IF(ISBLANK(VLOOKUP($D11,Fixtures!$A:$L,5,FALSE)),"BLANK",VLOOKUP($D11,Fixtures!$A:$L,5,FALSE)) -> mci | H11: =IF(ISBLANK(VLOOKUP($D11,Fixtures!$A:$L,6,FALSE)),"BLANK",VLOOKUP($D11,Fixtures!$A:$L,6,FALSE)) -> NOR | I11: =IF(ISBLANK(VLOOKUP($D11,Fixtures!$A:$L,7,FALSE)),"BLANK",VLOOKUP($D11,Fixtures!$A:$L,7,FALSE)) -> bur | J11: =IF(ISBLANK(VLOOKUP($D11,Fixtures!$A:$L,8,FALSE)),"BLANK",VLOOKUP($D11,Fixtures!$A:$L,8,FALSE)) -> TOT | K11: =IF(ISBLANK(VLOOKUP($D11,Fixtures!$A:$L,9,FALSE)),"BLANK",VLOOKUP($D11,Fixtures!$A:$L,9,FALSE)) -> bha | L11: =IF(ISBLANK(VLOOKUP($D11,Fixtures!$A:$L,10,FALSE)),"BLANK",VLOOKUP($D11,Fixtures!$A:$L,10,FALSE)) -> CRY | M11: =IF(ISBLANK(VLOOKUP($D11,Fixtures!$A:$L,11,FALSE)),"BLANK",VLOOKUP($D11,Fixtures!$A:$L,11,FALSE)) -> AVL | N11: =IF(ISBLANK(VLOOKUP($D11,Fixtures!$A:$L,12,FALSE)),"BLANK",VLOOKUP($D11,Fixtures!$A:$L,12,FALSE)) -> lei | O11: =IF(ISBLANK(VLOOKUP($D11,Fixtures!$A:$AP,13,FALSE)),"BLANK",VLOOKUP($D11,Fixtures!$A:$AP,13,FALSE)) -> WAT | P11: =IF(ISBLANK(VLOOKUP($D11,Fixtures!$A:$AP,14,FALSE)),"BLANK",VLOOKUP($D11,Fixtures!$A:$AP,14,FALSE)) -> liv | Q11: =IF(ISBLANK(VLOOKUP($D11,Fixtures!$A:$AP,15,FALSE)),"BLANK",VLOOKUP($D11,Fixtures!$A:$AP,15,FALSE)) -> NEW | R11: =IF(ISBLANK(VLOOKUP($D11,Fixtures!$A:$AP,16,FALSE)),"BLANK",VLOOKUP($D11,Fixtures!$A:$AP,16,FALSE)) -> mun | S11: =IF(ISBLANK(VLOOKUP($D11,Fixtures!$A:$AP,17,FALSE)),"BLANK",VLOOKUP($D11,Fixtures!$A:$AP,17,FALSE)) -> eve | T11: =IF(ISBLANK(VLOOKUP($D11,Fixtures!$A:$AP,18,FALSE)),"BLANK",VLOOKUP($D11,Fixtures!$A:$AP,18,FALSE)) -> SOU | U11: =IF(ISBLANK(VLOOKUP($D11,Fixtures!$A:$AP,19,FALSE)),"BLANK",VLOOKUP($D11,Fixtures!$A:$AP,19,FALSE)) -> WHU | V11: =IF(ISBLANK(VLOOKUP($D11,Fixtures!$A:$AP,20,FALSE)),"BLANK",VLOOKUP($D11,Fixtures!$A:$AP,20,FALSE)) -> lee | W11: =IF(ISBLANK(VLOOKUP($D11,Fixtures!$A:$AP,21,FALSE)),"BLANK",VLOOKUP($D11,Fixtures!$A:$AP,21,FALSE)) -> nor | X11: =IF(ISBLANK(VLOOKUP($D11,Fixtures!$A:$AP,22,FALSE)),"BLANK",VLOOKUP($D11,Fixtures!$A:$AP,22,FALSE)) -> WOL | AF11: =IF(ISBLANK(VLOOKUP($D11,Fixtures!$A:$AP,30,FALSE)),"BLANK",VLOOKUP($D11,Fixtures!$A:$AP,30,FALSE)) -> wat | AG11: =IF(ISBLANK(VLOOKUP($D11,Fixtures!$A:$AP,31,FALSE)),"BLANK",VLOOKUP($D11,Fixtures!$A:$AP,31,FALSE)) -> BLANK | AH11: =IF(ISBLANK(VLOOKUP($D11,Fixtures!$A:$AP,32,FALSE)),"BLANK",VLOOKUP($D11,Fixtures!$A:$AP,32,FALSE)) -> LEI | AI11: =IF(ISBLANK(VLOOKUP($D11,Fixtures!$A:$AP,33,FALSE)),"BLANK",VLOOKUP($D11,Fixtures!$A:$AP,33,FALSE)) -> LIV | AJ11: =IF(ISBLANK(VLOOKUP($D11,Fixtures!$A:$AP,34,FALSE)),"BLANK",VLOOKUP($D11,Fixtures!$A:$AP,34,FALSE)) -> avl | AK11: =IF(ISBLANK(VLOOKUP($D11,Fixtures!$A:$AP,35,FALSE)),"BLANK",VLOOKUP($D11,Fixtures!$A:$AP,35,FALSE)) -> cry | AL11: =IF(ISBLANK(VLOOKUP($D11,Fixtures!$A:$AP,36,FALSE)),"BLANK",VLOOKUP($D11,Fixtures!$A:$AP,36,FALSE)) -> BHA | AM11: =IF(ISBLANK(VLOOKUP($D11,Fixtures!$A:$AP,37,FALSE)),"BLANK",VLOOKUP($D11,Fixtures!$A:$AP,37,FALSE)) -> sou | AN11: =IF(ISBLANK(VLOOKUP($D11,Fixtures!$A:$AP,38,FALSE)),"BLANK",VLOOKUP($D11,Fixtures!$A:$AP,38,FALSE)) -> MUN | AO11: =IF(ISBLANK(VLOOKUP($D11,Fixtures!$A:$AP,39,FALSE)),"BLANK",VLOOKUP($D11,Fixtures!$A:$AP,39,FALSE)) -> whu | AP11: =IF(ISBLANK(VLOOKUP($D11,Fixtures!$A:$AP,40,FALSE)),"BLANK",VLOOKUP($D11,Fixtures!$A:$AP,40,FALSE)) -> LEE | AQ11: =IF(ISBLANK(VLOOKUP($D11,Fixtures!$A:$AP,41,FALSE)),"BLANK",VLOOKUP($D11,Fixtures!$A:$AP,41,FALSE)) -> new | AR11: =IF(ISBLANK(VLOOKUP($D11,Fixtures!$A:$AP,42,FALSE)),"BLANK",VLOOKUP($D11,Fixtures!$A:$AP,42,FALSE)) -> EVE
B12: MID | C12: Salah | D12: LIV | E12: =IF(ISBLANK(VLOOKUP($D12,Fixtures!$A:$L,3,FALSE)),"BLANK",VLOOKUP($D12,Fixtures!$A:$L,3,FALSE)) -> nor | F12: =IF(ISBLANK(VLOOKUP($D12,Fixtures!$A:$L,4,FALSE)),"BLANK",VLOOKUP($D12,Fixtures!$A:$L,4,FALSE)) -> BUR | G12: =IF(ISBLANK(VLOOKUP($D12,Fixtures!$A:$L,5,FALSE)),"BLANK",VLOOKUP($D12,Fixtures!$A:$L,5,FALSE)) -> CHE | H12: =IF(ISBLANK(VLOOKUP($D12,Fixtures!$A:$L,6,FALSE)),"BLANK",VLOOKUP($D12,Fixtures!$A:$L,6,FALSE)) -> lee | I12: =IF(ISBLANK(VLOOKUP($D12,Fixtures!$A:$L,7,FALSE)),"BLANK",VLOOKUP($D12,Fixtures!$A:$L,7,FALSE)) -> CRY | J12: =IF(ISBLANK(VLOOKUP($D12,Fixtures!$A:$L,8,FALSE)),"BLANK",VLOOKUP($D12,Fixtures!$A:$L,8,FALSE)) -> bre | K12: =IF(ISBLANK(VLOOKUP($D12,Fixtures!$A:$L,9,FALSE)),"BLANK",VLOOKUP($D12,Fixtures!$A:$L,9,FALSE)) -> MCI | L12: =IF(ISBLANK(VLOOKUP($D12,Fixtures!$A:$L,10,FALSE)),"BLANK",VLOOKUP($D12,Fixtures!$A:$L,10,FALSE)) -> wat | M12: =IF(ISBLANK(VLOOKUP($D12,Fixtures!$A:$L,11,FALSE)),"BLANK",VLOOKUP($D12,Fixtures!$A:$L,11,FALSE)) -> mun | N12: =IF(ISBLANK(VLOOKUP($D12,Fixtures!$A:$L,12,FALSE)),"BLANK",VLOOKUP($D12,Fixtures!$A:$L,12,FALSE)) -> BHA | O12: =IF(ISBLANK(VLOOKUP($D12,Fixtures!$A:$AP,13,FALSE)),"BLANK",VLOOKUP($D12,Fixtures!$A:$AP,13,FALSE)) -> whu | P12: =IF(ISBLANK(VLOOKUP($D12,Fixtures!$A:$AP,14,FALSE)),"BLANK",VLOOKUP($D12,Fixtures!$A:$AP,14,FALSE)) -> ARS | Q12: =IF(ISBLANK(VLOOKUP($D12,Fixtures!$A:$AP,15,FALSE)),"BLANK",VLOOKUP($D12,Fixtures!$A:$AP,15,FALSE)) -> SOU | R12: =IF(ISBLANK(VLOOKUP($D12,Fixtures!$A:$AP,16,FALSE)),"BLANK",VLOOKUP($D12,Fixtures!$A:$AP,16,FALSE)) -> eve | S12: =IF(ISBLANK(VLOOKUP($D12,Fixtures!$A:$AP,17,FALSE)),"BLANK",VLOOKUP($D12,Fixtures!$A:$AP,17,FALSE)) -> wol | T12: =IF(ISBLANK(VLOOKUP($D12,Fixtures!$A:$AP,18,FALSE)),"BLANK",VLOOKUP($D12,Fixtures!$A:$AP,18,FALSE)) -> AVL | U12: =IF(ISBLANK(VLOOKUP($D12,Fixtures!$A:$AP,19,FALSE)),"BLANK",VLOOKUP($D12,Fixtures!$A:$AP,19,FALSE)) -> NEW | V12: =IF(ISBLANK(VLOOKUP($D12,Fixtures!$A:$AP,20,FALSE)),"BLANK",VLOOKUP($D12,Fixtures!$A:$AP,20,FALSE)) -> tot | W12: =IF(ISBLANK(VLOOKUP($D12,Fixtures!$A:$AP,21,FALSE)),"BLANK",VLOOKUP($D12,Fixtures!$A:$AP,21,FALSE)) -> LEE | X12: =IF(ISBLANK(VLOOKUP($D12,Fixtures!$A:$AP,22,FALSE)),"BLANK",VLOOKUP($D12,Fixtures!$A:$AP,22,FALSE)) -> lei | AF12: =IF(ISBLANK(VLOOKUP($D12,Fixtures!$A:$AP,30,FALSE)),"BLANK",VLOOKUP($D12,Fixtures!$A:$AP,30,FALSE)) -> WHU | AG12: =IF(ISBLANK(VLOOKUP($D12,Fixtures!$A:$AP,31,FALSE)),"BLANK",VLOOKUP($D12,Fixtures!$A:$AP,31,FALSE)) -> BLANK | AH12: =IF(ISBLANK(VLOOKUP($D12,Fixtures!$A:$AP,32,FALSE)),"BLANK",VLOOKUP($D12,Fixtures!$A:$AP,32,FALSE)) -> bha | AI12: =IF(ISBLANK(VLOOKUP($D12,Fixtures!$A:$AP,33,FALSE)),"BLANK",VLOOKUP($D12,Fixtures!$A:$AP,33,FALSE)) -> ars | AJ12: =IF(ISBLANK(VLOOKUP($D12,Fixtures!$A:$AP,34,FALSE)),"BLANK",VLOOKUP($D12,Fixtures!$A:$AP,34,FALSE)) -> BLANK | AK12: =IF(ISBLANK(VLOOKUP($D12,Fixtures!$A:$AP,35,FALSE)),"BLANK",VLOOKUP($D12,Fixtures!$A:$AP,35,FALSE)) -> WAT | AL12: =IF(ISBLANK(VLOOKUP($D12,Fixtures!$A:$AP,36,FALSE)),"BLANK",VLOOKUP($D12,Fixtures!$A:$AP,36,FALSE)) -> mci | AM12: =IF(ISBLANK(VLOOKUP($D12,Fixtures!$A:$AP,37,FALSE)),"BLANK",VLOOKUP($D12,Fixtures!$A:$AP,37,FALSE)) -> avl | AN12: =IF(ISBLANK(VLOOKUP($D12,Fixtures!$A:$AP,38,FALSE)),"BLANK",VLOOKUP($D12,Fixtures!$A:$AP,38,FALSE)) -> EVE | AO12: =IF(ISBLANK(VLOOKUP($D12,Fixtures!$A:$AP,39,FALSE)),"BLANK",VLOOKUP($D12,Fixtures!$A:$AP,39,FALSE)) -> new | AP12: =IF(ISBLANK(VLOOKUP($D12,Fixtures!$A:$AP,40,FALSE)),"BLANK",VLOOKUP($D12,Fixtures!$A:$AP,40,FALSE)) -> TOT | AQ12: =IF(ISBLANK(VLOOKUP($D12,Fixtures!$A:$AP,41,FALSE)),"BLANK",VLOOKUP($D12,Fixtures!$A:$AP,41,FALSE)) -> sou | AR12: =IF(ISBLANK(VLOOKUP($D12,Fixtures!$A:$AP,42,FALSE)),"BLANK",VLOOKUP($D12,Fixtures!$A:$AP,42,FALSE)) -> WOL
B13: MID | C13: Coutinho | D13: AVL | E13: =IF(ISBLANK(VLOOKUP($D13,Fixtures!$A:$L,3,FALSE)),"BLANK",VLOOKUP($D13,Fixtures!$A:$L,3,FALSE)) -> wat | F13: =IF(ISBLANK(VLOOKUP($D13,Fixtures!$A:$L,4,FALSE)),"BLANK",VLOOKUP($D13,Fixtures!$A:$L,4,FALSE)) -> NEW | G13: =IF(ISBLANK(VLOOKUP($D13,Fixtures!$A:$L,5,FALSE)),"BLANK",VLOOKUP($D13,Fixtures!$A:$L,5,FALSE)) -> BRE | H13: =IF(ISBLANK(VLOOKUP($D13,Fixtures!$A:$L,6,FALSE)),"BLANK",VLOOKUP($D13,Fixtures!$A:$L,6,FALSE)) -> che | I13: =IF(ISBLANK(VLOOKUP($D13,Fixtures!$A:$L,7,FALSE)),"BLANK",VLOOKUP($D13,Fixtures!$A:$L,7,FALSE)) -> EVE | J13: =IF(ISBLANK(VLOOKUP($D13,Fixtures!$A:$L,8,FALSE)),"BLANK",VLOOKUP($D13,Fixtures!$A:$L,8,FALSE)) -> mun | K13: =IF(ISBLANK(VLOOKUP($D13,Fixtures!$A:$L,9,FALSE)),"BLANK",VLOOKUP($D13,Fixtures!$A:$L,9,FALSE)) -> tot | L13: =IF(ISBLANK(VLOOKUP($D13,Fixtures!$A:$L,10,FALSE)),"BLANK",VLOOKUP($D13,Fixtures!$A:$L,10,FALSE)) -> WOL | M13: =IF(ISBLANK(VLOOKUP($D13,Fixtures!$A:$L,11,FALSE)),"BLANK",VLOOKUP($D13,Fixtures!$A:$L,11,FALSE)) -> ars | N13: =IF(ISBLANK(VLOOKUP($D13,Fixtures!$A:$L,12,FALSE)),"BLANK",VLOOKUP($D13,Fixtures!$A:$L,12,FALSE)) -> WHU | O13: =IF(ISBLANK(VLOOKUP($D13,Fixtures!$A:$AP,13,FALSE)),"BLANK",VLOOKUP($D13,Fixtures!$A:$AP,13,FALSE)) -> sou | P13: =IF(ISBLANK(VLOOKUP($D13,Fixtures!$A:$AP,14,FALSE)),"BLANK",VLOOKUP($D13,Fixtures!$A:$AP,14,FALSE)) -> BHA | Q13: =IF(ISBLANK(VLOOKUP($D13,Fixtures!$A:$AP,15,FALSE)),"BLANK",VLOOKUP($D13,Fixtures!$A:$AP,15,FALSE)) -> cry | R13: =IF(ISBLANK(VLOOKUP($D13,Fixtures!$A:$AP,16,FALSE)),"BLANK",VLOOKUP($D13,Fixtures!$A:$AP,16,FALSE)) -> MCI | S13: =IF(ISBLANK(VLOOKUP($D13,Fixtures!$A:$AP,17,FALSE)),"BLANK",VLOOKUP($D13,Fixtures!$A:$AP,17,FALSE)) -> LEI | T13: =IF(ISBLANK(VLOOKUP($D13,Fixtures!$A:$AP,18,FALSE)),"BLANK",VLOOKUP($D13,Fixtures!$A:$AP,18,FALSE)) -> liv | U13: =IF(ISBLANK(VLOOKUP($D13,Fixtures!$A:$AP,19,FALSE)),"BLANK",VLOOKUP($D13,Fixtures!$A:$AP,19,FALSE)) -> nor | V13: =IF(ISBLANK(VLOOKUP($D13,Fixtures!$A:$AP,20,FALSE)),"BLANK",VLOOKUP($D13,Fixtures!$A:$AP,20,FALSE)) -> BUR | W13: =IF(ISBLANK(VLOOKUP($D13,Fixtures!$A:$AP,21,FALSE)),"BLANK",VLOOKUP($D13,Fixtures!$A:$AP,21,FALSE)) -> CHE | X13: =IF(ISBLANK(VLOOKUP($D13,Fixtures!$A:$AP,22,FALSE)),"BLANK",VLOOKUP($D13,Fixtures!$A:$AP,22,FALSE)) -> lee | AF13: =IF(ISBLANK(VLOOKUP($D13,Fixtures!$A:$AP,30,FALSE)),"BLANK",VLOOKUP($D13,Fixtures!$A:$AP,30,FALSE)) -> SOU | AG13: =IF(ISBLANK(VLOOKUP($D13,Fixtures!$A:$AP,31,FALSE)),"BLANK",VLOOKUP($D13,Fixtures!$A:$AP,31,FALSE)) -> lee | AH13: =IF(ISBLANK(VLOOKUP($D13,Fixtures!$A:$AP,32,FALSE)),"BLANK",VLOOKUP($D13,Fixtures!$A:$AP,32,FALSE)) -> whu | AI13: =IF(ISBLANK(VLOOKUP($D13,Fixtures!$A:$AP,33,FALSE)),"BLANK",VLOOKUP($D13,Fixtures!$A:$AP,33,FALSE)) -> BLANK | AJ13: =IF(ISBLANK(VLOOKUP($D13,Fixtures!$A:$AP,34,FALSE)),"BLANK",VLOOKUP($D13,Fixtures!$A:$AP,34,FALSE)) -> ARS | AK13: =IF(ISBLANK(VLOOKUP($D13,Fixtures!$A:$AP,35,FALSE)),"BLANK",VLOOKUP($D13,Fixtures!$A:$AP,35,FALSE)) -> wol | AL13: =IF(ISBLANK(VLOOKUP($D13,Fixtures!$A:$AP,36,FALSE)),"BLANK",VLOOKUP($D13,Fixtures!$A:$AP,36,FALSE)) -> TOT | AM13: =IF(ISBLANK(VLOOKUP($D13,Fixtures!$A:$AP,37,FALSE)),"BLANK",VLOOKUP($D13,Fixtures!$A:$AP,37,FALSE)) -> LIV | AN13: =IF(ISBLANK(VLOOKUP($D13,Fixtures!$A:$AP,38,FALSE)),"BLANK",VLOOKUP($D13,Fixtures!$A:$AP,38,FALSE)) -> lei | AO13: =IF(ISBLANK(VLOOKUP($D13,Fixtures!$A:$AP,39,FALSE)),"BLANK",VLOOKUP($D13,Fixtures!$A:$AP,39,FALSE)) -> NOR | AP13: =IF(ISBLANK(VLOOKUP($D13,Fixtures!$A:$AP,40,FALSE)),"BLANK",VLOOKUP($D13,Fixtures!$A:$AP,40,FALSE)) -> bur | AQ13: =IF(ISBLANK(VLOOKUP($D13,Fixtures!$A:$AP,41,FALSE)),"BLANK",VLOOKUP($D13,Fixtures!$A:$AP,41,FALSE)) -> CRY | AR13: =IF(ISBLANK(VLOOKUP($D13,Fixtures!$A:$AP,42,FALSE)),"BLANK",VLOOKUP($D13,Fixtures!$A:$AP,42,FALSE)) -> mci
B14: MID | C14: Mane | D14: LIV | E14: =IF(ISBLANK(VLOOKUP($D14,Fixtures!$A:$L,3,FALSE)),"BLANK",VLOOKUP($D14,Fixtures!$A:$L,3,FALSE)) -> nor | F14: =IF(ISBLANK(VLOOKUP($D14,Fixtures!$A:$L,4,FALSE)),"BLANK",VLOOKUP($D14,Fixtures!$A:$L,4,FALSE)) -> BUR | G14: =IF(ISBLANK(VLOOKUP($D14,Fixtures!$A:$L,5,FALSE)),"BLANK",VLOOKUP($D14,Fixtures!$A:$L,5,FALSE)) -> CHE | H14: =IF(ISBLANK(VLOOKUP($D14,Fixtures!$A:$L,6,FALSE)),"BLANK",VLOOKUP($D14,Fixtures!$A:$L,6,FALSE)) -> lee | I14: =IF(ISBLANK(VLOOKUP($D14,Fixtures!$A:$L,7,FALSE)),"BLANK",VLOOKUP($D14,Fixtures!$A:$L,7,FALSE)) -> CRY | J14: =IF(ISBLANK(VLOOKUP($D14,Fixtures!$A:$L,8,FALSE)),"BLANK",VLOOKUP($D14,Fixtures!$A:$L,8,FALSE)) -> bre | K14: =IF(ISBLANK(VLOOKUP($D14,Fixtures!$A:$L,9,FALSE)),"BLANK",VLOOKUP($D14,Fixtures!$A:$L,9,FALSE)) -> MCI | L14: =IF(ISBLANK(VLOOKUP($D14,Fixtures!$A:$L,10,FALSE)),"BLANK",VLOOKUP($D14,Fixtures!$A:$L,10,FALSE)) -> wat | M14: =IF(ISBLANK(VLOOKUP($D14,Fixtures!$A:$L,11,FALSE)),"BLANK",VLOOKUP($D14,Fixtures!$A:$L,11,FALSE)) -> mun | N14: =IF(ISBLANK(VLOOKUP($D14,Fixtures!$A:$L,12,FALSE)),"BLANK",VLOOKUP($D14,Fixtures!$A:$L,12,FALSE)) -> BHA | O14: =IF(ISBLANK(VLOOKUP($D14,Fixtures!$A:$AP,13,FALSE)),"BLANK",VLOOKUP($D14,Fixtures!$A:$AP,13,FALSE)) -> whu | P14: =IF(ISBLANK(VLOOKUP($D14,Fixtures!$A:$AP,14,FALSE)),"BLANK",VLOOKUP($D14,Fixtures!$A:$AP,14,FALSE)) -> ARS | Q14: =IF(ISBLANK(VLOOKUP($D14,Fixtures!$A:$AP,15,FALSE)),"BLANK",VLOOKUP($D14,Fixtures!$A:$AP,15,FALSE)) -> SOU | R14: =IF(ISBLANK(VLOOKUP($D14,Fixtures!$A:$AP,16,FALSE)),"BLANK",VLOOKUP($D14,Fixtures!$A:$AP,16,FALSE)) -> eve | S14: =IF(ISBLANK(VLOOKUP($D14,Fixtures!$A:$AP,17,FALSE)),"BLANK",VLOOKUP($D14,Fixtures!$A:$AP,17,FALSE)) -> wol | T14: =IF(ISBLANK(VLOOKUP($D14,Fixtures!$A:$AP,18,FALSE)),"BLANK",VLOOKUP($D14,Fixtures!$A:$AP,18,FALSE)) -> AVL | U14: =IF(ISBLANK(VLOOKUP($D14,Fixtures!$A:$AP,19,FALSE)),"BLANK",VLOOKUP($D14,Fixtures!$A:$AP,19,FALSE)) -> NEW | V14: =IF(ISBLANK(VLOOKUP($D14,Fixtures!$A:$AP,20,FALSE)),"BLANK",VLOOKUP($D14,Fixtures!$A:$AP,20,FALSE)) -> tot | W14: =IF(ISBLANK(VLOOKUP($D14,Fixtures!$A:$AP,21,FALSE)),"BLANK",VLOOKUP($D14,Fixtures!$A:$AP,21,FALSE)) -> LEE | X14: =IF(ISBLANK(VLOOKUP($D14,Fixtures!$A:$AP,22,FALSE)),"BLANK",VLOOKUP($D14,Fixtures!$A:$AP,22,FALSE)) -> lei | AF14: =IF(ISBLANK(VLOOKUP($D14,Fixtures!$A:$AP,30,FALSE)),"BLANK",VLOOKUP($D14,Fixtures!$A:$AP,30,FALSE)) -> WHU | AG14: =IF(ISBLANK(VLOOKUP($D14,Fixtures!$A:$AP,31,FALSE)),"BLANK",VLOOKUP($D14,Fixtures!$A:$AP,31,FALSE)) -> BLANK | AH14: =IF(ISBLANK(VLOOKUP($D14,Fixtures!$A:$AP,32,FALSE)),"BLANK",VLOOKUP($D14,Fixtures!$A:$AP,32,FALSE)) -> bha | AI14: =IF(ISBLANK(VLOOKUP($D14,Fixtures!$A:$AP,33,FALSE)),"BLANK",VLOOKUP($D14,Fixtures!$A:$AP,33,FALSE)) -> ars | AJ14: =IF(ISBLANK(VLOOKUP($D14,Fixtures!$A:$AP,34,FALSE)),"BLANK",VLOOKUP($D14,Fixtures!$A:$AP,34,FALSE)) -> BLANK | AK14: =IF(ISBLANK(VLOOKUP($D14,Fixtures!$A:$AP,35,FALSE)),"BLANK",VLOOKUP($D14,Fixtures!$A:$AP,35,FALSE)) -> WAT | AL14: =IF(ISBLANK(VLOOKUP($D14,Fixtures!$A:$AP,36,FALSE)),"BLANK",VLOOKUP($D14,Fixtures!$A:$AP,36,FALSE)) -> mci | AM14: =IF(ISBLANK(VLOOKUP($D14,Fixtures!$A:$AP,37,FALSE)),"BLANK",VLOOKUP($D14,Fixtures!$A:$AP,37,FALSE)) -> avl | AN14: =IF(ISBLANK(VLOOKUP($D14,Fixtures!$A:$AP,38,FALSE)),"BLANK",VLOOKUP($D14,Fixtures!$A:$AP,38,FALSE)) -> EVE | AO14: =IF(ISBLANK(VLOOKUP($D14,Fixtures!$A:$AP,39,FALSE)),"BLANK",VLOOKUP($D14,Fixtures!$A:$AP,39,FALSE)) -> new | AP14: =IF(ISBLANK(VLOOKUP($D14,Fixtures!$A:$AP,40,FALSE)),"BLANK",VLOOKUP($D14,Fixtures!$A:$AP,40,FALSE)) -> TOT | AQ14: =IF(ISBLANK(VLOOKUP($D14,Fixtures!$A:$AP,41,FALSE)),"BLANK",VLOOKUP($D14,Fixtures!$A:$AP,41,FALSE)) -> sou | AR14: =IF(ISBLANK(VLOOKUP($D14,Fixtures!$A:$AP,42,FALSE)),"BLANK",VLOOKUP($D14,Fixtures!$A:$AP,42,FALSE)) -> WOL
B15: MID | C15: Willock | D15: NEW | E15: =IF(ISBLANK(VLOOKUP($D15,Fixtures!$A:$L,3,FALSE)),"BLANK",VLOOKUP($D15,Fixtures!$A:$L,3,FALSE)) -> WHU | F15: =IF(ISBLANK(VLOOKUP($D15,Fixtures!$A:$L,4,FALSE)),"BLANK",VLOOKUP($D15,Fixtures!$A:$L,4,FALSE)) -> avl | G15: =IF(ISBLANK(VLOOKUP($D15,Fixtures!$A:$L,5,FALSE)),"BLANK",VLOOKUP($D15,Fixtures!$A:$L,5,FALSE)) -> SOU | H15: =IF(ISBLANK(VLOOKUP($D15,Fixtures!$A:$L,6,FALSE)),"BLANK",VLOOKUP($D15,Fixtures!$A:$L,6,FALSE)) -> mun | I15: =IF(ISBLANK(VLOOKUP($D15,Fixtures!$A:$L,7,FALSE)),"BLANK",VLOOKUP($D15,Fixtures!$A:$L,7,FALSE)) -> LEE | J15: =IF(ISBLANK(VLOOKUP($D15,Fixtures!$A:$L,8,FALSE)),"BLANK",VLOOKUP($D15,Fixtures!$A:$L,8,FALSE)) -> wat | K15: =IF(ISBLANK(VLOOKUP($D15,Fixtures!$A:$L,9,FALSE)),"BLANK",VLOOKUP($D15,Fixtures!$A:$L,9,FALSE)) -> wol | L15: =IF(ISBLANK(VLOOKUP($D15,Fixtures!$A:$L,10,FALSE)),"BLANK",VLOOKUP($D15,Fixtures!$A:$L,10,FALSE)) -> TOT | M15: =IF(ISBLANK(VLOOKUP($D15,Fixtures!$A:$L,11,FALSE)),"BLANK",VLOOKUP($D15,Fixtures!$A:$L,11,FALSE)) -> cry | N15: =IF(ISBLANK(VLOOKUP($D15,Fixtures!$A:$L,12,FALSE)),"BLANK",VLOOKUP($D15,Fixtures!$A:$L,12,FALSE)) -> CHE | O15: =IF(ISBLANK(VLOOKUP($D15,Fixtures!$A:$AP,13,FALSE)),"BLANK",VLOOKUP($D15,Fixtures!$A:$AP,13,FALSE)) -> bha | P15: =IF(ISBLANK(VLOOKUP($D15,Fixtures!$A:$AP,14,FALSE)),"BLANK",VLOOKUP($D15,Fixtures!$A:$AP,14,FALSE)) -> BRE | Q15: =IF(ISBLANK(VLOOKUP($D15,Fixtures!$A:$AP,15,FALSE)),"BLANK",VLOOKUP($D15,Fixtures!$A:$AP,15,FALSE)) -> ars | R15: =IF(ISBLANK(VLOOKUP($D15,Fixtures!$A:$AP,16,FALSE)),"BLANK",VLOOKUP($D15,Fixtures!$A:$AP,16,FALSE)) -> NOR | S15: =IF(ISBLANK(VLOOKUP($D15,Fixtures!$A:$AP,17,FALSE)),"BLANK",VLOOKUP($D15,Fixtures!$A:$AP,17,FALSE)) -> BUR | T15: =IF(ISBLANK(VLOOKUP($D15,Fixtures!$A:$AP,18,FALSE)),"BLANK",VLOOKUP($D15,Fixtures!$A:$AP,18,FALSE)) -> lei | U15: =IF(ISBLANK(VLOOKUP($D15,Fixtures!$A:$AP,19,FALSE)),"BLANK",VLOOKUP($D15,Fixtures!$A:$AP,19,FALSE)) -> liv | V15: =IF(ISBLANK(VLOOKUP($D15,Fixtures!$A:$AP,20,FALSE)),"BLANK",VLOOKUP($D15,Fixtures!$A:$AP,20,FALSE)) -> MCI | W15: =IF(ISBLANK(VLOOKUP($D15,Fixtures!$A:$AP,21,FALSE)),"BLANK",VLOOKUP($D15,Fixtures!$A:$AP,21,FALSE)) -> MUN | X15: =IF(ISBLANK(VLOOKUP($D15,Fixtures!$A:$AP,22,FALSE)),"BLANK",VLOOKUP($D15,Fixtures!$A:$AP,22,FALSE)) -> eve | AF15: =IF(ISBLANK(VLOOKUP($D15,Fixtures!$A:$AP,30,FALSE)),"BLANK",VLOOKUP($D15,Fixtures!$A:$AP,30,FALSE)) -> BHA | AG15: =IF(ISBLANK(VLOOKUP($D15,Fixtures!$A:$AP,31,FALSE)),"BLANK",VLOOKUP($D15,Fixtures!$A:$AP,31,FALSE)) -> sou | AH15: =IF(ISBLANK(VLOOKUP($D15,Fixtures!$A:$AP,32,FALSE)),"BLANK",VLOOKUP($D15,Fixtures!$A:$AP,32,FALSE)) -> che | AI15: =IF(ISBLANK(VLOOKUP($D15,Fixtures!$A:$AP,33,FALSE)),"BLANK",VLOOKUP($D15,Fixtures!$A:$AP,33,FALSE)) -> eve | AJ15: =IF(ISBLANK(VLOOKUP($D15,Fixtures!$A:$AP,34,FALSE)),"BLANK",VLOOKUP($D15,Fixtures!$A:$AP,34,FALSE)) -> BLANK | AK15: =IF(ISBLANK(VLOOKUP($D15,Fixtures!$A:$AP,35,FALSE)),"BLANK",VLOOKUP($D15,Fixtures!$A:$AP,35,FALSE)) -> tot | AL15: =IF(ISBLANK(VLOOKUP($D15,Fixtures!$A:$AP,36,FALSE)),"BLANK",VLOOKUP($D15,Fixtures!$A:$AP,36,FALSE)) -> WOL | AM15: =IF(ISBLANK(VLOOKUP($D15,Fixtures!$A:$AP,37,FALSE)),"BLANK",VLOOKUP($D15,Fixtures!$A:$AP,37,FALSE)) -> LEI | AN15: =IF(ISBLANK(VLOOKUP($D15,Fixtures!$A:$AP,38,FALSE)),"BLANK",VLOOKUP($D15,Fixtures!$A:$AP,38,FALSE)) -> nor | AO15: =IF(ISBLANK(VLOOKUP($D15,Fixtures!$A:$AP,39,FALSE)),"BLANK",VLOOKUP($D15,Fixtures!$A:$AP,39,FALSE)) -> LIV | AP15: =IF(ISBLANK(VLOOKUP($D15,Fixtures!$A:$AP,40,FALSE)),"BLANK",VLOOKUP($D15,Fixtures!$A:$AP,40,FALSE)) -> mci | AQ15: =IF(ISBLANK(VLOOKUP($D15,Fixtures!$A:$AP,41,FALSE)),"BLANK",VLOOKUP($D15,Fixtures!$A:$AP,41,FALSE)) -> ARS | AR15: =IF(ISBLANK(VLOOKUP($D15,Fixtures!$A:$AP,42,FALSE)),"BLANK",VLOOKUP($D15,Fixtures!$A:$AP,42,FALSE)) -> bur
B16: MID | C16: Gallagher | D16: CRY | E16: =IF(ISBLANK(VLOOKUP($D16,Fixtures!$A:$L,3,FALSE)),"BLANK",VLOOKUP($D16,Fixtures!$A:$L,3,FALSE)) -> che | F16: =IF(ISBLANK(VLOOKUP($D16,Fixtures!$A:$L,4,FALSE)),"BLANK",VLOOKUP($D16,Fixtures!$A:$L,4,FALSE)) -> BRE | G16: =IF(ISBLANK(VLOOKUP($D16,Fixtures!$A:$L,5,FALSE)),"BLANK",VLOOKUP($D16,Fixtures!$A:$L,5,FALSE)) -> whu | H16: =IF(ISBLANK(VLOOKUP($D16,Fixtures!$A:$L,6,FALSE)),"BLANK",VLOOKUP($D16,Fixtures!$A:$L,6,FALSE)) -> TOT | I16: =IF(ISBLANK(VLOOKUP($D16,Fixtures!$A:$L,7,FALSE)),"BLANK",VLOOKUP($D16,Fixtures!$A:$L,7,FALSE)) -> liv | J16: =IF(ISBLANK(VLOOKUP($D16,Fixtures!$A:$L,8,FALSE)),"BLANK",VLOOKUP($D16,Fixtures!$A:$L,8,FALSE)) -> BHA | K16: =IF(ISBLANK(VLOOKUP($D16,Fixtures!$A:$L,9,FALSE)),"BLANK",VLOOKUP($D16,Fixtures!$A:$L,9,FALSE)) -> LEI | L16: =IF(ISBLANK(VLOOKUP($D16,Fixtures!$A:$L,10,FALSE)),"BLANK",VLOOKUP($D16,Fixtures!$A:$L,10,FALSE)) -> ars | M16: =IF(ISBLANK(VLOOKUP($D16,Fixtures!$A:$L,11,FALSE)),"BLANK",VLOOKUP($D16,Fixtures!$A:$L,11,FALSE)) -> NEW | N16: =IF(ISBLANK(VLOOKUP($D16,Fixtures!$A:$L,12,FALSE)),"BLANK",VLOOKUP($D16,Fixtures!$A:$L,12,FALSE)) -> mci | O16: =IF(ISBLANK(VLOOKUP($D16,Fixtures!$A:$AP,13,FALSE)),"BLANK",VLOOKUP($D16,Fixtures!$A:$AP,13,FALSE)) -> WOL | P16: =IF(ISBLANK(VLOOKUP($D16,Fixtures!$A:$AP,14,FALSE)),"BLANK",VLOOKUP($D16,Fixtures!$A:$AP,14,FALSE)) -> bur | Q16: =IF(ISBLANK(VLOOKUP($D16,Fixtures!$A:$AP,15,FALSE)),"BLANK",VLOOKUP($D16,Fixtures!$A:$AP,15,FALSE)) -> AVL | R16: =IF(ISBLANK(VLOOKUP($D16,Fixtures!$A:$AP,16,FALSE)),"BLANK",VLOOKUP($D16,Fixtures!$A:$AP,16,FALSE)) -> lee | S16: =IF(ISBLANK(VLOOKUP($D16,Fixtures!$A:$AP,17,FALSE)),"BLANK",VLOOKUP($D16,Fixtures!$A:$AP,17,FALSE)) -> mun | T16: =IF(ISBLANK(VLOOKUP($D16,Fixtures!$A:$AP,18,FALSE)),"BLANK",VLOOKUP($D16,Fixtures!$A:$AP,18,FALSE)) -> EVE | U16: =IF(ISBLANK(VLOOKUP($D16,Fixtures!$A:$AP,19,FALSE)),"BLANK",VLOOKUP($D16,Fixtures!$A:$AP,19,FALSE)) -> SOU | V16: =IF(ISBLANK(VLOOKUP($D16,Fixtures!$A:$AP,20,FALSE)),"BLANK",VLOOKUP($D16,Fixtures!$A:$AP,20,FALSE)) -> wat | W16: =IF(ISBLANK(VLOOKUP($D16,Fixtures!$A:$AP,21,FALSE)),"BLANK",VLOOKUP($D16,Fixtures!$A:$AP,21,FALSE)) -> tot | X16: =IF(ISBLANK(VLOOKUP($D16,Fixtures!$A:$AP,22,FALSE)),"BLANK",VLOOKUP($D16,Fixtures!$A:$AP,22,FALSE)) -> NOR | AF16: =IF(ISBLANK(VLOOKUP($D16,Fixtures!$A:$AP,30,FALSE)),"BLANK",VLOOKUP($D16,Fixtures!$A:$AP,30,FALSE)) -> wol | AG16: =IF(ISBLANK(VLOOKUP($D16,Fixtures!$A:$AP,31,FALSE)),"BLANK",VLOOKUP($D16,Fixtures!$A:$AP,31,FALSE)) -> BLANK | AH16: =IF(ISBLANK(VLOOKUP($D16,Fixtures!$A:$AP,32,FALSE)),"BLANK",VLOOKUP($D16,Fixtures!$A:$AP,32,FALSE)) -> MCI | AI16: =IF(ISBLANK(VLOOKUP($D16,Fixtures!$A:$AP,33,FALSE)),"BLANK",VLOOKUP($D16,Fixtures!$A:$AP,33,FALSE)) -> BLANK | AJ16: =IF(ISBLANK(VLOOKUP($D16,Fixtures!$A:$AP,34,FALSE)),"BLANK",VLOOKUP($D16,Fixtures!$A:$AP,34,FALSE)) -> BLANK | AK16: =IF(ISBLANK(VLOOKUP($D16,Fixtures!$A:$AP,35,FALSE)),"BLANK",VLOOKUP($D16,Fixtures!$A:$AP,35,FALSE)) -> ARS | AL16: =IF(ISBLANK(VLOOKUP($D16,Fixtures!$A:$AP,36,FALSE)),"BLANK",VLOOKUP($D16,Fixtures!$A:$AP,36,FALSE)) -> lei | AM16: =IF(ISBLANK(VLOOKUP($D16,Fixtures!$A:$AP,37,FALSE)),"BLANK",VLOOKUP($D16,Fixtures!$A:$AP,37,FALSE)) -> eve | AN16: =IF(ISBLANK(VLOOKUP($D16,Fixtures!$A:$AP,38,FALSE)),"BLANK",VLOOKUP($D16,Fixtures!$A:$AP,38,FALSE)) -> LEE | AO16: =IF(ISBLANK(VLOOKUP($D16,Fixtures!$A:$AP,39,FALSE)),"BLANK",VLOOKUP($D16,Fixtures!$A:$AP,39,FALSE)) -> sou | AP16: =IF(ISBLANK(VLOOKUP($D16,Fixtures!$A:$AP,40,FALSE)),"BLANK",VLOOKUP($D16,Fixtures!$A:$AP,40,FALSE)) -> WAT | AQ16: =IF(ISBLANK(VLOOKUP($D16,Fixtures!$A:$AP,41,FALSE)),"BLANK",VLOOKUP($D16,Fixtures!$A:$AP,41,FALSE)) -> avl | AR16: =IF(ISBLANK(VLOOKUP($D16,Fixtures!$A:$AP,42,FALSE)),"BLANK",VLOOKUP($D16,Fixtures!$A:$AP,42,FALSE)) -> MUN
B17: FWD | C17: King | D17: WAT | E17: =IF(ISBLANK(VLOOKUP($D17,Fixtures!$A:$L,3,FALSE)),"BLANK",VLOOKUP($D17,Fixtures!$A:$L,3,FALSE)) -> AVL | F17: =IF(ISBLANK(VLOOKUP($D17,Fixtures!$A:$L,4,FALSE)),"BLANK",VLOOKUP($D17,Fixtures!$A:$L,4,FALSE)) -> bha | G17: =IF(ISBLANK(VLOOKUP($D17,Fixtures!$A:$L,5,FALSE)),"BLANK",VLOOKUP($D17,Fixtures!$A:$L,5,FALSE)) -> tot | H17: =IF(ISBLANK(VLOOKUP($D17,Fixtures!$A:$L,6,FALSE)),"BLANK",VLOOKUP($D17,Fixtures!$A:$L,6,FALSE)) -> WOL | I17: =IF(ISBLANK(VLOOKUP($D17,Fixtures!$A:$L,7,FALSE)),"BLANK",VLOOKUP($D17,Fixtures!$A:$L,7,FALSE)) -> nor | J17: =IF(ISBLANK(VLOOKUP($D17,Fixtures!$A:$L,8,FALSE)),"BLANK",VLOOKUP($D17,Fixtures!$A:$L,8,FALSE)) -> NEW | K17: =IF(ISBLANK(VLOOKUP($D17,Fixtures!$A:$L,9,FALSE)),"BLANK",VLOOKUP($D17,Fixtures!$A:$L,9,FALSE)) -> lee | L17: =IF(ISBLANK(VLOOKUP($D17,Fixtures!$A:$L,10,FALSE)),"BLANK",VLOOKUP($D17,Fixtures!$A:$L,10,FALSE)) -> LIV | M17: =IF(ISBLANK(VLOOKUP($D17,Fixtures!$A:$L,11,FALSE)),"BLANK",VLOOKUP($D17,Fixtures!$A:$L,11,FALSE)) -> eve | N17: =IF(ISBLANK(VLOOKUP($D17,Fixtures!$A:$L,12,FALSE)),"BLANK",VLOOKUP($D17,Fixtures!$A:$L,12,FALSE)) -> SOU | O17: =IF(ISBLANK(VLOOKUP($D17,Fixtures!$A:$AP,13,FALSE)),"BLANK",VLOOKUP($D17,Fixtures!$A:$AP,13,FALSE)) -> ars | P17: =IF(ISBLANK(VLOOKUP($D17,Fixtures!$A:$AP,14,FALSE)),"BLANK",VLOOKUP($D17,Fixtures!$A:$AP,14,FALSE)) -> MUN | Q17: =IF(ISBLANK(VLOOKUP($D17,Fixtures!$A:$AP,15,FALSE)),"BLANK",VLOOKUP($D17,Fixtures!$A:$AP,15,FALSE)) -> lei | R17: =IF(ISBLANK(VLOOKUP($D17,Fixtures!$A:$AP,16,FALSE)),"BLANK",VLOOKUP($D17,Fixtures!$A:$AP,16,FALSE)) -> CHE | S17: =IF(ISBLANK(VLOOKUP($D17,Fixtures!$A:$AP,17,FALSE)),"BLANK",VLOOKUP($D17,Fixtures!$A:$AP,17,FALSE)) -> MCI | T17: =IF(ISBLANK(VLOOKUP($D17,Fixtures!$A:$AP,18,FALSE)),"BLANK",VLOOKUP($D17,Fixtures!$A:$AP,18,FALSE)) -> bre | U17: =IF(ISBLANK(VLOOKUP($D17,Fixtures!$A:$AP,19,FALSE)),"BLANK",VLOOKUP($D17,Fixtures!$A:$AP,19,FALSE)) -> bur | V17: =IF(ISBLANK(VLOOKUP($D17,Fixtures!$A:$AP,20,FALSE)),"BLANK",VLOOKUP($D17,Fixtures!$A:$AP,20,FALSE)) -> CRY | W17: =IF(ISBLANK(VLOOKUP($D17,Fixtures!$A:$AP,21,FALSE)),"BLANK",VLOOKUP($D17,Fixtures!$A:$AP,21,FALSE)) -> wol | X17: =IF(ISBLANK(VLOOKUP($D17,Fixtures!$A:$AP,22,FALSE)),"BLANK",VLOOKUP($D17,Fixtures!$A:$AP,22,FALSE)) -> WHU | AF17: =IF(ISBLANK(VLOOKUP($D17,Fixtures!$A:$AP,30,FALSE)),"BLANK",VLOOKUP($D17,Fixtures!$A:$AP,30,FALSE)) -> ARS | AG17: =IF(ISBLANK(VLOOKUP($D17,Fixtures!$A:$AP,31,FALSE)),"BLANK",VLOOKUP($D17,Fixtures!$A:$AP,31,FALSE)) -> wol | AH17: =IF(ISBLANK(VLOOKUP($D17,Fixtures!$A:$AP,32,FALSE)),"BLANK",VLOOKUP($D17,Fixtures!$A:$AP,32,FALSE)) -> sou | AI17: =IF(ISBLANK(VLOOKUP($D17,Fixtures!$A:$AP,33,FALSE)),"BLANK",VLOOKUP($D17,Fixtures!$A:$AP,33,FALSE)) -> BLANK | AJ17: =IF(ISBLANK(VLOOKUP($D17,Fixtures!$A:$AP,34,FALSE)),"BLANK",VLOOKUP($D17,Fixtures!$A:$AP,34,FALSE)) -> BLANK | AK17: =IF(ISBLANK(VLOOKUP($D17,Fixtures!$A:$AP,35,FALSE)),"BLANK",VLOOKUP($D17,Fixtures!$A:$AP,35,FALSE)) -> liv | AL17: =IF(ISBLANK(VLOOKUP($D17,Fixtures!$A:$AP,36,FALSE)),"BLANK",VLOOKUP($D17,Fixtures!$A:$AP,36,FALSE)) -> LEE | AM17: =IF(ISBLANK(VLOOKUP($D17,Fixtures!$A:$AP,37,FALSE)),"BLANK",VLOOKUP($D17,Fixtures!$A:$AP,37,FALSE)) -> BRE | AN17: =IF(ISBLANK(VLOOKUP($D17,Fixtures!$A:$AP,38,FALSE)),"BLANK",VLOOKUP($D17,Fixtures!$A:$AP,38,FALSE)) -> mci | AO17: =IF(ISBLANK(VLOOKUP($D17,Fixtures!$A:$AP,39,FALSE)),"BLANK",VLOOKUP($D17,Fixtures!$A:$AP,39,FALSE)) -> BUR | AP17: =IF(ISBLANK(VLOOKUP($D17,Fixtures!$A:$AP,40,FALSE)),"BLANK",VLOOKUP($D17,Fixtures!$A:$AP,40,FALSE)) -> cry | AQ17: =IF(ISBLANK(VLOOKUP($D17,Fixtures!$A:$AP,41,FALSE)),"BLANK",VLOOKUP($D17,Fixtures!$A:$AP,41,FALSE)) -> LEI | AR17: =IF(ISBLANK(VLOOKUP($D17,Fixtures!$A:$AP,42,FALSE)),"BLANK",VLOOKUP($D17,Fixtures!$A:$AP,42,FALSE)) -> che
... B19: FWD | C19: Broja | D19: SOU | E19: =IF(ISBLANK(VLOOKUP($D19,Fixtures!$A:$L,3,FALSE)),"BLANK",VLOOKUP($D19,Fixtures!$A:$L,3,FALSE)) -> eve | F19: =IF(ISBLANK(VLOOKUP($D19,Fixtures!$A:$L,4,FALSE)),"BLANK",VLOOKUP($D19,Fixtures!$A:$L,4,FALSE)) -> MUN | G19: =IF(ISBLANK(VLOOKUP($D19,Fixtures!$A:$L,5,FALSE)),"BLANK",VLOOKUP($D19,Fixtures!$A:$L,5,FALSE)) -> new | H19: =IF(ISBLANK(VLOOKUP($D19,Fixtures!$A:$L,6,FALSE)),"BLANK",VLOOKUP($D19,Fixtures!$A:$L,6,FALSE)) -> WHU | I19: =IF(ISBLANK(VLOOKUP($D19,Fixtures!$A:$L,7,FALSE)),"BLANK",VLOOKUP($D19,Fixtures!$A:$L,7,FALSE)) -> mci | J19: =IF(ISBLANK(VLOOKUP($D19,Fixtures!$A:$L,8,FALSE)),"BLANK",VLOOKUP($D19,Fixtures!$A:$L,8,FALSE)) -> WOL | K19: =IF(ISBLANK(VLOOKUP($D19,Fixtures!$A:$L,9,FALSE)),"BLANK",VLOOKUP($D19,Fixtures!$A:$L,9,FALSE)) -> che | L19: =IF(ISBLANK(VLOOKUP($D19,Fixtures!$A:$L,10,FALSE)),"BLANK",VLOOKUP($D19,Fixtures!$A:$L,10,FALSE)) -> LEE | M19: =IF(ISBLANK(VLOOKUP($D19,Fixtures!$A:$L,11,FALSE)),"BLANK",VLOOKUP($D19,Fixtures!$A:$L,11,FALSE)) -> BUR | N19: =IF(ISBLANK(VLOOKUP($D19,Fixtures!$A:$L,12,FALSE)),"BLANK",VLOOKUP($D19,Fixtures!$A:$L,12,FALSE)) -> wat | O19: =IF(ISBLANK(VLOOKUP($D19,Fixtures!$A:$AP,13,FALSE)),"BLANK",VLOOKUP($D19,Fixtures!$A:$AP,13,FALSE)) -> AVL | P19: =IF(ISBLANK(VLOOKUP($D19,Fixtures!$A:$AP,14,FALSE)),"BLANK",VLOOKUP($D19,Fixtures!$A:$AP,14,FALSE)) -> nor | Q19: =IF(ISBLANK(VLOOKUP($D19,Fixtures!$A:$AP,15,FALSE)),"BLANK",VLOOKUP($D19,Fixtures!$A:$AP,15,FALSE)) -> liv | R19: =IF(ISBLANK(VLOOKUP($D19,Fixtures!$A:$AP,16,FALSE)),"BLANK",VLOOKUP($D19,Fixtures!$A:$AP,16,FALSE)) -> LEI | S19: =IF(ISBLANK(VLOOKUP($D19,Fixtures!$A:$AP,17,FALSE)),"BLANK",VLOOKUP($D19,Fixtures!$A:$AP,17,FALSE)) -> BHA | T19: =IF(ISBLANK(VLOOKUP($D19,Fixtures!$A:$AP,18,FALSE)),"BLANK",VLOOKUP($D19,Fixtures!$A:$AP,18,FALSE)) -> ars | U19: =IF(ISBLANK(VLOOKUP($D19,Fixtures!$A:$AP,19,FALSE)),"BLANK",VLOOKUP($D19,Fixtures!$A:$AP,19,FALSE)) -> cry | V19: =IF(ISBLANK(VLOOKUP($D19,Fixtures!$A:$AP,20,FALSE)),"BLANK",VLOOKUP($D19,Fixtures!$A:$AP,20,FALSE)) -> BRE | W19: =IF(ISBLANK(VLOOKUP($D19,Fixtures!$A:$AP,21,FALSE)),"BLANK",VLOOKUP($D19,Fixtures!$A:$AP,21,FALSE)) -> whu | X19: =IF(ISBLANK(VLOOKUP($D19,Fixtures!$A:$AP,22,FALSE)),"BLANK",VLOOKUP($D19,Fixtures!$A:$AP,22,FALSE)) -> TOT | AF19: =IF(ISBLANK(VLOOKUP($D19,Fixtures!$A:$AP,30,FALSE)),"BLANK",VLOOKUP($D19,Fixtures!$A:$AP,30,FALSE)) -> avl | AG19: =IF(ISBLANK(VLOOKUP($D19,Fixtures!$A:$AP,31,FALSE)),"BLANK",VLOOKUP($D19,Fixtures!$A:$AP,31,FALSE)) -> NEW | AH19: =IF(ISBLANK(VLOOKUP($D19,Fixtures!$A:$AP,32,FALSE)),"BLANK",VLOOKUP($D19,Fixtures!$A:$AP,32,FALSE)) -> WAT | AI19: =IF(ISBLANK(VLOOKUP($D19,Fixtures!$A:$AP,33,FALSE)),"BLANK",VLOOKUP($D19,Fixtures!$A:$AP,33,FALSE)) -> BLANK | AJ19: =IF(ISBLANK(VLOOKUP($D19,Fixtures!$A:$AP,34,FALSE)),"BLANK",VLOOKUP($D19,Fixtures!$A:$AP,34,FALSE)) -> BLANK | AK19: =IF(ISBLANK(VLOOKUP($D19,Fixtures!$A:$AP,35,FALSE)),"BLANK",VLOOKUP($D19,Fixtures!$A:$AP,35,FALSE)) -> lee | AL19: =IF(ISBLANK(VLOOKUP($D19,Fixtures!$A:$AP,36,FALSE)),"BLANK",VLOOKUP($D19,Fixtures!$A:$AP,36,FALSE)) -> CHE | AM19: =IF(ISBLANK(VLOOKUP($D19,Fixtures!$A:$AP,37,FALSE)),"BLANK",VLOOKUP($D19,Fixtures!$A:$AP,37,FALSE)) -> ARS | AN19: =IF(ISBLANK(VLOOKUP($D19,Fixtures!$A:$AP,38,FALSE)),"BLANK",VLOOKUP($D19,Fixtures!$A:$AP,38,FALSE)) -> bha | AO19: =IF(ISBLANK(VLOOKUP($D19,Fixtures!$A:$AP,39,FALSE)),"BLANK",VLOOKUP($D19,Fixtures!$A:$AP,39,FALSE)) -> CRY | AP19: =IF(ISBLANK(VLOOKUP($D19,Fixtures!$A:$AP,40,FALSE)),"BLANK",VLOOKUP($D19,Fixtures!$A:$AP,40,FALSE)) -> bre | AQ19: =IF(ISBLANK(VLOOKUP($D19,Fixtures!$A:$AP,41,FALSE)),"BLANK",VLOOKUP($D19,Fixtures!$A:$AP,41,FALSE)) -> LIV | AR19: =IF(ISBLANK(VLOOKUP($D19,Fixtures!$A:$AP,42,FALSE)),"BLANK",VLOOKUP($D19,Fixtures!$A:$AP,42,FALSE)) -> lei
AF20: Number of Players (BB): | AH20: Number of Players (BB): | AJ20: Number of Players:
AF21: =15-(COUNTIF(AG5:AG19,"BLANK"))+15 -> 24 | AH21: =15-(COUNTIF(AI5:AI19,"BLANK"))+15 -> 21 | AJ21: =15-(COUNTIF(AJ5:AJ19,"BLANK")) -> 4
B22: Team Abbreviations:
B23: ARS | C23: AVL | D23: BHA | E23: BUR | F23: CHE
B24: CRY | C24: EVE | D24: BRE | E24: LEE | F24: LEI
B25: LIV | C25: MCI | D25: MUN | E25: NEW | F25: NOR
B26: SOU | C26: TOT | D26: WAT | E26: WHU | F26: WOL

Sheet Fixtures
A1: Gameweek: | C1: 1 | D1: 2 | E1: 3 | F1: 4 | G1: 5 | H1: 6 | I1: 7 | J1: 8 | K1: 9 | L1: 10 | M1: 11 | N1: 12 | O1: 13 | P1: 14 | Q1: 15 | R1: 16 | S1: 17 | T1: 18 | U1: 19 | V1: 20 | W1: 21 | X1: 22 | Y1: 23 | Z1: 24 | AA1: 25 | AB1: 26 | AC1: 27 | AD1: 28 | AE1: 28 | AF1: 29 | AG1: 29 | AH1: 30 | AI1: 31 | AJ1: 32 | AK1: 33 | AL1: 34 | AM1: 35 | AN1: 36 | AO1: 37 | AP1: 38
A2: ARS | B2: vs | C2: bre | D2: CHE | E2: mci | F2: NOR | G2: bur | H2: TOT | I2: bha | J2: CRY | K2: AVL | L2: lei | M2: WAT | N2: liv | O2: NEW | P2: mun | Q2: eve | R2: SOU | S2: WHU | T2: lee | U2: nor | V2: WOL | W2: MCI | X2: tot | Y2: BUR | Z2: wol | AA2: che | AB2: BRE | AC2: LIV | AD2: wat | AF2: LEI | AG2: LIV | AH2: avl | AI2: cry | AJ2: BHA | AK2: sou | AL2: MUN | AM2: whu | AN2: LEE | AO2: new | AP2: EVE
A3: AVL | B3: vs | C3: wat | D3: NEW | E3: BRE | F3: che | G3: EVE | H3: mun | I3: tot | J3: WOL | K3: ars | L3: WHU | M3: sou | N3: BHA | O3: cry | P3: MCI | Q3: LEI | R3: liv | S3: nor | T3: BUR | U3: CHE | V3: lee | W3: bre | X3: MUN | Y3: eve | Z3: LEE | AA3: new | AB3: WAT | AC3: bha | AD3: SOU | AE3: lee | AF3: whu | AH3: ARS | AI3: wol | AJ3: TOT | AK3: LIV | AL3: lei | AM3: NOR | AN3: bur | AO3: CRY | AP3: mci
A4: BRE | B4: vs | C4: ARS | D4: cry | E4: avl | F4: BHA | G4: wol | H4: LIV | I4: whu | J4: CHE | K4: LEI | L4: bur | M4: NOR | N4: new | O4: EVE | P4: tot | Q4: lee | R4: WAT | S4: MUN | T4: sou | U4: bha | V4: MCI | W4: AVL | X4: liv | Y4: WOL | Z4: mci | AA4: CRY | AB4: ars | AC4: NEW | AD4: nor | AF4: BUR | AH4: lei | AI4: che | AJ4: WHU | AK4: wat | AL4: TOT | AM4: mun | AN4: SOU | AO4: eve | AP4: LEE
A5: BHA | B5: vs | C5: bur | D5: WAT | E5: EVE | F5: bre | G5: LEI | H5: cry | I5: ARS | J5: nor | K5: MCI | L5: liv | M5: NEW | N5: avl | O5: LEE | P5: whu | Q5: sou | R5: TOT | S5: WOL | T5: mun | U5: BRE | V5: che | W5: eve | X5: CRY | Y5: lei | Z5: CHE | AA5: wat | AB5: BUR | AC5: AVL | AD5: new | AF5: LIV | AG5: TOT | AI5: NOR | AJ5: ars | AK5: tot | AL5: SOU | AM5: wol | AN5: MUN | AO5: lee | AP5: WHU
A6: BUR | B6: vs | C6: BHA | D6: liv | E6: LEE | F6: eve | G6: ARS | H6: lei | I6: NOR | J6: mci | K6: sou | L6: BRE | M6: che | N6: CRY | O6: TOT | P6: wol | Q6: new | R6: WHU | S6: WAT | T6: avl | U6: EVE | V6: mun | W6: lee | X6: LEI | Y6: ars | Z6: MUN | AA6: LIV | AB6: bha | AC6: cry | AD6: CHE | AF6: bre | AI6: MCI | AJ6: nor | AK6: whu | AL6: WOL | AM6: wat | AN6: AVL | AO6: tot | AP6: NEW
A7: CHE | B7: vs | C7: CRY | D7: ars | E7: liv | F7: AVL | G7: tot | H7: MCI | I7: SOU | J7: bre | K7: NOR | L7: new | M7: BUR | N7: lei | O7: MUN | P7: wat | Q7: whu | R7: LEE | S7: EVE | T7: wol | U7: avl | V7: BHA | W7: LIV | X7: mci | Y7: TOT | Z7: bha | AA7: ARS | AB7: cry | AC7: LEI | AD7: bur | AE7: nor | AF7: NEW | AI7: BRE | AJ7: sou | AK7: lee | AL7: WHU | AM7: eve | AN7: WOL | AO7: mun | AP7: WAT
A8: CRY | B8: vs | C8: che | D8: BRE | E8: whu | F8: TOT | G8: liv | H8: BHA | I8: LEI | J8: ars | K8: NEW | L8: mci | M8: WOL | N8: bur | O8: AVL | P8: lee | Q8: mun | R8: EVE | S8: SOU | T8: wat | U8: tot | V8: NOR | W8: WHU | X8: bha | Y8: LIV | Z8: nor | AA8: bre | AB8: CHE | AC8: BUR | AD8: wol | AF8: MCI | AI8: ARS | AJ8: lei | AK8: eve | AL8: LEE | AM8: sou | AN8: WAT | AO8: avl | AP8: MUN
A9: EVE | B9: vs | C9: SOU | D9: lee | E9: bha | F9: BUR | G9: avl | H9: NOR | I9: mun | J9: WHU | K9: WAT | L9: wol | M9: TOT | N9: mci | O9: bre | P9: LIV | Q9: ARS | R9: cry | S9: che | T9: LEI | U9: bur | V9: NEW | W9: BHA | X9: nor | Y9: AVL | Z9: new | AA9: LEE | AB9: sou | AC9: MCI | AD9: tot | AF9: WOL | AG9: NEW | AI9: whu | AJ9: MUN | AK9: CRY | AL9: liv | AM9: CHE | AN9: lei | AO9: BRE | AP9: ars
A10: LEE | B10: vs | C10: mun | D10: EVE | E10: bur | F10: LIV | G10: new | H10: WHU | I10: WAT | J10: sou | K10: WOL | L10: nor | M10: LEI | N10: tot | O10: bha | P10: CRY | Q10: BRE | R10: che | S10: mci | T10: ARS | U10: liv | V10: AVL | W10: BUR | X10: whu | Y10: NEW | Z10: avl | AA10: eve | AB10: MUN | AC10: TOT | AD10: lei | AE10: AVL | AF10: NOR | AH10: wol | AI10: SOU | AJ10: wat | AK10: CHE | AL10: cry | AM10: MCI | AN10: ars | AO10: BHA | AP10: bre
A11: LEI | B11: vs | C11: WOL | D11: whu | E11: nor | F11: MCI | G11: bha | H11: BUR | I11: cry | J11: MUN | K11: bre | L11: ARS | M11: lee | N11: CHE | O11: WAT | P11: sou | Q11: avl | R11: NEW | S11: TOT | T11: eve | U11: mci | V11: LIV | W11: NOR | X11: bur | Y11: BHA | Z11: liv | AA11: WHU | AB11: wol | AC11: che | AD11: LEE | AF11: ars | AH11: BRE | AI11: mun | AJ11: CRY | AK11: new | AL11: AVL | AM11: tot | AN11: EVE | AO11: wat | AP11: SOU
A12: LIV | B12: vs | C12: nor | D12: BUR | E12: CHE | F12: lee | G12: CRY | H12: bre | I12: MCI | J12: wat | K12: mun | L12: BHA | M12: whu | N12: ARS | O12: SOU | P12: eve | Q12: wol | R12: AVL | S12: NEW | T12: tot | U12: LEE | V12: lei | W12: che | X12: BRE | Y12: cry | Z12: LEI | AA12: bur | AB12: NOR | AC12: ars | AD12: WHU | AF12: bha | AG12: ars | AI12: WAT | AJ12: mci | AK12: avl | AL12: EVE | AM12: new | AN12: TOT | AO12: sou | AP12: WOL
A13: MCI | B13: vs | C13: tot | D13: NOR | E13: ARS | F13: lei | G13: SOU | H13: che | I13: liv | J13: BUR | K13: bha | L13: CRY | M13: mun | N13: EVE | O13: WHU | P13: avl | Q13: wat | R13: WOL | S13: LEE | T13: new | U13: LEI | V13: bre | W13: ars | X13: CHE | Y13: sou | Z13: BRE | AA13: nor | AB13: TOT | AC13: eve | AD13: MUN | AF13: cry | AI13: bur | AJ13: LIV | AK13: wol | AL13: WAT | AM13: lee | AN13: NEW | AO13: whu | AP13: AVL
